BEGIN:VCALENDAR
VERSION:2.0
PRODID:-//Western Asset Protection - ECPv6.15.18//NONSGML v1.0//EN
CALSCALE:GREGORIAN
METHOD:PUBLISH
X-ORIGINAL-URL:https://westernassetprotection.com
X-WR-CALDESC:Events for Western Asset Protection
REFRESH-INTERVAL;VALUE=DURATION:PT1H
X-Robots-Tag:noindex
X-PUBLISHED-TTL:PT1H
BEGIN:VTIMEZONE
TZID:America/Phoenix
BEGIN:STANDARD
TZOFFSETFROM:-0700
TZOFFSETTO:-0700
TZNAME:MST
DTSTART:20220101T000000
END:STANDARD
END:VTIMEZONE
BEGIN:VEVENT
DTSTART;TZID=America/Phoenix:20230608T070000
DTEND;TZID=America/Phoenix:20230608T080000
DTSTAMP:20260421T201120
CREATED:20230605T034212Z
LAST-MODIFIED:20230605T034212Z
UID:10000100-1686207600-1686211200@westernassetprotection.com
SUMMARY:CSG Allstate Health Solutions Product Training & CSG e-APP
DESCRIPTION:Register Here > \nYou have free access to the CSG APP inside MedicareCENTER. \n\nLearn how to quote and enroll Allstate Medicare Supplement plans on the CSG agent quoting and enrollment tool.\nCraig Rydzeski\, Director of Senior Product Sales at National General\, joins us to talk about the plans\, discounts\, underwriting and much more.\nWe will demonstrate how to enroll your clients using the CSG E-Application Platform.\n\nAllstate Health Solutions Product Training & CSG e-APP \nThursday\, June 8 at 7 a.m. MST – Register here \n 
URL:https://westernassetprotection.com/event/csg-allstate-health-solutions-product-training-csg-e-app/
CATEGORIES:CSG Training
ATTACH;FMTTYPE=image/png:https://westernassetprotection.com/wp-content/uploads/2023/06/CSG-Actuarial-Logo_Transparent.png
END:VEVENT
END:VCALENDAR