BEGIN:VCALENDAR
VERSION:2.0
PRODID:-//Western Asset Protection - ECPv6.15.18//NONSGML v1.0//EN
CALSCALE:GREGORIAN
METHOD:PUBLISH
X-ORIGINAL-URL:https://westernassetprotection.com
X-WR-CALDESC:Events for Western Asset Protection
REFRESH-INTERVAL;VALUE=DURATION:PT1H
X-Robots-Tag:noindex
X-PUBLISHED-TTL:PT1H
BEGIN:VTIMEZONE
TZID:America/Phoenix
BEGIN:STANDARD
TZOFFSETFROM:-0700
TZOFFSETTO:-0700
TZNAME:MST
DTSTART:20220101T000000
END:STANDARD
END:VTIMEZONE
BEGIN:VEVENT
DTSTART;TZID=America/Phoenix:20230623T090000
DTEND;TZID=America/Phoenix:20230623T094500
DTSTAMP:20260421T164850
CREATED:20230616T230832Z
LAST-MODIFIED:20230616T230902Z
UID:10000110-1687510800-1687513500@westernassetprotection.com
SUMMARY:Cigna's Creating a 5-Star Culture through CAHPS Scores
DESCRIPTION:Click HERE to join  \n  \nCreating a 5-Star Culture through CAHPS Scores \nLearn about the important role that CAHPS scores play in driving Medicare Star Ratings and how you can make a difference by helping create a 5-Star culture and gain sales opportunities and referrals all year.
URL:https://westernassetprotection.com/event/3202/
CATEGORIES:Carrier Training
END:VEVENT
END:VCALENDAR