BEGIN:VCALENDAR
VERSION:2.0
PRODID:-//Western Asset Protection - ECPv6.15.18//NONSGML v1.0//EN
CALSCALE:GREGORIAN
METHOD:PUBLISH
X-ORIGINAL-URL:https://westernassetprotection.com
X-WR-CALDESC:Events for Western Asset Protection
REFRESH-INTERVAL;VALUE=DURATION:PT1H
X-Robots-Tag:noindex
X-PUBLISHED-TTL:PT1H
BEGIN:VTIMEZONE
TZID:America/Phoenix
BEGIN:STANDARD
TZOFFSETFROM:-0700
TZOFFSETTO:-0700
TZNAME:MST
DTSTART:20220101T000000
END:STANDARD
END:VTIMEZONE
BEGIN:VEVENT
DTSTART;TZID=America/Phoenix:20230918T100000
DTEND;TZID=America/Phoenix:20230918T110000
DTSTAMP:20260424T173341
CREATED:20230906T183946Z
LAST-MODIFIED:20230906T183946Z
UID:10000218-1695031200-1695034800@westernassetprotection.com
SUMMARY:IMG MedicareCENTER Overview Trainings
DESCRIPTION:Register HERE > \n  \nStay up to date on all our upcoming MedicareCENTER new features for AEP. Join us for your MedicareCENTER AEP Training! Each week\, we will highlight new features and give an overview. \nHeld every Monday at 10 a.m. PT\, 12 p.m. CT from September 11 to October 9
URL:https://westernassetprotection.com/event/img-medicarecenter-overview-trainings/2023-09-18/
CATEGORIES:MedicareCENTER
ATTACH;FMTTYPE=image/png:https://westernassetprotection.com/wp-content/uploads/2023/06/MedicareCenter.png
END:VEVENT
END:VCALENDAR