BEGIN:VCALENDAR
VERSION:2.0
PRODID:-//Western Asset Protection - ECPv6.15.18//NONSGML v1.0//EN
CALSCALE:GREGORIAN
METHOD:PUBLISH
X-ORIGINAL-URL:https://westernassetprotection.com
X-WR-CALDESC:Events for Western Asset Protection
REFRESH-INTERVAL;VALUE=DURATION:PT1H
X-Robots-Tag:noindex
X-PUBLISHED-TTL:PT1H
BEGIN:VTIMEZONE
TZID:America/Phoenix
BEGIN:STANDARD
TZOFFSETFROM:-0700
TZOFFSETTO:-0700
TZNAME:MST
DTSTART:20220101T000000
END:STANDARD
END:VTIMEZONE
BEGIN:VEVENT
DTSTART;TZID=America/Phoenix:20230920T100000
DTEND;TZID=America/Phoenix:20230920T110000
DTSTAMP:20260424T130316
CREATED:20230906T185732Z
LAST-MODIFIED:20230906T185732Z
UID:10000223-1695204000-1695207600@westernassetprotection.com
SUMMARY:IMG LeadCENTER Training
DESCRIPTION:Register HERE > \n  \nLeadCENTER– Order Health and life leads and receive real–time leads. Learn how health leads are transferred and managed in MedicareCENTER.
URL:https://westernassetprotection.com/event/img-leadcenter-training-3/
CATEGORIES:MedicareCENTER
ATTACH;FMTTYPE=image/png:https://westernassetprotection.com/wp-content/uploads/2023/06/MedicareCenter.png
END:VEVENT
BEGIN:VEVENT
DTSTART;TZID=America/Phoenix:20230920T110000
DTEND;TZID=America/Phoenix:20230920T120000
DTSTAMP:20260424T130316
CREATED:20230823T182829Z
LAST-MODIFIED:20230823T182829Z
UID:10000187-1695207600-1695211200@westernassetprotection.com
SUMMARY:*NEW* 2023 WAP Training Series: MedicareCENTER Deep Dive
DESCRIPTION:Register HERE > \n  \nA weekly training series to update brokers on the changes in IMG Technology and Enrollments \nFor WAP agents who use MedicareCENTER\, CSG\, or MedicareAPP (Connecture)\, it is crucial to stay informed about the latest updates from WAP. \n\nRecent platform improvements and compliance regulation changes are essential to learn about. Attending this training series is the perfect way to gain insight into these updates\nHear the latest from Jean Lentsch\, Nathan Clark\, Mitch Shelton and Cord Moorhead
URL:https://westernassetprotection.com/event/new-2023-wap-training-series-medicarecenter-deep-dive-2/2023-09-20/
CATEGORIES:Western Asset Protection Training
ATTACH;FMTTYPE=image/png:https://westernassetprotection.com/wp-content/uploads/2023/06/MedicareCenter.png
END:VEVENT
BEGIN:VEVENT
DTSTART;TZID=America/Phoenix:20230920T120000
DTEND;TZID=America/Phoenix:20230920T133000
DTSTAMP:20260424T130316
CREATED:20230921T172510Z
LAST-MODIFIED:20230921T172510Z
UID:10000235-1695211200-1695216600@westernassetprotection.com
SUMMARY:Anthem Compliant Selling Training
DESCRIPTION:Join HERE at the scheduled time > \n  \nWednesday 9/20/23\, 12:00 pm-1:30 pm PST \n  \nSpecial 1.5 hr. session \nCompliant Selling Training \nNEW! Compliant Selling: CMS has new rules for 2024\, which could affect how you do business in the Medicare space. Get the latest updates and learn the do’s and don’ts in plenty of time to prepare for AEP!
URL:https://westernassetprotection.com/event/anthem-compliant-selling-training/
CATEGORIES:Carrier Training
END:VEVENT
END:VCALENDAR