BEGIN:VCALENDAR
VERSION:2.0
PRODID:-//Western Asset Protection - ECPv6.15.18//NONSGML v1.0//EN
CALSCALE:GREGORIAN
METHOD:PUBLISH
X-WR-CALNAME:Western Asset Protection
X-ORIGINAL-URL:https://westernassetprotection.com
X-WR-CALDESC:Events for Western Asset Protection
REFRESH-INTERVAL;VALUE=DURATION:PT1H
X-Robots-Tag:noindex
X-PUBLISHED-TTL:PT1H
BEGIN:VTIMEZONE
TZID:America/Phoenix
BEGIN:STANDARD
TZOFFSETFROM:-0700
TZOFFSETTO:-0700
TZNAME:MST
DTSTART:20230101T000000
END:STANDARD
END:VTIMEZONE
BEGIN:VEVENT
DTSTART;TZID=America/Phoenix:20241011T090000
DTEND;TZID=America/Phoenix:20241011T100000
DTSTAMP:20260422T222104
CREATED:20241011T181929Z
LAST-MODIFIED:20241011T182013Z
UID:10000972-1728637200-1728640800@westernassetprotection.com
SUMMARY:WAP & Wellcare Discuss 2025 SEP Changes for Dual
DESCRIPTION:Register HERE > \n  \nImportant Update: 2025 SEP Changes for Dual-Eligible Beneficiaries \nWAP and Wellcare want to ensure you have the latest information regarding the Special Enrollment Period (SEP) changes\, as outlined in the 2025 CMS Final Rule. These updates will impact how and when dual-eligible beneficiaries can enroll in Medicare Advantage plans. \nJoin us as we walk you through key changes for 2025 including: \n\nEnrollment Restrictions\nIntegrated SEP for Dual-Eligible Beneficiaries\n2025 Wellcare Aligned Markets\nRestrictions in Non-Aligned Markets\n30-45 minute quick presentation and Q&A\n\nRegister now
URL:https://westernassetprotection.com/event/wap-wellcare-discuss-2025-sep-changes-for-dual-2/
CATEGORIES:Carrier Training
END:VEVENT
END:VCALENDAR