BEGIN:VCALENDAR
VERSION:2.0
PRODID:-//Western Asset Protection - ECPv6.15.18//NONSGML v1.0//EN
CALSCALE:GREGORIAN
METHOD:PUBLISH
X-ORIGINAL-URL:https://westernassetprotection.com
X-WR-CALDESC:Events for Western Asset Protection
REFRESH-INTERVAL;VALUE=DURATION:PT1H
X-Robots-Tag:noindex
X-PUBLISHED-TTL:PT1H
BEGIN:VTIMEZONE
TZID:America/Phoenix
BEGIN:STANDARD
TZOFFSETFROM:-0700
TZOFFSETTO:-0700
TZNAME:MST
DTSTART:20230101T000000
END:STANDARD
END:VTIMEZONE
BEGIN:VEVENT
DTSTART;TZID=America/Phoenix:20240216T120000
DTEND;TZID=America/Phoenix:20240216T123000
DTSTAMP:20260423T235228
CREATED:20240216T190524Z
LAST-MODIFIED:20240216T190524Z
UID:10000393-1708084800-1708086600@westernassetprotection.com
SUMMARY:AZ Wellcare - Arkos Health Broker Training
DESCRIPTION:Click to Join > \n\nClick Open Teams Meetings or Launch Meeting\, as directed by your browser.\nIf required\, enter the Meeting ID below.\nMeeting ID: 272 305 555 144\nPasscode: SRLTkA\n\nJoin us with benefits provider Arkos Health \nGuest speakers: Alena Camacho\, Heidi Bohrer \nAll Things Arkos!  \n\nLearn who Arkos Health is\nHow Arkos Health works with Wellcare plans and providers\nValue-added benefits for members\nMonthly broker training every 3rd Friday of the month\n\nArizona Broker Team: \n\nCameron Franklin    (480) 338-5175     Cameron.I.Franklin@wellcare.com\nPat Parisella             (520) 306-7360     Patrizia.Parisella@wellcare.com\nJeff Romero             (480) 662-4257     JeffreyQuintero.Romero@wellcare.com\nMichelle Velasco     (480) 932-5138     Michelle.Velasco2@wellcare.com
URL:https://westernassetprotection.com/event/az-wellcare-arkos-health-broker-training/
CATEGORIES:Carrier Training
END:VEVENT
BEGIN:VEVENT
DTSTART;TZID=America/Phoenix:20240216T120000
DTEND;TZID=America/Phoenix:20240216T133000
DTSTAMP:20260423T235228
CREATED:20240212T023922Z
LAST-MODIFIED:20240212T024709Z
UID:10000368-1708084800-1708090200@westernassetprotection.com
SUMMARY:Wellcare & Evernorth Care Group AZ Medicaid Trainings @ EVERNORTH Sun City
DESCRIPTION:RSVP: MedicareEngagement@Centene.com \nPlease include your name\, NPN & Email address.  \n  \nEVERNORTH Care Group & WELLCARE \nWould like to welcome you to join us at one of our EVERNORTH locations \nA Clinic tour Provider “Meet & Greet” \n\nRefreshments will be provided\n“Post AEP” 2024 Wellcare Dual plan benefits training\nGet a better understanding of the Wellcare/EVERNORTH partnership\nQ&A sessions\n\n*** Seating is limited so please RSVP to your preferred session \n\nThese trainings are for our currently contracted\, ready to sell Wellcare Agents\nWe appreciate you and thank you for your continued partnership with Wellcare.
URL:https://westernassetprotection.com/event/wellcare-evernorth-care-group-az-medicaid-trainings-evernorth/
LOCATION:Evernorth Care Group – Sun City\, 9069 W. Thunderbird Road\, Peoria\, AZ\, 85381\, United States
CATEGORIES:Carrier Training
END:VEVENT
END:VCALENDAR