BEGIN:VCALENDAR
VERSION:2.0
PRODID:-//Western Asset Protection - ECPv6.15.18//NONSGML v1.0//EN
CALSCALE:GREGORIAN
METHOD:PUBLISH
X-ORIGINAL-URL:https://westernassetprotection.com
X-WR-CALDESC:Events for Western Asset Protection
REFRESH-INTERVAL;VALUE=DURATION:PT1H
X-Robots-Tag:noindex
X-PUBLISHED-TTL:PT1H
BEGIN:VTIMEZONE
TZID:America/Phoenix
BEGIN:STANDARD
TZOFFSETFROM:-0700
TZOFFSETTO:-0700
TZNAME:MST
DTSTART:20220101T000000
END:STANDARD
END:VTIMEZONE
BEGIN:VEVENT
DTSTART;TZID=America/Phoenix:20230619T160000
DTEND;TZID=America/Phoenix:20230619T170000
DTSTAMP:20260425T173723
CREATED:20230616T224944Z
LAST-MODIFIED:20230616T225810Z
UID:10000107-1687190400-1687194000@westernassetprotection.com
SUMMARY:Cigna ConnectureDRX Training
DESCRIPTION:Click HERE to join \n  \nConnectureDRX \nLearn how to use Cigna Healthcare’s online enrollment tool\, ConnectureDRX. \nThis informative training will prepare you to conduct compliant enrollments both virtually and in person.
URL:https://westernassetprotection.com/event/cigna-connecturedrx-training/
CATEGORIES:Carrier Training
END:VEVENT
BEGIN:VEVENT
DTSTART;TZID=America/Phoenix:20230620T160000
DTEND;TZID=America/Phoenix:20230620T164500
DTSTAMP:20260425T173723
CREATED:20230616T230604Z
LAST-MODIFIED:20230616T230604Z
UID:10000109-1687276800-1687279500@westernassetprotection.com
SUMMARY:Cigna Creating a 5-Star Culture through CAHPS Scores
DESCRIPTION:Click HERE to join  \n  \nCreating a 5-Star Culture through CAHPS Scores \nLearn about the important role that CAHPS scores play in driving Medicare Star Ratings and how you can make a difference by helping create a 5-Star culture and gain sales opportunities and referrals all year.
URL:https://westernassetprotection.com/event/cigna-creating-a-5-star-culture-through-cahps-scores/
CATEGORIES:Carrier Training
END:VEVENT
BEGIN:VEVENT
DTSTART;TZID=America/Phoenix:20230621T150000
DTEND;TZID=America/Phoenix:20230621T160000
DTSTAMP:20260425T173723
CREATED:20230617T001424Z
LAST-MODIFIED:20230619T151534Z
UID:10000112-1687359600-1687363200@westernassetprotection.com
SUMMARY:Cigna AZ Benefits Deep Dive - Pima
DESCRIPTION:Click HERE to join > \nMeeting Number |   719 560 291 \nPhone: 1-844-621-3956 \n  \nCigna AZ Benefits Deep Dive/Refresh \n\n\n\n\nTake advantage of the benefits offered by Cigna AZ and enhance your knowledge about them.
URL:https://westernassetprotection.com/event/cigna-az-benefits-deep-dive-pima/
CATEGORIES:Carrier Training
END:VEVENT
BEGIN:VEVENT
DTSTART;TZID=America/Phoenix:20230622T090000
DTEND;TZID=America/Phoenix:20230622T100000
DTSTAMP:20260425T173723
CREATED:20230616T230044Z
LAST-MODIFIED:20230616T230044Z
UID:10000108-1687424400-1687428000@westernassetprotection.com
SUMMARY:Cigna ConnectureDRX Training
DESCRIPTION:Click HERE to join \n  \nConnectureDRX \n\nLearn how to use Cigna Healthcare’s online enrollment tool\, ConnectureDRX.\nThis informative training will prepare you to conduct compliant enrollments both virtually and in person.
URL:https://westernassetprotection.com/event/cigna-connecturedrx-training-2/
CATEGORIES:Carrier Training
END:VEVENT
BEGIN:VEVENT
DTSTART;TZID=America/Phoenix:20230623T090000
DTEND;TZID=America/Phoenix:20230623T094500
DTSTAMP:20260425T173723
CREATED:20230616T230832Z
LAST-MODIFIED:20230616T230902Z
UID:10000110-1687510800-1687513500@westernassetprotection.com
SUMMARY:Cigna's Creating a 5-Star Culture through CAHPS Scores
DESCRIPTION:Click HERE to join  \n  \nCreating a 5-Star Culture through CAHPS Scores \nLearn about the important role that CAHPS scores play in driving Medicare Star Ratings and how you can make a difference by helping create a 5-Star culture and gain sales opportunities and referrals all year.
URL:https://westernassetprotection.com/event/3202/
CATEGORIES:Carrier Training
END:VEVENT
END:VCALENDAR