BEGIN:VCALENDAR
VERSION:2.0
PRODID:-//Western Asset Protection - ECPv6.15.18//NONSGML v1.0//EN
CALSCALE:GREGORIAN
METHOD:PUBLISH
X-ORIGINAL-URL:https://westernassetprotection.com
X-WR-CALDESC:Events for Western Asset Protection
REFRESH-INTERVAL;VALUE=DURATION:PT1H
X-Robots-Tag:noindex
X-PUBLISHED-TTL:PT1H
BEGIN:VTIMEZONE
TZID:America/Phoenix
BEGIN:STANDARD
TZOFFSETFROM:-0700
TZOFFSETTO:-0700
TZNAME:MST
DTSTART:20220101T000000
END:STANDARD
END:VTIMEZONE
BEGIN:VEVENT
DTSTART;TZID=America/Phoenix:20230925T100000
DTEND;TZID=America/Phoenix:20230925T110000
DTSTAMP:20260424T202922
CREATED:20230704T191731Z
LAST-MODIFIED:20230704T193928Z
UID:10000122-1695636000-1695639600@westernassetprotection.com
SUMMARY:Wellcare NORTHERN AZ 2024 AEP Broker Roll Out - Mohave
DESCRIPTION:Register HERE > \nOr email MedicareEngagement@centene.com \n  \n2024 Wellcare NORTHERN AZ Broker Overview Event!\nCome learn about the Wellcare 2024 benefit offerings for Northern AZ at our upcoming events! \nLondon Bridge Resort\, 1477 Queens Bay\, Lake Havasu City\, AZ 86403 \nSeptember 25th @ 10 am \nRefreshments will be served
URL:https://westernassetprotection.com/event/wellcare-northern-az-2024-aep-broker-roll-out-mohave/
CATEGORIES:Carrier Training
ATTACH;FMTTYPE=image/png:https://westernassetprotection.com/wp-content/uploads/2023/07/wellcare-logo.png
END:VEVENT
BEGIN:VEVENT
DTSTART;TZID=America/Phoenix:20230926T090000
DTEND;TZID=America/Phoenix:20230926T100000
DTSTAMP:20260424T202922
CREATED:20230921T173441Z
LAST-MODIFIED:20230921T173441Z
UID:10000237-1695718800-1695722400@westernassetprotection.com
SUMMARY:Anthem Social Media Marketing Training - Nevada
DESCRIPTION:Join HERE at the scheduled time > \n  \n9 am-10 am PST \n  \nGrassroots Marketing: You’ve heard the term many times\, but what does “Grassroots Marketing” really mean? Learn how to grow your business with marketing techniques and a business plan to set yourself up for success. This includes an overview of the new CMS rules for 2024.
URL:https://westernassetprotection.com/event/anthem-social-media-marketing-training-nevada/
CATEGORIES:Carrier Training
END:VEVENT
BEGIN:VEVENT
DTSTART;TZID=America/Phoenix:20230927T100000
DTEND;TZID=America/Phoenix:20230927T110000
DTSTAMP:20260424T202922
CREATED:20230704T193035Z
LAST-MODIFIED:20230704T193035Z
UID:10000123-1695808800-1695812400@westernassetprotection.com
SUMMARY:Wellcare NORTHERN AZ 2024 AEP Broker Roll Out - Coconino
DESCRIPTION:Register HERE > \nOr email MedicareEngagement@centene.com \n  \n2024 Wellcare NORTHERN AZ Broker Overview Event!\nCome learn about the Wellcare 2024 benefit offerings for Northern AZ at our upcoming events! \nCOCONINO \nEmbassy Suites – Flagstaff \n706 S. Milton Road \nFlagstaff\, AZ 86001 \nSeptember 27th @ 10 am  \nRefreshments will be served
URL:https://westernassetprotection.com/event/wellcare-northern-az-2024-aep-broker-roll-out-coconino/
CATEGORIES:Carrier Training
ATTACH;FMTTYPE=image/png:https://westernassetprotection.com/wp-content/uploads/2023/07/wellcare-logo.png
END:VEVENT
BEGIN:VEVENT
DTSTART;TZID=America/Phoenix:20230928T090000
DTEND;TZID=America/Phoenix:20230928T093000
DTSTAMP:20260424T202922
CREATED:20230928T204444Z
LAST-MODIFIED:20230928T204444Z
UID:10000240-1695891600-1695893400@westernassetprotection.com
SUMMARY:Cigna AZ 2024 Benefit Rollout
DESCRIPTION:Join HERE at the scheduled time > \n\n715 904 400\n1-844-621-3956\n\n  \nJoin Anthony Miguel for the AZ 2024 Benefit Rollout – Plans\, Benefits\, and Ancillaries \n 
URL:https://westernassetprotection.com/event/cigna-az-2024-benefit-rollout/
CATEGORIES:Carrier Training
ATTACH;FMTTYPE=image/png:https://westernassetprotection.com/wp-content/uploads/2023/08/NEW-2023-cigna-healthcare-logo.png
END:VEVENT
BEGIN:VEVENT
DTSTART;TZID=America/Phoenix:20230928T100000
DTEND;TZID=America/Phoenix:20230928T110000
DTSTAMP:20260424T202922
CREATED:20230704T193733Z
LAST-MODIFIED:20230704T193733Z
UID:10000124-1695895200-1695898800@westernassetprotection.com
SUMMARY:Wellcare NORTHERN AZ 2024 AEP Broker Roll Out - Yavapai
DESCRIPTION:Register HERE > \nOr email MedicareEngagement@centene.com \n  \n2024 Wellcare NORTHERN AZ Broker Overview Event!\nCome learn about the Wellcare 2024 benefit offerings for Northern AZ at our upcoming events! \n  \nYAVAPAI \nPrescott Resort and Conf. Center \n1500 E. State Route 69 \nPrescott\, AZ 86301 \nSeptember 28th @ 10 am PST \nRefreshments will be served
URL:https://westernassetprotection.com/event/wellcare-northern-az-2024-aep-broker-roll-out-yavapai/
CATEGORIES:Carrier Training
ATTACH;FMTTYPE=image/png:https://westernassetprotection.com/wp-content/uploads/2023/07/wellcare-logo.png
END:VEVENT
BEGIN:VEVENT
DTSTART;TZID=America/Phoenix:20230929T090000
DTEND;TZID=America/Phoenix:20230929T091000
DTSTAMP:20260424T202922
CREATED:20230928T204712Z
LAST-MODIFIED:20230928T204712Z
UID:10000241-1695978000-1695978600@westernassetprotection.com
SUMMARY:Cigna CustomPoint 2024 Enrollment Kits - 10 min training
DESCRIPTION:Join HERE at the scheduled time > \n\n715 904 400\n1-844-621-3956\n\n  \nJoin Anthony Miguel for the Cigna CustomPoint 2024 Enrollment Kits Training. \nTake a quick 10 mins out of your day to join in! \n 
URL:https://westernassetprotection.com/event/cigna-custompoint-2024-enrollment-kits-10-min-training/
CATEGORIES:Carrier Training
ATTACH;FMTTYPE=image/png:https://westernassetprotection.com/wp-content/uploads/2023/08/NEW-2023-cigna-healthcare-logo.png
END:VEVENT
BEGIN:VEVENT
DTSTART;TZID=America/Phoenix:20230929T130000
DTEND;TZID=America/Phoenix:20230929T140000
DTSTAMP:20260424T202922
CREATED:20230921T173629Z
LAST-MODIFIED:20230921T174017Z
UID:10000238-1695992400-1695996000@westernassetprotection.com
SUMMARY:Anthem AEP 2024 VIRTUAL ROADSHOW FOR SOUTHERN NEVADA
DESCRIPTION:Join HERE at the scheduled time > \n  \n1 pm-2 pm PST \n  \nAEP 2024 VIRTUAL ROADSHOW FOR SOUTHERN NEVADA
URL:https://westernassetprotection.com/event/anthem-aep-2024-virtual-roadshow-for-southern-nevada/
CATEGORIES:Carrier Training
END:VEVENT
END:VCALENDAR