BEGIN:VCALENDAR
VERSION:2.0
PRODID:-//Western Asset Protection - ECPv6.15.18//NONSGML v1.0//EN
CALSCALE:GREGORIAN
METHOD:PUBLISH
X-ORIGINAL-URL:https://westernassetprotection.com
X-WR-CALDESC:Events for Western Asset Protection
REFRESH-INTERVAL;VALUE=DURATION:PT1H
X-Robots-Tag:noindex
X-PUBLISHED-TTL:PT1H
BEGIN:VTIMEZONE
TZID:America/Phoenix
BEGIN:STANDARD
TZOFFSETFROM:-0700
TZOFFSETTO:-0700
TZNAME:MST
DTSTART:20240101T000000
END:STANDARD
END:VTIMEZONE
BEGIN:VEVENT
DTSTART;TZID=America/Phoenix:20250127T100000
DTEND;TZID=America/Phoenix:20250127T113000
DTSTAMP:20260422T174557
CREATED:20250123T230608Z
LAST-MODIFIED:20250123T230608Z
UID:10001108-1737972000-1737977400@westernassetprotection.com
SUMMARY:Alignment In Person Coffee & Chat - Tucson
DESCRIPTION:Get Kits | Updates | Q&A | Coffee & Snacks \nCome by and chat with Jason Wilton with Alignment! \nLocation: Brueggers Bagels\, 1064 N. Campbell Ave\, Tucson\, AZ 85719 \nTime: 10:00 AM – 11:30 AM \nMonday\, Jan. 27 \nNo RSVP is needed. Stop by.
URL:https://westernassetprotection.com/event/alignment-in-person-coffee-chat-tucson/
LOCATION:Brueggers Bagels\, 1064 N. Campbell Ave\, Tucson\, AZ\, 85719\, United States
CATEGORIES:Carrier Training
END:VEVENT
BEGIN:VEVENT
DTSTART;TZID=America/Phoenix:20250128T090000
DTEND;TZID=America/Phoenix:20250128T103000
DTSTAMP:20260422T174557
CREATED:20250123T231045Z
LAST-MODIFIED:20250123T231045Z
UID:10001109-1738054800-1738060200@westernassetprotection.com
SUMMARY:Alignment In Person Coffee & Chat - Peoria
DESCRIPTION:Get Kits | Updates | Q&A | Coffee & Snacks \nCome by and chat with Jason Wilton with Alignment! \nLocation: Union Coffee\, 6750 W. Thunderbird Rd.\, B109\, Peoria\, AZ 85381 \nTime: 9:00 AM – 10:30 AM \nTuesday\, Jan. 28 \nNo RSVP is needed. Stop by.
URL:https://westernassetprotection.com/event/alignment-in-person-coffee-chat-peoria/
LOCATION:Union Coffee\, 6750 W Thunderbird Rd b109\, Peoria\, AZ\, 85381
CATEGORIES:Carrier Training
END:VEVENT
BEGIN:VEVENT
DTSTART;TZID=America/Phoenix:20250130T093000
DTEND;TZID=America/Phoenix:20250130T110000
DTSTAMP:20260422T174557
CREATED:20250123T231412Z
LAST-MODIFIED:20250123T231412Z
UID:10001110-1738229400-1738234800@westernassetprotection.com
SUMMARY:Alignment In-Person Coffee & Chat - Green Valley
DESCRIPTION:Get Kits | Updates | Q&A | Coffee & Snacks \nCome by and chat with Jason Wilton with Alignment! \nLocation: Starbucks\, 18719 S. Nogales Hwy\, Green Valley\, AZ 85614 \nTime: 9:30 AM – 11:00 AM \nThursday\, Jan. 30 \nNo RSVP is needed. Stop by.
URL:https://westernassetprotection.com/event/alignment-in-person-coffee-chat-green-valley/
LOCATION:Starbucks\, 18719 S Nogales Hwy\, Green Valley\, AZ\, 85614
CATEGORIES:Carrier Training
END:VEVENT
BEGIN:VEVENT
DTSTART;TZID=America/Phoenix:20250131T100000
DTEND;TZID=America/Phoenix:20250131T113000
DTSTAMP:20260422T174557
CREATED:20250123T231715Z
LAST-MODIFIED:20250123T231715Z
UID:10001111-1738317600-1738323000@westernassetprotection.com
SUMMARY:Alignment In-Person Coffee & Chat - Tucson
DESCRIPTION:Get Kits | Updates | Q&A | Coffee & Snacks \nCome by and chat with Jason Wilton with Alignment! \nLocation: Panera Bread\, 6129 E. Broadway Blvd\, Tucson\, AZ 85711 \nTime: 10:00 AM – 11:30 AM \nFriday\, Jan. 31 \nNo RSVP is needed. Stop by.
URL:https://westernassetprotection.com/event/alignment-in-person-coffee-chat-tucson-2/
LOCATION:Panera Bread\, 6129 E Broadway Blvd\, Tucson\, AZ\, 85711
CATEGORIES:Carrier Training
END:VEVENT
END:VCALENDAR