BEGIN:VCALENDAR
VERSION:2.0
PRODID:-//Western Asset Protection - ECPv6.15.18//NONSGML v1.0//EN
CALSCALE:GREGORIAN
METHOD:PUBLISH
X-ORIGINAL-URL:https://westernassetprotection.com
X-WR-CALDESC:Events for Western Asset Protection
REFRESH-INTERVAL;VALUE=DURATION:PT1H
X-Robots-Tag:noindex
X-PUBLISHED-TTL:PT1H
BEGIN:VTIMEZONE
TZID:America/Phoenix
BEGIN:STANDARD
TZOFFSETFROM:-0700
TZOFFSETTO:-0700
TZNAME:MST
DTSTART:20240101T000000
END:STANDARD
END:VTIMEZONE
BEGIN:VEVENT
DTSTART;TZID=America/Phoenix:20251006T083000
DTEND;TZID=America/Phoenix:20251006T090000
DTSTAMP:20260424T052837
CREATED:20251017T214117Z
LAST-MODIFIED:20251017T214117Z
UID:10001305-1759739400-1759741200@westernassetprotection.com
SUMMARY:CSG App Feature Focus Training
DESCRIPTION:Register Here > \nJoin us every Monday to learn more Medicare market intel available in CSG. Use the drop-down arrow to select the preferred training dates and topic. \n\nOctober 6: Fill Med Adv Coverage Gaps with Hospital Indemnity\nOctober 13: Universal\, Multi-Carrier EApplication\nOctober 20: Medicare Supplement Quoting Tools – Key Features\nOctober 27: Dental\, Vision\, and Hearing Quoting\n\n 
URL:https://westernassetprotection.com/event/csg-app-feature-focus-training-18/
CATEGORIES:CSG Training
END:VEVENT
BEGIN:VEVENT
DTSTART;TZID=America/Phoenix:20251013T083000
DTEND;TZID=America/Phoenix:20251013T090000
DTSTAMP:20260424T052837
CREATED:20251017T214025Z
LAST-MODIFIED:20251017T214025Z
UID:10001304-1760344200-1760346000@westernassetprotection.com
SUMMARY:CSG App Feature Focus Training
DESCRIPTION:Register Here > \nJoin us every Monday to learn more Medicare market intel available in CSG. Use the drop-down arrow to select the preferred training dates and topic. \n\nOctober 6: Fill Med Adv Coverage Gaps with Hospital Indemnity\nOctober 13: Universal\, Multi-Carrier EApplication\nOctober 20: Medicare Supplement Quoting Tools – Key Features\nOctober 27: Dental\, Vision\, and Hearing Quoting\n\n 
URL:https://westernassetprotection.com/event/csg-app-feature-focus-training-17/
CATEGORIES:CSG Training
END:VEVENT
BEGIN:VEVENT
DTSTART;TZID=America/Phoenix:20251020T083000
DTEND;TZID=America/Phoenix:20251020T090000
DTSTAMP:20260424T052837
CREATED:20251017T212757Z
LAST-MODIFIED:20251017T212816Z
UID:10001302-1760949000-1760950800@westernassetprotection.com
SUMMARY:CSG App Feature Focus
DESCRIPTION:Register Here > \nJoin us every Monday to learn more Medicare market intel available in CSG. Use the drop-down arrow to select the preferred training dates and topic. \n\nOctober 6: Fill Med Adv Coverage Gaps with Hospital Indemnity\nOctober 13: Universal\, Multi-Carrier EApplication\nOctober 20: Medicare Supplement Quoting Tools – Key Features\nOctober 27: Dental\, Vision\, and Hearing Quoting\n\n 
URL:https://westernassetprotection.com/event/csg-app-feature-focus/
CATEGORIES:CSG Training
END:VEVENT
BEGIN:VEVENT
DTSTART;TZID=America/Phoenix:20251027T083000
DTEND;TZID=America/Phoenix:20251027T090000
DTSTAMP:20260424T052837
CREATED:20251017T213402Z
LAST-MODIFIED:20251017T213402Z
UID:10001303-1761553800-1761555600@westernassetprotection.com
SUMMARY:CSG APP – Feature Focus Training
DESCRIPTION:Register Here > \nJoin us every Monday to learn more Medicare market intel available in CSG. Use the drop-down arrow to select the preferred training dates and topic. \n\nOctober 6: Fill Med Adv Coverage Gaps with Hospital Indemnity\nOctober 13: Universal\, Multi-Carrier EApplication\nOctober 20: Medicare Supplement Quoting Tools – Key Features\nOctober 27: Dental\, Vision\, and Hearing Quoting\n\n 
URL:https://westernassetprotection.com/event/csg-app-feature-focus-training-16/
CATEGORIES:CSG Training
END:VEVENT
END:VCALENDAR