BEGIN:VCALENDAR
VERSION:2.0
PRODID:-//Western Asset Protection - ECPv6.15.18//NONSGML v1.0//EN
CALSCALE:GREGORIAN
METHOD:PUBLISH
X-WR-CALNAME:Western Asset Protection
X-ORIGINAL-URL:https://westernassetprotection.com
X-WR-CALDESC:Events for Western Asset Protection
REFRESH-INTERVAL;VALUE=DURATION:PT1H
X-Robots-Tag:noindex
X-PUBLISHED-TTL:PT1H
BEGIN:VTIMEZONE
TZID:America/Phoenix
BEGIN:STANDARD
TZOFFSETFROM:-0700
TZOFFSETTO:-0700
TZNAME:MST
DTSTART:20220101T000000
END:STANDARD
END:VTIMEZONE
BEGIN:VEVENT
DTSTART;TZID=America/Phoenix:20251210T130000
DTEND;TZID=America/Phoenix:20251210T140000
DTSTAMP:20260420T164519
CREATED:20250106T184945Z
LAST-MODIFIED:20251208T173939Z
UID:10001076-1765371600-1765375200@westernassetprotection.com
SUMMARY:Agency Leadership Chat
DESCRIPTION:The Agency Leadership Chat is exclusively created to tackle urgent issues and assist in boosting the growth of your agency. \nInterested in attending? Let us know. Contact our support team at support@westernassetprotection.com. \nJoin us for this exclusive thought-leadership monthly discussion with Paul Rose\, Steven Smith\, and David Wessling. Gain valuable insights and proven strategies to grow your agency. \nDon’t miss this great conversation!\nRegister today!
URL:https://westernassetprotection.com/event/agency-leadership-chat-20/
CATEGORIES:Agency Leadership
END:VEVENT
BEGIN:VEVENT
DTSTART;TZID=America/Phoenix:20251008T130000
DTEND;TZID=America/Phoenix:20251008T140000
DTSTAMP:20260420T164519
CREATED:20250106T184902Z
LAST-MODIFIED:20250904T173613Z
UID:10001074-1759928400-1759932000@westernassetprotection.com
SUMMARY:Agency Leadership Chat
DESCRIPTION:The Agency Leadership Chat is exclusively created to tackle urgent issues and assist in boosting the growth of your agency. \nInterested in attending? Let us know. Contact our support team at support@westernassetprotection.com. \nJoin us for this exclusive thought-leadership monthly discussion with Paul Rose\, Steven Smith\, and David Wessling. Gain valuable insights and proven strategies to grow your agency. \nDon’t miss this great conversation!\nRegister today!
URL:https://westernassetprotection.com/event/agency-leadership-chat-18/
CATEGORIES:Agency Leadership
END:VEVENT
BEGIN:VEVENT
DTSTART;TZID=America/Phoenix:20250902T130000
DTEND;TZID=America/Phoenix:20250902T140000
DTSTAMP:20260420T164519
CREATED:20250106T184734Z
LAST-MODIFIED:20250812T200151Z
UID:10001066-1756818000-1756821600@westernassetprotection.com
SUMMARY:Agency Leadership Chat
DESCRIPTION:The Agency Leadership Chat is exclusively created to tackle urgent issues and assist in boosting the growth of your agency. \nInterested in attending? Let us know. Contact our support team at support@westernassetprotection.com. \nJoin us for this exclusive thought-leadership monthly discussion with Paul Rose\, Steven Smith\, and David Wessling. Gain valuable insights and proven strategies to grow your agency. \nDon’t miss this great conversation!\nRegister today!
URL:https://westernassetprotection.com/event/agency-leadership-chat-17/
CATEGORIES:Agency Leadership
END:VEVENT
BEGIN:VEVENT
DTSTART;TZID=America/Phoenix:20250804T130000
DTEND;TZID=America/Phoenix:20250804T140000
DTSTAMP:20260420T164519
CREATED:20250106T171229Z
LAST-MODIFIED:20250106T184531Z
UID:10001065-1754312400-1754316000@westernassetprotection.com
SUMMARY:Agency Leadership Chat
DESCRIPTION:The Agency Leadership Chat is exclusively created to tackle urgent issues and assist in boosting the growth of your agency. \nInterested in attending? Let us know. Email Sherri Johnson at support@westernassetprotection.com. \nJoin us for this exclusive thought-leadership monthly discussion with Paul Rose\, Steven Smith\, and David Wessling. Gain valuable insights and proven strategies to grow your agency. \nDon’t miss this great conversation!\nRegister today!
URL:https://westernassetprotection.com/event/agency-leadership-chat-16/2025-08-04/
CATEGORIES:Agency Leadership
END:VEVENT
BEGIN:VEVENT
DTSTART;TZID=America/Phoenix:20250707T130000
DTEND;TZID=America/Phoenix:20250707T140000
DTSTAMP:20260420T164519
CREATED:20250106T171229Z
LAST-MODIFIED:20250106T184531Z
UID:10001064-1751893200-1751896800@westernassetprotection.com
SUMMARY:Agency Leadership Chat
DESCRIPTION:The Agency Leadership Chat is exclusively created to tackle urgent issues and assist in boosting the growth of your agency. \nInterested in attending? Let us know. Email Sherri Johnson at support@westernassetprotection.com. \nJoin us for this exclusive thought-leadership monthly discussion with Paul Rose\, Steven Smith\, and David Wessling. Gain valuable insights and proven strategies to grow your agency. \nDon’t miss this great conversation!\nRegister today!
URL:https://westernassetprotection.com/event/agency-leadership-chat-16/2025-07-07/
CATEGORIES:Agency Leadership
END:VEVENT
BEGIN:VEVENT
DTSTART;TZID=America/Phoenix:20250602T130000
DTEND;TZID=America/Phoenix:20250602T140000
DTSTAMP:20260420T164519
CREATED:20250106T171229Z
LAST-MODIFIED:20250106T184531Z
UID:10001063-1748869200-1748872800@westernassetprotection.com
SUMMARY:Agency Leadership Chat
DESCRIPTION:The Agency Leadership Chat is exclusively created to tackle urgent issues and assist in boosting the growth of your agency. \nInterested in attending? Let us know. Email Sherri Johnson at support@westernassetprotection.com. \nJoin us for this exclusive thought-leadership monthly discussion with Paul Rose\, Steven Smith\, and David Wessling. Gain valuable insights and proven strategies to grow your agency. \nDon’t miss this great conversation!\nRegister today!
URL:https://westernassetprotection.com/event/agency-leadership-chat-16/2025-06-02/
CATEGORIES:Agency Leadership
END:VEVENT
BEGIN:VEVENT
DTSTART;TZID=America/Phoenix:20250505T130000
DTEND;TZID=America/Phoenix:20250505T140000
DTSTAMP:20260420T164519
CREATED:20250106T171229Z
LAST-MODIFIED:20250106T184531Z
UID:10001062-1746450000-1746453600@westernassetprotection.com
SUMMARY:Agency Leadership Chat
DESCRIPTION:The Agency Leadership Chat is exclusively created to tackle urgent issues and assist in boosting the growth of your agency. \nInterested in attending? Let us know. Email Sherri Johnson at support@westernassetprotection.com. \nJoin us for this exclusive thought-leadership monthly discussion with Paul Rose\, Steven Smith\, and David Wessling. Gain valuable insights and proven strategies to grow your agency. \nDon’t miss this great conversation!\nRegister today!
URL:https://westernassetprotection.com/event/agency-leadership-chat-16/2025-05-05/
CATEGORIES:Agency Leadership
END:VEVENT
BEGIN:VEVENT
DTSTART;TZID=America/Phoenix:20250407T130000
DTEND;TZID=America/Phoenix:20250407T140000
DTSTAMP:20260420T164519
CREATED:20250106T171229Z
LAST-MODIFIED:20250106T184531Z
UID:10001061-1744030800-1744034400@westernassetprotection.com
SUMMARY:Agency Leadership Chat
DESCRIPTION:The Agency Leadership Chat is exclusively created to tackle urgent issues and assist in boosting the growth of your agency. \nInterested in attending? Let us know. Email Sherri Johnson at support@westernassetprotection.com. \nJoin us for this exclusive thought-leadership monthly discussion with Paul Rose\, Steven Smith\, and David Wessling. Gain valuable insights and proven strategies to grow your agency. \nDon’t miss this great conversation!\nRegister today!
URL:https://westernassetprotection.com/event/agency-leadership-chat-16/2025-04-07/
CATEGORIES:Agency Leadership
END:VEVENT
BEGIN:VEVENT
DTSTART;TZID=America/Phoenix:20250303T130000
DTEND;TZID=America/Phoenix:20250303T140000
DTSTAMP:20260420T164519
CREATED:20250106T171229Z
LAST-MODIFIED:20250106T184531Z
UID:10001060-1741006800-1741010400@westernassetprotection.com
SUMMARY:Agency Leadership Chat
DESCRIPTION:The Agency Leadership Chat is exclusively created to tackle urgent issues and assist in boosting the growth of your agency. \nInterested in attending? Let us know. Email Sherri Johnson at support@westernassetprotection.com. \nJoin us for this exclusive thought-leadership monthly discussion with Paul Rose\, Steven Smith\, and David Wessling. Gain valuable insights and proven strategies to grow your agency. \nDon’t miss this great conversation!\nRegister today!
URL:https://westernassetprotection.com/event/agency-leadership-chat-16/2025-03-03/
CATEGORIES:Agency Leadership
END:VEVENT
BEGIN:VEVENT
DTSTART;TZID=America/Phoenix:20250203T130000
DTEND;TZID=America/Phoenix:20250203T140000
DTSTAMP:20260420T164519
CREATED:20250123T233630Z
LAST-MODIFIED:20250123T233630Z
UID:10001116-1738587600-1738591200@westernassetprotection.com
SUMMARY:Agency Leadership Chat
DESCRIPTION:Don’t miss this important discussion \nJoin us for the first Agency Leadership Chat of the year on Monday\, January 6th. This exclusive session will help you prep for 2025 and gear up for an incredible new year ahead. If you have not received an invitation to this exclusive discussion and are interested in attending\, reach out to Sherri at support@westernassetprotection. \nWe look forward to seeing you on the call. \n 
URL:https://westernassetprotection.com/event/agency-leadership-chat-22/
CATEGORIES:Agency Leadership
END:VEVENT
BEGIN:VEVENT
DTSTART;TZID=America/Phoenix:20250106T130000
DTEND;TZID=America/Phoenix:20250106T140000
DTSTAMP:20260420T164519
CREATED:20250114T052519Z
LAST-MODIFIED:20250114T052519Z
UID:10001092-1736168400-1736172000@westernassetprotection.com
SUMMARY:Agency Leadership Chat
DESCRIPTION:Don’t miss this important discussion \nJoin us for the first Agency Leadership Chat of the year on Monday\, January 6th. This exclusive session will help you prep for 2025 and gear up for an incredible new year ahead. If you have not received an invitation to this exclusive discussion and are interested in attending\, reach out to Sherri at support@westernassetprotection.  \nWe look forward to seeing you on the call. \n  \n 
URL:https://westernassetprotection.com/event/agency-leadership-chat-21/
CATEGORIES:Agency Leadership
END:VEVENT
BEGIN:VEVENT
DTSTART;TZID=America/Phoenix:20250106T130000
DTEND;TZID=America/Phoenix:20250106T140000
DTSTAMP:20260420T164519
CREATED:20250106T171229Z
LAST-MODIFIED:20250106T184531Z
UID:10001026-1736168400-1736172000@westernassetprotection.com
SUMMARY:Agency Leadership Chat
DESCRIPTION:The Agency Leadership Chat is exclusively created to tackle urgent issues and assist in boosting the growth of your agency. \nInterested in attending? Let us know. Email Sherri Johnson at support@westernassetprotection.com. \nJoin us for this exclusive thought-leadership monthly discussion with Paul Rose\, Steven Smith\, and David Wessling. Gain valuable insights and proven strategies to grow your agency. \nDon’t miss this great conversation!\nRegister today!
URL:https://westernassetprotection.com/event/agency-leadership-chat-16/2025-01-06/
CATEGORIES:Agency Leadership
END:VEVENT
BEGIN:VEVENT
DTSTART;TZID=America/Phoenix:20241209T130000
DTEND;TZID=America/Phoenix:20241209T140000
DTSTAMP:20260420T164519
CREATED:20240130T043627Z
LAST-MODIFIED:20241202T172647Z
UID:10000352-1733749200-1733752800@westernassetprotection.com
SUMMARY:Agency Leadership Chat
DESCRIPTION:  \n  \nThe Agency Leadership Chat is exclusively created to tackle urgent issues and assist in boosting the growth of your agency. \nInterested in attending? Let us know. Email Sherri Johnson at support@westernassetprotection.com. \nJoin us for this exclusive thought-leadership monthly discussion with Paul Rose\, Steven Smith\, and David Wessling. Gain valuable insights and proven strategies to grow your agency. \nDon’t miss this great conversation!\nRegister today!
URL:https://westernassetprotection.com/event/agency-leadership-chat-15/
CATEGORIES:Agency Leadership
END:VEVENT
BEGIN:VEVENT
DTSTART;TZID=America/Phoenix:20241007T130000
DTEND;TZID=America/Phoenix:20241007T140000
DTSTAMP:20260420T164519
CREATED:20240130T043604Z
LAST-MODIFIED:20240130T043604Z
UID:10000351-1728306000-1728309600@westernassetprotection.com
SUMMARY:Agency Leadership Chat
DESCRIPTION:  \n  \nThe Agency Leadership Chat is exclusively created to tackle urgent issues and assist in boosting the growth of your agency. \nInterested in attending? Let us know. Email Sherri Johnson at support@westernassetprotection.com. \nJoin us for this exclusive thought-leadership monthly discussion with Paul Rose\, Steven Smith\, and David Wessling. Gain valuable insights and proven strategies to grow your agency. \nDon’t miss this great conversation!\nRegister today!
URL:https://westernassetprotection.com/event/agency-leadership-chat-14/
CATEGORIES:Agency Leadership
END:VEVENT
BEGIN:VEVENT
DTSTART;TZID=America/Phoenix:20240919T150000
DTEND;TZID=America/Phoenix:20240919T160000
DTSTAMP:20260420T164519
CREATED:20240130T043514Z
LAST-MODIFIED:20240918T231515Z
UID:10000349-1726758000-1726761600@westernassetprotection.com
SUMMARY:Agency Leadership Chat
DESCRIPTION:  \n  \nThe Agency Leadership Chat is exclusively created to tackle urgent issues and assist in boosting the growth of your agency. \nInterested in attending? Let us know. Email Sherri Johnson at support@westernassetprotection.com. \nJoin us for this exclusive thought-leadership monthly discussion with Paul Rose\, Steven Smith\, and David Wessling. Gain valuable insights and proven strategies to grow your agency. \nDon’t miss this great conversation!\nRegister today!
URL:https://westernassetprotection.com/event/agency-leadership-chat-13/
CATEGORIES:Agency Leadership
END:VEVENT
BEGIN:VEVENT
DTSTART;TZID=America/Phoenix:20240805T130000
DTEND;TZID=America/Phoenix:20240805T140000
DTSTAMP:20260420T164519
CREATED:20240130T043418Z
LAST-MODIFIED:20240130T043418Z
UID:10000348-1722862800-1722866400@westernassetprotection.com
SUMMARY:Agency Leadership Chat
DESCRIPTION:  \n  \nThe Agency Leadership Chat is exclusively created to tackle urgent issues and assist in boosting the growth of your agency. \nInterested in attending? Let us know. Email Sherri Johnson at support@westernassetprotection.com. \nJoin us for this exclusive thought-leadership monthly discussion with Paul Rose\, Steven Smith\, and David Wessling. Gain valuable insights and proven strategies to grow your agency. \nDon’t miss this great conversation!\nRegister today!
URL:https://westernassetprotection.com/event/agency-leadership-chat-12/
CATEGORIES:Agency Leadership
END:VEVENT
BEGIN:VEVENT
DTSTART;TZID=America/Phoenix:20240701T130000
DTEND;TZID=America/Phoenix:20240701T140000
DTSTAMP:20260420T164519
CREATED:20240130T043359Z
LAST-MODIFIED:20240130T043359Z
UID:10000347-1719838800-1719842400@westernassetprotection.com
SUMMARY:Agency Leadership Chat
DESCRIPTION:  \n  \nThe Agency Leadership Chat is exclusively created to tackle urgent issues and assist in boosting the growth of your agency. \nInterested in attending? Let us know. Email Sherri Johnson at support@westernassetprotection.com. \nJoin us for this exclusive thought-leadership monthly discussion with Paul Rose\, Steven Smith\, and David Wessling. Gain valuable insights and proven strategies to grow your agency. \nDon’t miss this great conversation!\nRegister today!
URL:https://westernassetprotection.com/event/agency-leadership-chat-11/
CATEGORIES:Agency Leadership
END:VEVENT
BEGIN:VEVENT
DTSTART;TZID=America/Phoenix:20240603T130000
DTEND;TZID=America/Phoenix:20240603T140000
DTSTAMP:20260420T164519
CREATED:20240130T043333Z
LAST-MODIFIED:20240130T043333Z
UID:10000346-1717419600-1717423200@westernassetprotection.com
SUMMARY:Agency Leadership Chat
DESCRIPTION:  \n  \nThe Agency Leadership Chat is exclusively created to tackle urgent issues and assist in boosting the growth of your agency. \nInterested in attending? Let us know. Email Sherri Johnson at support@westernassetprotection.com. \nJoin us for this exclusive thought-leadership monthly discussion with Paul Rose\, Steven Smith\, and David Wessling. Gain valuable insights and proven strategies to grow your agency. \nDon’t miss this great conversation!\nRegister today!
URL:https://westernassetprotection.com/event/agency-leadership-chat-10/
CATEGORIES:Agency Leadership
END:VEVENT
BEGIN:VEVENT
DTSTART;TZID=America/Phoenix:20240506T130000
DTEND;TZID=America/Phoenix:20240506T140000
DTSTAMP:20260420T164519
CREATED:20240130T043114Z
LAST-MODIFIED:20240130T043114Z
UID:10000345-1715000400-1715004000@westernassetprotection.com
SUMMARY:Agency Leadership Chat
DESCRIPTION:  \n  \nThe Agency Leadership Chat is exclusively created to tackle urgent issues and assist in boosting the growth of your agency. \nInterested in attending? Let us know. Email Sherri Johnson at support@westernassetprotection.com. \nJoin us for this exclusive thought-leadership monthly discussion with Paul Rose\, Steven Smith\, and David Wessling. Gain valuable insights and proven strategies to grow your agency. \nDon’t miss this great conversation!\nRegister today!
URL:https://westernassetprotection.com/event/agency-leadership-chat-9/
CATEGORIES:Agency Leadership
END:VEVENT
BEGIN:VEVENT
DTSTART;TZID=America/Phoenix:20240403T080000
DTEND;TZID=America/Phoenix:20240404T170000
DTSTAMP:20260420T164519
CREATED:20231212T194458Z
LAST-MODIFIED:20231212T221537Z
UID:10000315-1712131200-1712250000@westernassetprotection.com
SUMMARY:Agency Leadership Summit
DESCRIPTION:Save the Date \nBy Invitation Only \nIf you are an Agency Leader interested in attending this event\, please reach out to our Sales Team at sales@westernassetprotection.com. \n\nLocation: Phoenix Airport Marriott\, 1101 N 44th St\, Phoenix\, AZ 85008\n\nThis year the Agency Leadership Summit will focus on workshops for you to walk away with agency-building strategies\, valuable market data\, and recommended ways to manage industry challenges to improve consumer experiences. Additional highlights include: \n\nCarrier & Peer Networking Opportunities\nPortfolio Diversification Options\nCompliance Updates\nInnovations in Technology\n\n 
URL:https://westernassetprotection.com/event/agency-leadership-summit/
LOCATION:Marriott Phoenix Airport\, 1101 North 44th Street\, Phoenix\, AZ\, 85008
CATEGORIES:Agency Leadership
END:VEVENT
BEGIN:VEVENT
DTSTART;TZID=America/Phoenix:20240325T130000
DTEND;TZID=America/Phoenix:20240325T140000
DTSTAMP:20260420T164519
CREATED:20240130T043043Z
LAST-MODIFIED:20240130T043043Z
UID:10000344-1711371600-1711375200@westernassetprotection.com
SUMMARY:Agency Leadership Chat
DESCRIPTION:  \n  \nThe Agency Leadership Chat is exclusively created to tackle urgent issues and assist in boosting the growth of your agency. \nInterested in attending? Let us know. Email Sherri Johnson at support@westernassetprotection.com. \nJoin us for this exclusive thought-leadership monthly discussion with Paul Rose\, Steven Smith\, and David Wessling. Gain valuable insights and proven strategies to grow your agency. \nDon’t miss this great conversation!\nRegister today!
URL:https://westernassetprotection.com/event/agency-leadership-chat-8/
CATEGORIES:Agency Leadership
END:VEVENT
BEGIN:VEVENT
DTSTART;TZID=America/Phoenix:20240304T130000
DTEND;TZID=America/Phoenix:20240304T140000
DTSTAMP:20260420T164519
CREATED:20240130T042835Z
LAST-MODIFIED:20240130T042835Z
UID:10000343-1709557200-1709560800@westernassetprotection.com
SUMMARY:Agency Leadership Chat
DESCRIPTION:  \n  \nThe Agency Leadership Chat is exclusively created to tackle urgent issues and assist in boosting the growth of your agency. \nInterested in attending? Let us know. Email Sherri Johnson at support@westernassetprotection.com. \nJoin us for this exclusive thought-leadership monthly discussion with Paul Rose\, Steven Smith\, and David Wessling. Gain valuable insights and proven strategies to grow your agency. \nDon’t miss this great conversation!\nRegister today!
URL:https://westernassetprotection.com/event/agency-leadership-chat-7/
CATEGORIES:Agency Leadership
END:VEVENT
BEGIN:VEVENT
DTSTART;TZID=America/Phoenix:20240205T130000
DTEND;TZID=America/Phoenix:20240205T140000
DTSTAMP:20260420T164519
CREATED:20240130T042332Z
LAST-MODIFIED:20240130T042332Z
UID:10000342-1707138000-1707141600@westernassetprotection.com
SUMMARY:Agency Leadership Chat
DESCRIPTION:  \nThe Agency Leadership Chat is exclusively created to tackle urgent issues and assist in boosting the growth of your agency. \nInterested in attending? Let us know. Email Sherri Johnson at support@westernassetprotection.com. \nJoin us for this exclusive thought-leadership monthly discussion with Paul Rose\, Steven Smith\, and David Wessling. Gain valuable insights and proven strategies to grow your agency. \nDon’t miss this great conversation!\nRegister today!
URL:https://westernassetprotection.com/event/agency-leadership-chat-6/
CATEGORIES:Agency Leadership
END:VEVENT
BEGIN:VEVENT
DTSTART;TZID=America/Phoenix:20231211T130000
DTEND;TZID=America/Phoenix:20231211T140000
DTSTAMP:20260420T164519
CREATED:20231127T234748Z
LAST-MODIFIED:20231127T234915Z
UID:10000304-1702299600-1702303200@westernassetprotection.com
SUMMARY:December Agency Leadership Chat
DESCRIPTION:  \n\n\nAgency Leadership Chat tackles urgent issues and assists in boosting the growth of your agency. \nAre you an agency principal who is Interested in attending? Let us know. Email Sherri Johnson at sherri@westernassetprotection.com \nJoin us for this exclusive thought-leadership monthly discussion with Paul Rose\, Steven Smith\, and David Wessling. Gain valuable insights and proven strategies to grow your agency. \nDon’t miss this great conversation!\nRegister today!
URL:https://westernassetprotection.com/event/december-agency-leadership-chat/
CATEGORIES:Agency Leadership
END:VEVENT
BEGIN:VEVENT
DTSTART;TZID=America/Phoenix:20230807T130000
DTEND;TZID=America/Phoenix:20230807T140000
DTSTAMP:20260420T164519
CREATED:20230801T204823Z
LAST-MODIFIED:20230801T204823Z
UID:10000167-1691413200-1691416800@westernassetprotection.com
SUMMARY:Agency Leadership Chat
DESCRIPTION:Register Here > \n  \nThe Agency Leadership Chat is exclusively created to tackle urgent issues and assist in boosting the growth of your agency. \nInterested in attending? Let us know. Email Sherri Johnson at sherri@westernassetprotection.com \nJoin us for this exclusive thought-leadership monthly discussion with Paul Rose\, Steven Smith\, and David Wessling. Gain valuable insights and proven strategies to grow your agency. \nDon’t miss this great conversation!\nRegister today! \n 
URL:https://westernassetprotection.com/event/agency-leadership-chat-5/
CATEGORIES:Agency Leadership
ATTACH;FMTTYPE=image/svg+xml:https://westernassetprotection.com/wp-content/uploads/2022/07/agency-leadership-chat.svg
END:VEVENT
BEGIN:VEVENT
DTSTART;TZID=America/Phoenix:20230710T130000
DTEND;TZID=America/Phoenix:20230710T140000
DTSTAMP:20260420T164519
CREATED:20230623T224425Z
LAST-MODIFIED:20230623T224425Z
UID:10000117-1688994000-1688997600@westernassetprotection.com
SUMMARY:Agency Leadership Chat
DESCRIPTION:Register HERE > \nThe Agency Leadership Chat is exclusively created to tackle urgent issues and assist in boosting the growth of your agency. \nInterested in attending? Let us know. Email Sherri Johnson at sherri@westernassetprotection.com \nJoin us for this exclusive thought-leadership monthly discussion with Paul Rose\, Steven Smith\, and David Wessling. Gain valuable insights and proven strategies to grow your agency. \nAgency Topics\n\nAEP Co-op Plan with WAP\n2024 Certification Updates\nSEP Marketing Ideas\nCompliance Changes Clarity\nAEP Planning\n\n  \nDon’t miss this great conversation!\nRegister today!
URL:https://westernassetprotection.com/event/agency-leadership-chat-4/
CATEGORIES:Agency Leadership
END:VEVENT
BEGIN:VEVENT
DTSTART;TZID=America/Phoenix:20230619T130000
DTEND;TZID=America/Phoenix:20230619T140000
DTSTAMP:20260420T164519
CREATED:20230605T021507Z
LAST-MODIFIED:20230605T021507Z
UID:10000096-1687179600-1687183200@westernassetprotection.com
SUMMARY:Agency Leadership Chat
DESCRIPTION:  \nThe Agency Leadership Chat is exclusively created to tackle urgent issues and assist in boosting the growth of your agency. \nInterested in attending? Let us know. Email Sherri Johnson at sherri@westernassetprotection.com \nJoin us for this exclusive thought-leadership monthly discussion with Paul Rose\, Steven Smith\, and David Wessling. Gain valuable insights and proven strategies to grow your agency. \nDiscussion Highlights: \n• Exciting Med Supp Opportunities\n• AHIP and RTS Prep\n• AEP\n-Planning\n-Retail Opportunities\n-AEP carrier formal meetings for brokers\n• FMO Agent Transfer Updates\n• WAPCON2023\n• Q&A \nDon’t miss this great conversation!\nRegister today!
URL:https://westernassetprotection.com/event/agency-leadership-chat-3/
CATEGORIES:Agency Leadership
END:VEVENT
BEGIN:VEVENT
DTSTART;TZID=America/Phoenix:20230508T130000
DTEND;TZID=America/Phoenix:20230508T140000
DTSTAMP:20260420T164519
CREATED:20230505T171802Z
LAST-MODIFIED:20230505T171802Z
UID:10000090-1683550800-1683554400@westernassetprotection.com
SUMMARY:Agency Leadership Chat
DESCRIPTION:This is an exclusive event for WAP Agency Leaders. \nIf you are interested and would like to attend\, please email Sherri at sherri@westernassetprotection.com. \nDiscussion Highlights: \n-Working with WAP Contracting\n-SEP Opportunities\n-Retention Activities\n-Ancillary Product Offerings\n-Operational Updates \nDon’t miss this great conversation!
URL:https://westernassetprotection.com/event/agency-leadership-chat-2/
CATEGORIES:Agency Leadership
END:VEVENT
BEGIN:VEVENT
DTSTART;TZID=America/Phoenix:20230306T130000
DTEND;TZID=America/Phoenix:20230306T140000
DTSTAMP:20260420T164519
CREATED:20230306T032929Z
LAST-MODIFIED:20230306T032929Z
UID:10000017-1678107600-1678111200@westernassetprotection.com
SUMMARY:Agency Leadership Chat
DESCRIPTION:Register HERE > \nJoin us for this exclusive thought-leadership monthly discussion with Paul Rose and Steven Smith. Gain valuable insights and proven strategies to grow your agency. \nDiscussion Highlights: \n-Agency Summit Details\n-Value Proposition Conversation\n-Agent Opportunity Development\n-SEP & AEP Co-Op Thoughts\n-Academy Tour Updates\n-Rx Assistant Idea\n-Operational Updates \nDon’t miss this great conversation!\nRegister today! \nAfter registering\, you will receive a confirmation email containing information about joining the webinar.
URL:https://westernassetprotection.com/event/agency-leadership-chat/
CATEGORIES:Agency Leadership
END:VEVENT
END:VCALENDAR