BEGIN:VCALENDAR
VERSION:2.0
PRODID:-//Western Asset Protection - ECPv6.15.18//NONSGML v1.0//EN
CALSCALE:GREGORIAN
METHOD:PUBLISH
X-ORIGINAL-URL:https://westernassetprotection.com
X-WR-CALDESC:Events for Western Asset Protection
REFRESH-INTERVAL;VALUE=DURATION:PT1H
X-Robots-Tag:noindex
X-PUBLISHED-TTL:PT1H
BEGIN:VTIMEZONE
TZID:America/Phoenix
BEGIN:STANDARD
TZOFFSETFROM:-0700
TZOFFSETTO:-0700
TZNAME:MST
DTSTART:20220101T000000
END:STANDARD
END:VTIMEZONE
BEGIN:VEVENT
DTSTART;TZID=America/Phoenix:20230807T130000
DTEND;TZID=America/Phoenix:20230807T140000
DTSTAMP:20260420T201224
CREATED:20230801T204823Z
LAST-MODIFIED:20230801T204823Z
UID:10000167-1691413200-1691416800@westernassetprotection.com
SUMMARY:Agency Leadership Chat
DESCRIPTION:Register Here > \n  \nThe Agency Leadership Chat is exclusively created to tackle urgent issues and assist in boosting the growth of your agency. \nInterested in attending? Let us know. Email Sherri Johnson at sherri@westernassetprotection.com \nJoin us for this exclusive thought-leadership monthly discussion with Paul Rose\, Steven Smith\, and David Wessling. Gain valuable insights and proven strategies to grow your agency. \nDon’t miss this great conversation!\nRegister today! \n 
URL:https://westernassetprotection.com/event/agency-leadership-chat-5/
CATEGORIES:Agency Leadership
ATTACH;FMTTYPE=image/svg+xml:https://westernassetprotection.com/wp-content/uploads/2022/07/agency-leadership-chat.svg
END:VEVENT
BEGIN:VEVENT
DTSTART;TZID=America/Phoenix:20230710T130000
DTEND;TZID=America/Phoenix:20230710T140000
DTSTAMP:20260420T201224
CREATED:20230623T224425Z
LAST-MODIFIED:20230623T224425Z
UID:10000117-1688994000-1688997600@westernassetprotection.com
SUMMARY:Agency Leadership Chat
DESCRIPTION:Register HERE > \nThe Agency Leadership Chat is exclusively created to tackle urgent issues and assist in boosting the growth of your agency. \nInterested in attending? Let us know. Email Sherri Johnson at sherri@westernassetprotection.com \nJoin us for this exclusive thought-leadership monthly discussion with Paul Rose\, Steven Smith\, and David Wessling. Gain valuable insights and proven strategies to grow your agency. \nAgency Topics\n\nAEP Co-op Plan with WAP\n2024 Certification Updates\nSEP Marketing Ideas\nCompliance Changes Clarity\nAEP Planning\n\n  \nDon’t miss this great conversation!\nRegister today!
URL:https://westernassetprotection.com/event/agency-leadership-chat-4/
CATEGORIES:Agency Leadership
END:VEVENT
BEGIN:VEVENT
DTSTART;TZID=America/Phoenix:20230619T130000
DTEND;TZID=America/Phoenix:20230619T140000
DTSTAMP:20260420T201224
CREATED:20230605T021507Z
LAST-MODIFIED:20230605T021507Z
UID:10000096-1687179600-1687183200@westernassetprotection.com
SUMMARY:Agency Leadership Chat
DESCRIPTION:  \nThe Agency Leadership Chat is exclusively created to tackle urgent issues and assist in boosting the growth of your agency. \nInterested in attending? Let us know. Email Sherri Johnson at sherri@westernassetprotection.com \nJoin us for this exclusive thought-leadership monthly discussion with Paul Rose\, Steven Smith\, and David Wessling. Gain valuable insights and proven strategies to grow your agency. \nDiscussion Highlights: \n• Exciting Med Supp Opportunities\n• AHIP and RTS Prep\n• AEP\n-Planning\n-Retail Opportunities\n-AEP carrier formal meetings for brokers\n• FMO Agent Transfer Updates\n• WAPCON2023\n• Q&A \nDon’t miss this great conversation!\nRegister today!
URL:https://westernassetprotection.com/event/agency-leadership-chat-3/
CATEGORIES:Agency Leadership
END:VEVENT
BEGIN:VEVENT
DTSTART;TZID=America/Phoenix:20230508T130000
DTEND;TZID=America/Phoenix:20230508T140000
DTSTAMP:20260420T201224
CREATED:20230505T171802Z
LAST-MODIFIED:20230505T171802Z
UID:10000090-1683550800-1683554400@westernassetprotection.com
SUMMARY:Agency Leadership Chat
DESCRIPTION:This is an exclusive event for WAP Agency Leaders. \nIf you are interested and would like to attend\, please email Sherri at sherri@westernassetprotection.com. \nDiscussion Highlights: \n-Working with WAP Contracting\n-SEP Opportunities\n-Retention Activities\n-Ancillary Product Offerings\n-Operational Updates \nDon’t miss this great conversation!
URL:https://westernassetprotection.com/event/agency-leadership-chat-2/
CATEGORIES:Agency Leadership
END:VEVENT
BEGIN:VEVENT
DTSTART;TZID=America/Phoenix:20230306T130000
DTEND;TZID=America/Phoenix:20230306T140000
DTSTAMP:20260420T201224
CREATED:20230306T032929Z
LAST-MODIFIED:20230306T032929Z
UID:10000017-1678107600-1678111200@westernassetprotection.com
SUMMARY:Agency Leadership Chat
DESCRIPTION:Register HERE > \nJoin us for this exclusive thought-leadership monthly discussion with Paul Rose and Steven Smith. Gain valuable insights and proven strategies to grow your agency. \nDiscussion Highlights: \n-Agency Summit Details\n-Value Proposition Conversation\n-Agent Opportunity Development\n-SEP & AEP Co-Op Thoughts\n-Academy Tour Updates\n-Rx Assistant Idea\n-Operational Updates \nDon’t miss this great conversation!\nRegister today! \nAfter registering\, you will receive a confirmation email containing information about joining the webinar.
URL:https://westernassetprotection.com/event/agency-leadership-chat/
CATEGORIES:Agency Leadership
END:VEVENT
END:VCALENDAR