BEGIN:VCALENDAR
VERSION:2.0
PRODID:-//Western Asset Protection - ECPv6.15.18//NONSGML v1.0//EN
CALSCALE:GREGORIAN
METHOD:PUBLISH
X-ORIGINAL-URL:https://westernassetprotection.com
X-WR-CALDESC:Events for Western Asset Protection
REFRESH-INTERVAL;VALUE=DURATION:PT1H
X-Robots-Tag:noindex
X-PUBLISHED-TTL:PT1H
BEGIN:VTIMEZONE
TZID:America/Phoenix
BEGIN:STANDARD
TZOFFSETFROM:-0700
TZOFFSETTO:-0700
TZNAME:MST
DTSTART:20230101T000000
END:STANDARD
END:VTIMEZONE
BEGIN:VEVENT
DTSTART;TZID=America/Phoenix:20241212T120000
DTEND;TZID=America/Phoenix:20241212T130000
DTSTAMP:20260422T182052
CREATED:20241205T162818Z
LAST-MODIFIED:20241205T162818Z
UID:10001024-1734004800-1734008400@westernassetprotection.com
SUMMARY:Legacy Safeguard Introduction
DESCRIPTION:Register Here > \n  \nLegacy Safeguard® was created to help you serve client needs\, helping you build momentum all year long — including after AEP. With Legacy Safeguard University you will learn how to successfully offer the Legacy Safeguard end-of-life planning service and our industry-leading solutions to everyone you serve. In this training\, you will find valuable resources and tools to help you serve more clients\, including marketing and training materials\, a Final Expense Calculator\, and more! Join our training to better understand Legacy Safeguard and how it can help your clients leave a lasting legacy.
URL:https://westernassetprotection.com/event/legacy-safeguard-introduction/
CATEGORIES:Legacy Safeguard
END:VEVENT
BEGIN:VEVENT
DTSTART;TZID=America/Phoenix:20240718T090000
DTEND;TZID=America/Phoenix:20240718T100000
DTSTAMP:20260422T182052
CREATED:20240706T004944Z
LAST-MODIFIED:20240706T004944Z
UID:10000892-1721293200-1721296800@westernassetprotection.com
SUMMARY:Legacy Safeguard Training
DESCRIPTION:Register HERE > \n  \n\nLegacy Safeguard helps agents set more appointments\, make more presentations\, close more sales\, and serve more people!\nJoin us to learn how you can offer your clients a free Legacy Safeguard membership\, which includes legacy planning\, estate planning support\, end-of-life planning\, guidance\, assistance\, and support for survivors and their loved ones.\nWe will review Legacy Safeguard training and marketing materials\, the client enrollment process and much more!
URL:https://westernassetprotection.com/event/legacy-safeguard-training/
CATEGORIES:Legacy Safeguard
END:VEVENT
END:VCALENDAR