BEGIN:VCALENDAR
VERSION:2.0
PRODID:-//Western Asset Protection - ECPv6.15.18//NONSGML v1.0//EN
CALSCALE:GREGORIAN
METHOD:PUBLISH
X-ORIGINAL-URL:https://westernassetprotection.com
X-WR-CALDESC:Events for Western Asset Protection
REFRESH-INTERVAL;VALUE=DURATION:PT1H
X-Robots-Tag:noindex
X-PUBLISHED-TTL:PT1H
BEGIN:VTIMEZONE
TZID:America/Phoenix
BEGIN:STANDARD
TZOFFSETFROM:-0700
TZOFFSETTO:-0700
TZNAME:MST
DTSTART:20240101T000000
END:STANDARD
END:VTIMEZONE
BEGIN:VEVENT
DTSTART;TZID=America/Phoenix:20250604T100000
DTEND;TZID=America/Phoenix:20250604T153000
DTSTAMP:20260422T145842
CREATED:20250326T224436Z
LAST-MODIFIED:20250327T145755Z
UID:10001155-1749031200-1749051000@westernassetprotection.com
SUMMARY:Medicare Business Accelerator (MBA) Workshop - Waipahu (Oahu)\, HI
DESCRIPTION:Registration is open for the Medicare Business Accelerator (MBA)\, formerly Medicare Academy!\nReserve your seat HERE for MBA > \nPROMO CODE: \nPlease check with your Agency first for a Promo Code. Or\, use Promo Code “IGNITE”. \nLearn more about the Medicare Academy MBA \n\nDon’t miss this 1-Day Value-Packed Workshop!\nReasons to attend:\nIf you’re new to Western Asset Protection\, this 1-Day Immersive Workshop is for you! \nIf you’ve attended a Medicare Academy Workshop in the past\, we encourage you to come again. Our Sales Leadership Team will refresh you on business-building strategies. \n\nTake a deep dive into Medicare\, ancillary insurance\, systems\, and structure for success\, as well as sales tips and proven business development strategies.\nEnhance your skills and increase your earning potential.\nLearn how to increase referrals and develop techniques that keep YOU front and center with prospects and clients!\nUncover new business from your existing clients\nIncrease customer retention\n2025 updates on the State of Medicare\nLearn sales techniques to diversify your portfolio\n\nWe hope to see you there!
URL:https://westernassetprotection.com/event/medicare-business-accelerator-mba-workshop-waipahu-oahu-hi/
CATEGORIES:Medicare Academy,Medicare Business Accelerator (MBA)
END:VEVENT
BEGIN:VEVENT
DTSTART;TZID=America/Phoenix:20250529T100000
DTEND;TZID=America/Phoenix:20250529T153000
DTSTAMP:20260422T145842
CREATED:20250326T224158Z
LAST-MODIFIED:20250327T145729Z
UID:10001154-1748512800-1748532600@westernassetprotection.com
SUMMARY:Medicare Business Accelerator (MBA) Workshop - Downers Grove\, IL
DESCRIPTION:Registration is open for the Medicare Business Accelerator (MBA)\, formerly Medicare Academy!\nReserve your seat HERE for MBA > \nPROMO CODE: \nPlease check with your Agency first for a Promo Code. Or\, use Promo Code “IGNITE”. \nLearn more about the Medicare Academy MBA \n\nDon’t miss this 1-Day Value-Packed Workshop!\nReasons to attend:\nIf you’re new to Western Asset Protection\, this 1-Day Immersive Workshop is for you! \nIf you’ve attended a Medicare Academy Workshop in the past\, we encourage you to come again. Our Sales Leadership Team will refresh you on business-building strategies. \n\nTake a deep dive into Medicare\, ancillary insurance\, systems\, and structure for success\, as well as sales tips and proven business development strategies.\nEnhance your skills and increase your earning potential.\nLearn how to increase referrals and develop techniques that keep YOU front and center with prospects and clients!\nUncover new business from your existing clients\nIncrease customer retention\n2025 updates on the State of Medicare\nLearn sales techniques to diversify your portfolio\n\nWe hope to see you there!
URL:https://westernassetprotection.com/event/medicare-business-accelerator-mba-workshop-downers-grove-il/
CATEGORIES:Medicare Academy,Medicare Business Accelerator (MBA)
END:VEVENT
BEGIN:VEVENT
DTSTART;TZID=America/Phoenix:20250528T100000
DTEND;TZID=America/Phoenix:20250528T153000
DTSTAMP:20260422T145842
CREATED:20250326T223748Z
LAST-MODIFIED:20250327T145712Z
UID:10001153-1748426400-1748446200@westernassetprotection.com
SUMMARY:Medicare Business Accelerator (MBA) Workshop - Chicago\, IL
DESCRIPTION:Registration is open for the Medicare Business Accelerator (MBA)\, formerly Medicare Academy!\nReserve your seat HERE for MBA > \nPROMO CODE: \nPlease check with your Agency first for a Promo Code. Or\, use Promo Code “IGNITE”. \nLearn more about the Medicare Academy MBA \n\nDon’t miss this 1-Day Value-Packed Workshop!\nReasons to attend:\nIf you’re new to Western Asset Protection\, this 1-Day Immersive Workshop is for you! \nIf you’ve attended a Medicare Academy Workshop in the past\, we encourage you to come again. Our Sales Leadership Team will refresh you on business-building strategies. \n\nTake a deep dive into Medicare\, ancillary insurance\, systems\, and structure for success\, as well as sales tips and proven business development strategies.\nEnhance your skills and increase your earning potential.\nLearn how to increase referrals and develop techniques that keep YOU front and center with prospects and clients!\nUncover new business from your existing clients\nIncrease customer retention\n2025 updates on the State of Medicare\nLearn sales techniques to diversify your portfolio\n\nWe hope to see you there!
URL:https://westernassetprotection.com/event/medicare-business-accelerator-mba-workshop-chicago-il/
CATEGORIES:Medicare Academy,Medicare Business Accelerator (MBA)
END:VEVENT
BEGIN:VEVENT
DTSTART;TZID=America/Phoenix:20250520T100000
DTEND;TZID=America/Phoenix:20250520T153000
DTSTAMP:20260422T145842
CREATED:20250326T223412Z
LAST-MODIFIED:20250327T145649Z
UID:10001152-1747735200-1747755000@westernassetprotection.com
SUMMARY:Medicare Business Accelerator (MBA) Workshop - Dallas/Fort Worth\, TX
DESCRIPTION:Registration is open for the Medicare Business Accelerator (MBA)\, formerly Medicare Academy!\nReserve your seat HERE for MBA > \nPROMO CODE: \nPlease check with your Agency first for a Promo Code. Or\, use Promo Code “IGNITE”. \nLearn more about the Medicare Academy MBA \n\nDon’t miss this 1-Day Value-Packed Workshop!\nReasons to attend:\nIf you’re new to Western Asset Protection\, this 1-Day Immersive Workshop is for you! \nIf you’ve attended a Medicare Academy Workshop in the past\, we encourage you to come again. Our Sales Leadership Team will refresh you on business-building strategies. \n\nTake a deep dive into Medicare\, ancillary insurance\, systems\, and structure for success\, as well as sales tips and proven business development strategies.\nEnhance your skills and increase your earning potential.\nLearn how to increase referrals and develop techniques that keep YOU front and center with prospects and clients!\nUncover new business from your existing clients\nIncrease customer retention\n2025 updates on the State of Medicare\nLearn sales techniques to diversify your portfolio\n\nWe hope to see you there!
URL:https://westernassetprotection.com/event/medicare-business-accelerator-mba-workshop-dallas-fort-worth-tx/
CATEGORIES:Medicare Academy,Medicare Business Accelerator (MBA)
END:VEVENT
BEGIN:VEVENT
DTSTART;TZID=America/Phoenix:20250516T100000
DTEND;TZID=America/Phoenix:20250516T153000
DTSTAMP:20260422T145842
CREATED:20250326T223013Z
LAST-MODIFIED:20250327T145632Z
UID:10001151-1747389600-1747409400@westernassetprotection.com
SUMMARY:Medicare Business Accelerator (MBA) Workshop - Houston\, TX
DESCRIPTION:Registration is open for the Medicare Business Accelerator (MBA)\, formerly Medicare Academy!\nReserve your seat HERE for MBA > \nPROMO CODE: \nPlease check with your Agency first for a Promo Code. Or\, use Promo Code “IGNITE”. \nLearn more about the Medicare Academy MBA \n\nDon’t miss this 1-Day Value-Packed Workshop!\nReasons to attend:\nIf you’re new to Western Asset Protection\, this 1-Day Immersive Workshop is for you! \nIf you’ve attended a Medicare Academy Workshop in the past\, we encourage you to come again. Our Sales Leadership Team will refresh you on business-building strategies. \n\nTake a deep dive into Medicare\, ancillary insurance\, systems\, and structure for success\, as well as sales tips and proven business development strategies.\nEnhance your skills and increase your earning potential.\nLearn how to increase referrals and develop techniques that keep YOU front and center with prospects and clients!\nUncover new business from your existing clients\nIncrease customer retention\n2025 updates on the State of Medicare\nLearn sales techniques to diversify your portfolio\n\nWe hope to see you there!
URL:https://westernassetprotection.com/event/medicare-business-accelerator-mba-workshop-houston-tx/
CATEGORIES:Medicare Academy,Medicare Business Accelerator (MBA)
END:VEVENT
BEGIN:VEVENT
DTSTART;TZID=America/Phoenix:20250513T100000
DTEND;TZID=America/Phoenix:20250513T153000
DTSTAMP:20260422T145842
CREATED:20250326T222652Z
LAST-MODIFIED:20250327T145528Z
UID:10001150-1747130400-1747150200@westernassetprotection.com
SUMMARY:Medicare Business Accelerator (MBA) Workshop - McAllen/Rio Grande\, TX
DESCRIPTION:Registration is open for the Medicare Business Accelerator (MBA)\, formerly Medicare Academy!\nReserve your seat HERE for MBA > \nPROMO CODE: \nPlease check with your Agency first for a Promo Code. Or\, use Promo Code “IGNITE”. \nLearn more about the Medicare Academy MBA \n\nDon’t miss this 1-Day Value-Packed Workshop!\nReasons to attend:\nIf you’re new to Western Asset Protection\, this 1-Day Immersive Workshop is for you! \nIf you’ve attended a Medicare Academy Workshop in the past\, we encourage you to come again. Our Sales Leadership Team will refresh you on business-building strategies. \n\nTake a deep dive into Medicare\, ancillary insurance\, systems\, and structure for success\, as well as sales tips and proven business development strategies.\nEnhance your skills and increase your earning potential.\nLearn how to increase referrals and develop techniques that keep YOU front and center with prospects and clients!\nUncover new business from your existing clients\nIncrease customer retention\n2025 updates on the State of Medicare\nLearn sales techniques to diversify your portfolio\n\nWe hope to see you there!
URL:https://westernassetprotection.com/event/medicare-business-accelerator-mba-workshop-mcallen-rio-grande-tx/
CATEGORIES:Medicare Academy,Medicare Business Accelerator (MBA)
END:VEVENT
BEGIN:VEVENT
DTSTART;TZID=America/Phoenix:20250509T100000
DTEND;TZID=America/Phoenix:20250509T153000
DTSTAMP:20260422T145842
CREATED:20231212T181308Z
LAST-MODIFIED:20250327T145456Z
UID:10000305-1746784800-1746804600@westernassetprotection.com
SUMMARY:Medicare Business Accelerator (MBA) Workshop - Las Vegas
DESCRIPTION:Registration is open for the Medicare Business Accelerator (MBA)\, formerly Medicare Academy!\nReserve your seat HERE for MBA > \nPROMO CODE: \nPlease check with your Agency first for a Promo Code. Or\, use Promo Code “IGNITE”. \nLearn more about the Medicare Academy MBA \n\nDon’t miss this 1-Day Value-Packed Workshop!\nReasons to attend:\nIf you’re new to Western Asset Protection\, this 1-Day Immersive Workshop is for you! \nIf you’ve attended a Medicare Academy Workshop in the past\, we encourage you to come again. Our Sales Leadership Team will refresh you on business-building strategies. \n\nTake a deep dive into Medicare\, ancillary insurance\, systems\, and structure for success\, as well as sales tips and proven business development strategies.\nEnhance your skills and increase your earning potential.\nLearn how to increase referrals and develop techniques that keep YOU front and center with prospects and clients!\nUncover new business from your existing clients\nIncrease customer retention\n2025 updates on the State of Medicare\nLearn sales techniques to diversify your portfolio\n\nWe hope to see you there!
URL:https://westernassetprotection.com/event/medicare-academy-las-vegas/
CATEGORIES:Medicare Academy,Medicare Business Accelerator (MBA)
END:VEVENT
BEGIN:VEVENT
DTSTART;TZID=America/Phoenix:20250501T100000
DTEND;TZID=America/Phoenix:20250501T153000
DTSTAMP:20260422T145842
CREATED:20250326T222115Z
LAST-MODIFIED:20250327T145349Z
UID:10001149-1746093600-1746113400@westernassetprotection.com
SUMMARY:Medicare Business Accelerator (MBA) Workshop - Phoenix\, AZ
DESCRIPTION:Registration is open for the Medicare Business Accelerator (MBA)\, formerly Medicare Academy!\nReserve your seat HERE for MBA > \nPROMO CODE: \nPlease check with your Agency first for a Promo Code. Or\, use Promo Code “IGNITE”. \nLearn more about the Medicare Academy MBA \n\nDon’t miss this 1-Day Value-Packed Workshop!\nReasons to attend:\nIf you’re new to Western Asset Protection\, this 1-Day Immersive Workshop is for you! \nIf you’ve attended a Medicare Academy Workshop in the past\, we encourage you to come again. Our Sales Leadership Team will refresh you on business-building strategies. \n\nTake a deep dive into Medicare\, ancillary insurance\, systems\, and structure for success\, as well as sales tips and proven business development strategies.\nEnhance your skills and increase your earning potential.\nLearn how to increase referrals and develop techniques that keep YOU front and center with prospects and clients!\nUncover new business from your existing clients\nIncrease customer retention\n2025 updates on the State of Medicare\nLearn sales techniques to diversify your portfolio\n\nWe hope to see you there!
URL:https://westernassetprotection.com/event/medicare-business-accelerator-mba-workshop-phoenix-az/
CATEGORIES:Medicare Academy,Medicare Business Accelerator (MBA)
END:VEVENT
BEGIN:VEVENT
DTSTART;TZID=America/Phoenix:20250430T100000
DTEND;TZID=America/Phoenix:20250430T153000
DTSTAMP:20260422T145842
CREATED:20250326T221401Z
LAST-MODIFIED:20250327T145224Z
UID:10001148-1746007200-1746027000@westernassetprotection.com
SUMMARY:Medicare Business Accelerator (MBA) Workshop - Albuquerque\, NM
DESCRIPTION:Registration is open for the Medicare Business Accelerator (MBA)\, formerly Medicare Academy!\nReserve your seat HERE for MBA > \nPROMO CODE: \nPlease check with your Agency first for a Promo Code. Or\, use Promo Code “IGNITE”. \nLearn more about the Medicare Academy MBA \n\nDon’t miss this 1-Day Value-Packed Workshop!\nReasons to attend:\nIf you’re new to Western Asset Protection\, this 1-Day Immersive Workshop is for you! \nIf you’ve attended a Medicare Academy Workshop in the past\, we encourage you to come again. Our Sales Leadership Team will refresh you on business-building strategies. \n\nTake a deep dive into Medicare\, ancillary insurance\, systems\, and structure for success\, as well as sales tips and proven business development strategies.\nEnhance your skills and increase your earning potential.\nLearn how to increase referrals and develop techniques that keep YOU front and center with prospects and clients!\nUncover new business from your existing clients\nIncrease customer retention\n2025 updates on the State of Medicare\nLearn sales techniques to diversify your portfolio\n\nWe hope to see you there!
URL:https://westernassetprotection.com/event/medicare-business-accelerator-mba-workshop-albuquerque-nm/
CATEGORIES:Medicare Academy,Medicare Business Accelerator (MBA)
END:VEVENT
BEGIN:VEVENT
DTSTART;TZID=America/Phoenix:20250428T100000
DTEND;TZID=America/Phoenix:20250428T153000
DTSTAMP:20260422T145842
CREATED:20250318T173143Z
LAST-MODIFIED:20250327T145300Z
UID:10001147-1745834400-1745854200@westernassetprotection.com
SUMMARY:Medicare Business Accelerator (MBA) Workshop - Las Cruces\, NM
DESCRIPTION:Registration is open for the Medicare Business Accelerator (MBA)\, formerly Medicare Academy!\nReserve your seat HERE for MBA > \nPROMO CODE: \nPlease check with your Agency first for a Promo Code. Or\, use Promo Code “IGNITE”. \nLearn more about the Medicare Academy MBA \n\nDon’t miss this 1-Day Value-Packed Workshop!\nReasons to attend:\nIf you’re new to Western Asset Protection\, this 1-Day Immersive Workshop is for you! \nIf you’ve attended a Medicare Academy Workshop in the past\, we encourage you to come again. Our Sales Leadership Team will refresh you on business-building strategies. \n\nTake a deep dive into Medicare\, ancillary insurance\, systems\, and structure for success\, as well as sales tips and proven business development strategies.\nEnhance your skills and increase your earning potential.\nLearn how to increase referrals and develop techniques that keep YOU front and center with prospects and clients!\nUncover new business from your existing clients\nIncrease customer retention\n2025 updates on the State of Medicare\nLearn sales techniques to diversify your portfolio\n\nWe hope to see you there!
URL:https://westernassetprotection.com/event/medicare-academy-las-cruces-nm/
CATEGORIES:Medicare Academy,Medicare Business Accelerator (MBA)
END:VEVENT
BEGIN:VEVENT
DTSTART;TZID=America/Phoenix:20250422T100000
DTEND;TZID=America/Phoenix:20250422T153000
DTSTAMP:20260422T145842
CREATED:20231212T181843Z
LAST-MODIFIED:20250327T145254Z
UID:10000306-1745316000-1745335800@westernassetprotection.com
SUMMARY:Medicare Business Accelerator (MBA) Workshop - Tucson\, AZ
DESCRIPTION:Registration is open for the Medicare Business Accelerator (MBA)\, formerly Medicare Academy!\nReserve your seat HERE for MBA > \nPROMO CODE: \nPlease check with your Agency first for a Promo Code. Or\, use Promo Code “IGNITE”. \nLearn more about the Medicare Academy MBA \n\nDon’t miss this 1-Day Value-Packed Workshop!\nReasons to attend:\nIf you’re new to Western Asset Protection\, this 1-Day Immersive Workshop is for you! \nIf you’ve attended a Medicare Academy Workshop in the past\, we encourage you to come again. Our Sales Leadership Team will refresh you on business-building strategies. \n\nTake a deep dive into Medicare\, ancillary insurance\, systems\, and structure for success\, as well as sales tips and proven business development strategies.\nEnhance your skills and increase your earning potential.\nLearn how to increase referrals and develop techniques that keep YOU front and center with prospects and clients!\nUncover new business from your existing clients\nIncrease customer retention\n2025 updates on the State of Medicare\nLearn sales techniques to diversify your portfolio\n\nWe hope to see you there!
URL:https://westernassetprotection.com/event/medicare-academy-tucson-az/
CATEGORIES:Medicare Academy,Medicare Business Accelerator (MBA)
END:VEVENT
END:VCALENDAR