BEGIN:VCALENDAR
VERSION:2.0
PRODID:-//Western Asset Protection - ECPv6.15.18//NONSGML v1.0//EN
CALSCALE:GREGORIAN
METHOD:PUBLISH
X-WR-CALNAME:Western Asset Protection
X-ORIGINAL-URL:https://westernassetprotection.com
X-WR-CALDESC:Events for Western Asset Protection
REFRESH-INTERVAL;VALUE=DURATION:PT1H
X-Robots-Tag:noindex
X-PUBLISHED-TTL:PT1H
BEGIN:VTIMEZONE
TZID:America/Phoenix
BEGIN:STANDARD
TZOFFSETFROM:-0700
TZOFFSETTO:-0700
TZNAME:MST
DTSTART:20240101T000000
END:STANDARD
END:VTIMEZONE
BEGIN:VEVENT
DTSTART;TZID=America/Phoenix:20250513T100000
DTEND;TZID=America/Phoenix:20250513T110000
DTSTAMP:20260422T235545
CREATED:20250513T173444Z
LAST-MODIFIED:20250513T173444Z
UID:10001177-1747130400-1747134000@westernassetprotection.com
SUMMARY:Mastering the Mystery of Med Supps - Session 1 of 3
DESCRIPTION:Register Here > \n  \nAre you new to Medicare Supplements? \n\nDiscover why 1 in 3 clients are embracing these plans.\nUnlock the potential of this series and boost your understanding of Medicare Supplements.\nLearn why these plans are essential for optimal coverage and peace of mind.\n\nJoin us as we explore the extraordinary benefits of Medicare Supplements for your clients.
URL:https://westernassetprotection.com/event/mastering-the-mystery-of-med-supps-session-1-of-3/
CATEGORIES:Medicare Supplements
END:VEVENT
END:VCALENDAR