BEGIN:VCALENDAR
VERSION:2.0
PRODID:-//Western Asset Protection - ECPv6.15.18//NONSGML v1.0//EN
CALSCALE:GREGORIAN
METHOD:PUBLISH
X-WR-CALNAME:Western Asset Protection
X-ORIGINAL-URL:https://westernassetprotection.com
X-WR-CALDESC:Events for Western Asset Protection
REFRESH-INTERVAL;VALUE=DURATION:PT1H
X-Robots-Tag:noindex
X-PUBLISHED-TTL:PT1H
BEGIN:VTIMEZONE
TZID:America/Phoenix
BEGIN:STANDARD
TZOFFSETFROM:-0700
TZOFFSETTO:-0700
TZNAME:MST
DTSTART:20240101T000000
END:STANDARD
END:VTIMEZONE
BEGIN:VEVENT
DTSTART;TZID=America/Phoenix:20251216T090000
DTEND;TZID=America/Phoenix:20251216T100000
DTSTAMP:20260422T152738
CREATED:20251211T002937Z
LAST-MODIFIED:20251211T002937Z
UID:10001388-1765875600-1765879200@westernassetprotection.com
SUMMARY:Plan N for the Win
DESCRIPTION:Register Here > \n  \nReflecting on my years in the Medicare Supplement market\, one regret stands out: not embracing Plan N sooner. Now\, top agents are turning to Plan N as their preferred choice—and with good reason: – Potential for more sustainable rates – Lower initial rates\, often with smaller long-term increases – In many cases\, significantly lower rate hikes. Join our dynamic webinar to uncover why Plan N is surging in popularity.
URL:https://westernassetprotection.com/event/plan-n-for-the-win/
CATEGORIES:Medicare Supplements
END:VEVENT
BEGIN:VEVENT
DTSTART;TZID=America/Phoenix:20251216T130000
DTEND;TZID=America/Phoenix:20251216T140000
DTSTAMP:20260422T152738
CREATED:20251211T002708Z
LAST-MODIFIED:20251211T002708Z
UID:10001387-1765890000-1765893600@westernassetprotection.com
SUMMARY:Market Disruption Series - 2025 Before the Dust Settles- SAR/OEP Opportunities
DESCRIPTION:Register Here > \n  \nWe know AEP is still ringing in everyone’s ears\, but there is a lot of business still on the table! Learn how to make the most of the continued Service Area Reduction SEP\, and carry that momentum into OEP in 2026! We’ll cover the continued Medicare Supplement market opportunities\, how to market compliantly during OEP\, and finding opportunities in unlikely places. Let’s make 2026 your biggest growth year yet by setting you up for a successful Q1 today!
URL:https://westernassetprotection.com/event/market-disruption-series-2025-before-the-dust-settles-sar-oep-opportunities/
CATEGORIES:Medicare Supplements
END:VEVENT
END:VCALENDAR