BEGIN:VCALENDAR
VERSION:2.0
PRODID:-//Western Asset Protection - ECPv6.15.18//NONSGML v1.0//EN
CALSCALE:GREGORIAN
METHOD:PUBLISH
X-ORIGINAL-URL:https://westernassetprotection.com
X-WR-CALDESC:Events for Western Asset Protection
REFRESH-INTERVAL;VALUE=DURATION:PT1H
X-Robots-Tag:noindex
X-PUBLISHED-TTL:PT1H
BEGIN:VTIMEZONE
TZID:America/Phoenix
BEGIN:STANDARD
TZOFFSETFROM:-0700
TZOFFSETTO:-0700
TZNAME:MST
DTSTART:20220101T000000
END:STANDARD
END:VTIMEZONE
BEGIN:VEVENT
DTSTART;TZID=America/Phoenix:20230822T080000
DTEND;TZID=America/Phoenix:20230822T090000
DTSTAMP:20260422T223541
CREATED:20230827T180047Z
LAST-MODIFIED:20230827T180218Z
UID:10000203-1692691200-1692694800@westernassetprotection.com
SUMMARY:IMG New to CSG APP Training
DESCRIPTION:Register Here \n  \n\n\nQuote Med Supp & Ancillary Products\, View Medicare Enrollment & Demographics
URL:https://westernassetprotection.com/event/img-planenroll-training/
CATEGORIES:MedicareCENTER
ATTACH;FMTTYPE=image/png:https://westernassetprotection.com/wp-content/uploads/2023/06/MedicareCenter.png
END:VEVENT
BEGIN:VEVENT
DTSTART;TZID=America/Phoenix:20230810T090000
DTEND;TZID=America/Phoenix:20230810T100000
DTSTAMP:20260422T223541
CREATED:20230827T175512Z
LAST-MODIFIED:20230827T175512Z
UID:10000200-1691658000-1691661600@westernassetprotection.com
SUMMARY:IMG Call Recording & Scope of Appointment
DESCRIPTION:Register Here \n  \n\n\nStay compliant this AEP. Learn how to use your MedicareCENTER phone number to record and store your calls. See how to complete SOA by email and text.
URL:https://westernassetprotection.com/event/img-call-recording-scope-of-appointment/
CATEGORIES:MedicareCENTER
ATTACH;FMTTYPE=image/png:https://westernassetprotection.com/wp-content/uploads/2023/06/MedicareCenter.png
END:VEVENT
BEGIN:VEVENT
DTSTART;TZID=America/Phoenix:20230809T110000
DTEND;TZID=America/Phoenix:20230809T120000
DTSTAMP:20260422T223541
CREATED:20230827T175125Z
LAST-MODIFIED:20230827T175125Z
UID:10000198-1691578800-1691582400@westernassetprotection.com
SUMMARY:IMG MedicareCENTER Overview Training
DESCRIPTION:Register Here \n  \n\n\nThis webinar is designed for agents new to MedicareCENTER. In this webinar\, we will cover the basic features of MedicareCENTER. We will demonstrate how an agent can use MedicareCENTER throughout the entire sales process. Learn how to manage your contacts and track sales activities.
URL:https://westernassetprotection.com/event/img-medicarecenter-overview-training/
CATEGORIES:MedicareCENTER
ATTACH;FMTTYPE=image/png:https://westernassetprotection.com/wp-content/uploads/2023/06/MedicareCenter.png
END:VEVENT
BEGIN:VEVENT
DTSTART;TZID=America/Phoenix:20230809T080000
DTEND;TZID=America/Phoenix:20230809T090000
DTSTAMP:20260422T223541
CREATED:20230827T175721Z
LAST-MODIFIED:20230827T175721Z
UID:10000201-1691568000-1691571600@westernassetprotection.com
SUMMARY:IMG LeadCENTER Training
DESCRIPTION:Register Here \n  \n\n\nOrder Health and life leads and receive real-time leads. Learn how health leads are transferred and managed in MedicareCENTER.
URL:https://westernassetprotection.com/event/img-leadcenter-training/
CATEGORIES:MedicareCENTER
ATTACH;FMTTYPE=image/png:https://westernassetprotection.com/wp-content/uploads/2023/06/MedicareCenter.png
END:VEVENT
BEGIN:VEVENT
DTSTART;TZID=America/Phoenix:20230808T080000
DTEND;TZID=America/Phoenix:20230808T090000
DTSTAMP:20260422T223541
CREATED:20230827T175816Z
LAST-MODIFIED:20230827T175943Z
UID:10000202-1691481600-1691485200@westernassetprotection.com
SUMMARY:IMG PlanEnroll Training
DESCRIPTION:Register Here \n  \n\n\n Learn how to become a PlanEnroll Network Agent and receive real-time leads from PlanEnroll.com national Age-In marketing and advertising campaigns.
URL:https://westernassetprotection.com/event/img-leadcenter-training-2/
CATEGORIES:MedicareCENTER
ATTACH;FMTTYPE=image/png:https://westernassetprotection.com/wp-content/uploads/2023/06/MedicareCenter.png
END:VEVENT
BEGIN:VEVENT
DTSTART;TZID=America/Phoenix:20230727T080000
DTEND;TZID=America/Phoenix:20230727T090000
DTSTAMP:20260422T223541
CREATED:20230712T213559Z
LAST-MODIFIED:20230727T150437Z
UID:10000151-1690444800-1690448400@westernassetprotection.com
SUMMARY:IMG MedicareCENTER Scope of Appointment & Quote & Enroll
DESCRIPTION:Register HERE > \n  \nTrack Your Sales Process. It is recommended you attend an overview training before attending this webinar. \n\n\nIMG will demonstrate how to complete a Scope of Appointment\, Quote Medicare Advantage plans and take an enrollment. We will discuss how to quote Medicare Supplements and ancillary products in CSG APP.
URL:https://westernassetprotection.com/event/medicarecenter-scope-of-appointment-quote-enroll-3/
CATEGORIES:MedicareCENTER
ATTACH;FMTTYPE=image/png:https://westernassetprotection.com/wp-content/uploads/2023/06/MedicareCenter.png
END:VEVENT
BEGIN:VEVENT
DTSTART;TZID=America/Phoenix:20230726T110000
DTEND;TZID=America/Phoenix:20230731T120000
DTSTAMP:20260422T223541
CREATED:20230713T155003Z
LAST-MODIFIED:20230713T155003Z
UID:10000153-1690369200-1690804800@westernassetprotection.com
SUMMARY:MedicareCENTER LeadCENTER Training - Recommended
DESCRIPTION:Register HERE > \n  \nOrder Health & Life leads and receive real-time leads. Learn how health leads are transferred and managed in MedicareCENTER. \nLeadCENTER is your one-stop shop for high-quality health and life leads! In this webinar\, we will review how to order leads\, set up real-time campaigns\, and how to manage your leads.
URL:https://westernassetprotection.com/event/medicarecenter-leadcenter-training-recommended/
CATEGORIES:MedicareCENTER
ATTACH;FMTTYPE=image/png:https://westernassetprotection.com/wp-content/uploads/2023/06/MedicareCenter.png
END:VEVENT
BEGIN:VEVENT
DTSTART;TZID=America/Phoenix:20230725T080000
DTEND;TZID=America/Phoenix:20230725T090000
DTSTAMP:20260422T223541
CREATED:20230713T174302Z
LAST-MODIFIED:20230713T174302Z
UID:10000155-1690272000-1690275600@westernassetprotection.com
SUMMARY:IMG MedicareCENTER Personal URL (PURL)
DESCRIPTION:Register HERE > \n  \nFree Med Adv Consumer Quoting & Enrollment Website \n\n\nEvery agent with a MedicareCENTER account receives a free\, client-facing website for consumers to quote and enroll themselves. In this webinar\, we will show agents where to find their PURL\, walk-through the website and demonstrate how consumers can enter their doctors\, prescription drugs and preferred pharmacy to run a Medicare Advantage or PDP quote and do an enrollment.
URL:https://westernassetprotection.com/event/img-medicarecenter-personal-url-purl-2/
CATEGORIES:MedicareCENTER
ATTACH;FMTTYPE=image/png:https://westernassetprotection.com/wp-content/uploads/2023/06/MedicareCenter.png
END:VEVENT
BEGIN:VEVENT
DTSTART;TZID=America/Phoenix:20230719T110000
DTEND;TZID=America/Phoenix:20230719T120000
DTSTAMP:20260422T223541
CREATED:20230713T173908Z
LAST-MODIFIED:20230713T173908Z
UID:10000154-1689764400-1689768000@westernassetprotection.com
SUMMARY:IMG MedicareCENTER Call Recording Training
DESCRIPTION:Register HERE > \n  \nStay compliant. Learn how to use your MedicareCENTER phone number to record and store your calls in MedicareCENTER. \nLearn how to record and store phone calls inside MedicareCENTER. We will demonstrate initiating a call on your computer and mobile app\, how to start recording during a call\, and how to save your recorded calls in a client profile.
URL:https://westernassetprotection.com/event/img-medicarecenter-call-recording-training-2/
CATEGORIES:MedicareCENTER
ATTACH;FMTTYPE=image/png:https://westernassetprotection.com/wp-content/uploads/2023/06/MedicareCenter.png
END:VEVENT
BEGIN:VEVENT
DTSTART;TZID=America/Phoenix:20230718T090000
DTEND;TZID=America/Phoenix:20230723T100000
DTSTAMP:20260422T223541
CREATED:20230713T154730Z
LAST-MODIFIED:20230713T155156Z
UID:10000152-1689670800-1690106400@westernassetprotection.com
SUMMARY:MedicareCENTER LeadCENTER Training - Recommended
DESCRIPTION:Register HERE > \n  \nOrder Health & Life leads and receive real-time leads. Learn how health leads are transferred and managed in MedicareCENTER. \nLeadCENTER is your one-stop shop for high-quality health and life leads! In this webinar\, we will review how to order leads\, set up real-time campaigns\, and how to manage your leads.
URL:https://westernassetprotection.com/event/medicarecenter-lead-center-training-recommended/
CATEGORIES:MedicareCENTER
ATTACH;FMTTYPE=image/png:https://westernassetprotection.com/wp-content/uploads/2023/06/MedicareCenter.png
END:VEVENT
BEGIN:VEVENT
DTSTART;TZID=America/Phoenix:20230713T110000
DTEND;TZID=America/Phoenix:20230713T120000
DTSTAMP:20260422T223541
CREATED:20230712T213243Z
LAST-MODIFIED:20230712T214618Z
UID:10000150-1689246000-1689249600@westernassetprotection.com
SUMMARY:MedicareCENTER Scope of Appointment & Quote & Enroll
DESCRIPTION:Register HERE > \n  \nTrack Your Sales Process. It is recommended you attend an overview training before attending this webinar. \n\n\nIMG will demonstrate how to complete a Scope of Appointment\, Quote Medicare Advantage plans and take an enrollment. We will discuss how to quote Medicare Supplements and ancillary products in CSG APP.
URL:https://westernassetprotection.com/event/medicarecenter-scope-of-appointment-quote-enroll-2/
CATEGORIES:MedicareCENTER
ATTACH;FMTTYPE=image/png:https://westernassetprotection.com/wp-content/uploads/2023/06/MedicareCenter.png
END:VEVENT
END:VCALENDAR