BEGIN:VCALENDAR
VERSION:2.0
PRODID:-//Western Asset Protection - ECPv6.15.18//NONSGML v1.0//EN
CALSCALE:GREGORIAN
METHOD:PUBLISH
X-ORIGINAL-URL:https://westernassetprotection.com
X-WR-CALDESC:Events for Western Asset Protection
REFRESH-INTERVAL;VALUE=DURATION:PT1H
X-Robots-Tag:noindex
X-PUBLISHED-TTL:PT1H
BEGIN:VTIMEZONE
TZID:America/Phoenix
BEGIN:STANDARD
TZOFFSETFROM:-0700
TZOFFSETTO:-0700
TZNAME:MST
DTSTART:20220101T000000
END:STANDARD
END:VTIMEZONE
BEGIN:VEVENT
DTSTART;TZID=America/Phoenix:20260414T110000
DTEND;TZID=America/Phoenix:20260414T120000
DTSTAMP:20260420T121847
CREATED:20250528T202645Z
LAST-MODIFIED:20250630T152049Z
UID:10001226-1776164400-1776168000@westernassetprotection.com
SUMMARY:Talk-O Tuesday
DESCRIPTION:Register HERE > \n  \nOn the 2nd Tuesday of every month\, we invite you to join the discussion around anything and everything related to being in business in the Medicare space. Boost your business success! Join the WAP Team for Talk-O Tuesday\, a chance to connect with our National FMO Sales\, Compliance\, and Marketing Leaders. \n\nBring your questions and your ideas and be part of the conversation.\nPerfect for refining your strategies and staying updated on market trends!\n\n  \nWe look forward to seeing you there.
URL:https://westernassetprotection.com/event/talk-o-tuesday-13/2026-04-14/
CATEGORIES:Talk-O Tuesday
END:VEVENT
BEGIN:VEVENT
DTSTART;TZID=America/Phoenix:20260310T110000
DTEND;TZID=America/Phoenix:20260310T120000
DTSTAMP:20260420T121847
CREATED:20250528T202645Z
LAST-MODIFIED:20250630T152049Z
UID:10001225-1773140400-1773144000@westernassetprotection.com
SUMMARY:Talk-O Tuesday
DESCRIPTION:Register HERE > \n  \nOn the 2nd Tuesday of every month\, we invite you to join the discussion around anything and everything related to being in business in the Medicare space. Boost your business success! Join the WAP Team for Talk-O Tuesday\, a chance to connect with our National FMO Sales\, Compliance\, and Marketing Leaders. \n\nBring your questions and your ideas and be part of the conversation.\nPerfect for refining your strategies and staying updated on market trends!\n\n  \nWe look forward to seeing you there.
URL:https://westernassetprotection.com/event/talk-o-tuesday-13/2026-03-10/
CATEGORIES:Talk-O Tuesday
END:VEVENT
BEGIN:VEVENT
DTSTART;TZID=America/Phoenix:20260210T110000
DTEND;TZID=America/Phoenix:20260210T120000
DTSTAMP:20260420T121847
CREATED:20250528T202645Z
LAST-MODIFIED:20250630T152049Z
UID:10001224-1770721200-1770724800@westernassetprotection.com
SUMMARY:Talk-O Tuesday
DESCRIPTION:Register HERE > \n  \nOn the 2nd Tuesday of every month\, we invite you to join the discussion around anything and everything related to being in business in the Medicare space. Boost your business success! Join the WAP Team for Talk-O Tuesday\, a chance to connect with our National FMO Sales\, Compliance\, and Marketing Leaders. \n\nBring your questions and your ideas and be part of the conversation.\nPerfect for refining your strategies and staying updated on market trends!\n\n  \nWe look forward to seeing you there.
URL:https://westernassetprotection.com/event/talk-o-tuesday-13/2026-02-10/
CATEGORIES:Talk-O Tuesday
END:VEVENT
BEGIN:VEVENT
DTSTART;TZID=America/Phoenix:20260113T110000
DTEND;TZID=America/Phoenix:20260113T120000
DTSTAMP:20260420T121847
CREATED:20251230T164146Z
LAST-MODIFIED:20251230T164147Z
UID:10001223-1768302000-1768305600@westernassetprotection.com
SUMMARY:Talk-O Tuesday - Connect with our National FMO Sales\, Compliance\, and Marketing Leaders
DESCRIPTION:Register HERE > \n  \nOn the 2nd Tuesday of every month\, we invite you to join the discussion around anything and everything related to being in business in the Medicare space. Boost your business success! Join the WAP Team for Talk-O Tuesday\, a chance to connect with our National FMO Sales\, Compliance\, and Marketing Leaders. \n\nBring your questions and your ideas and be part of the conversation.\nPerfect for refining your strategies and staying up to date on market trends!\n\n  \nWe look forward to seeing you there.
URL:https://westernassetprotection.com/event/talk-o-tuesday-13-2/
CATEGORIES:Talk-O Tuesday
END:VEVENT
BEGIN:VEVENT
DTSTART;TZID=America/Phoenix:20251209T110000
DTEND;TZID=America/Phoenix:20251209T120000
DTSTAMP:20260420T121847
CREATED:20250528T202645Z
LAST-MODIFIED:20250630T152049Z
UID:10001222-1765278000-1765281600@westernassetprotection.com
SUMMARY:Talk-O Tuesday
DESCRIPTION:Register HERE > \n  \nOn the 2nd Tuesday of every month\, we invite you to join the discussion around anything and everything related to being in business in the Medicare space. Boost your business success! Join the WAP Team for Talk-O Tuesday\, a chance to connect with our National FMO Sales\, Compliance\, and Marketing Leaders. \n\nBring your questions and your ideas and be part of the conversation.\nPerfect for refining your strategies and staying updated on market trends!\n\n  \nWe look forward to seeing you there.
URL:https://westernassetprotection.com/event/talk-o-tuesday-13/2025-12-09/
CATEGORIES:Talk-O Tuesday
END:VEVENT
BEGIN:VEVENT
DTSTART;TZID=America/Phoenix:20251111T110000
DTEND;TZID=America/Phoenix:20251111T120000
DTSTAMP:20260420T121847
CREATED:20251105T205306Z
LAST-MODIFIED:20251105T232238Z
UID:10001355-1762858800-1762862400@westernassetprotection.com
SUMMARY:Talk-O Tuesday
DESCRIPTION:Register HERE >\n\n\nTalk-O Tuesday with WAP \n\n\n\n\nOn the 2nd Tuesday of every month\, we invite you to join the discussion around anything and everything related to being in business in the Medicare space. \nThe WAP Team provides relevant\, industry-related information you need to know now. \nBring your questions and your ideas and be part of the conversation. We can’t wait to see you there.
URL:https://westernassetprotection.com/event/talk-o-tuesday-17/
CATEGORIES:Talk-O Tuesday
END:VEVENT
BEGIN:VEVENT
DTSTART;TZID=America/Phoenix:20251111T110000
DTEND;TZID=America/Phoenix:20251111T120000
DTSTAMP:20260420T121847
CREATED:20250528T202645Z
LAST-MODIFIED:20250630T152049Z
UID:10001221-1762858800-1762862400@westernassetprotection.com
SUMMARY:Talk-O Tuesday
DESCRIPTION:Register HERE > \n  \nOn the 2nd Tuesday of every month\, we invite you to join the discussion around anything and everything related to being in business in the Medicare space. Boost your business success! Join the WAP Team for Talk-O Tuesday\, a chance to connect with our National FMO Sales\, Compliance\, and Marketing Leaders. \n\nBring your questions and your ideas and be part of the conversation.\nPerfect for refining your strategies and staying updated on market trends!\n\n  \nWe look forward to seeing you there.
URL:https://westernassetprotection.com/event/talk-o-tuesday-13/2025-11-11/
CATEGORIES:Talk-O Tuesday
END:VEVENT
BEGIN:VEVENT
DTSTART;TZID=America/Phoenix:20251014T110000
DTEND;TZID=America/Phoenix:20251014T120000
DTSTAMP:20260420T121847
CREATED:20250528T202645Z
LAST-MODIFIED:20250630T152049Z
UID:10001220-1760439600-1760443200@westernassetprotection.com
SUMMARY:Talk-O Tuesday
DESCRIPTION:Register HERE > \n  \nOn the 2nd Tuesday of every month\, we invite you to join the discussion around anything and everything related to being in business in the Medicare space. Boost your business success! Join the WAP Team for Talk-O Tuesday\, a chance to connect with our National FMO Sales\, Compliance\, and Marketing Leaders. \n\nBring your questions and your ideas and be part of the conversation.\nPerfect for refining your strategies and staying updated on market trends!\n\n  \nWe look forward to seeing you there.
URL:https://westernassetprotection.com/event/talk-o-tuesday-13/2025-10-14/
CATEGORIES:Talk-O Tuesday
END:VEVENT
BEGIN:VEVENT
DTSTART;TZID=America/Phoenix:20250812T110000
DTEND;TZID=America/Phoenix:20250812T120000
DTSTAMP:20260420T121847
CREATED:20250528T202645Z
LAST-MODIFIED:20250630T152049Z
UID:10001218-1754996400-1755000000@westernassetprotection.com
SUMMARY:Talk-O Tuesday
DESCRIPTION:Register HERE > \n  \nOn the 2nd Tuesday of every month\, we invite you to join the discussion around anything and everything related to being in business in the Medicare space. Boost your business success! Join the WAP Team for Talk-O Tuesday\, a chance to connect with our National FMO Sales\, Compliance\, and Marketing Leaders. \n\nBring your questions and your ideas and be part of the conversation.\nPerfect for refining your strategies and staying updated on market trends!\n\n  \nWe look forward to seeing you there.
URL:https://westernassetprotection.com/event/talk-o-tuesday-13/2025-08-12/
CATEGORIES:Talk-O Tuesday
END:VEVENT
BEGIN:VEVENT
DTSTART;TZID=America/Phoenix:20250708T110000
DTEND;TZID=America/Phoenix:20250708T120000
DTSTAMP:20260420T121847
CREATED:20250528T202645Z
LAST-MODIFIED:20250630T152049Z
UID:10001217-1751972400-1751976000@westernassetprotection.com
SUMMARY:Talk-O Tuesday
DESCRIPTION:Register HERE > \n  \nOn the 2nd Tuesday of every month\, we invite you to join the discussion around anything and everything related to being in business in the Medicare space. Boost your business success! Join the WAP Team for Talk-O Tuesday\, a chance to connect with our National FMO Sales\, Compliance\, and Marketing Leaders. \n\nBring your questions and your ideas and be part of the conversation.\nPerfect for refining your strategies and staying updated on market trends!\n\n  \nWe look forward to seeing you there.
URL:https://westernassetprotection.com/event/talk-o-tuesday-13/2025-07-08/
CATEGORIES:Talk-O Tuesday
END:VEVENT
BEGIN:VEVENT
DTSTART;TZID=America/Phoenix:20250610T110000
DTEND;TZID=America/Phoenix:20250610T120000
DTSTAMP:20260420T121847
CREATED:20250528T202645Z
LAST-MODIFIED:20250630T152049Z
UID:10001187-1749553200-1749556800@westernassetprotection.com
SUMMARY:Talk-O Tuesday
DESCRIPTION:Register HERE > \n  \nOn the 2nd Tuesday of every month\, we invite you to join the discussion around anything and everything related to being in business in the Medicare space. Boost your business success! Join the WAP Team for Talk-O Tuesday\, a chance to connect with our National FMO Sales\, Compliance\, and Marketing Leaders. \n\nBring your questions and your ideas and be part of the conversation.\nPerfect for refining your strategies and staying updated on market trends!\n\n  \nWe look forward to seeing you there.
URL:https://westernassetprotection.com/event/talk-o-tuesday-13/2025-06-10/
CATEGORIES:Talk-O Tuesday
END:VEVENT
BEGIN:VEVENT
DTSTART;TZID=America/Phoenix:20250513T110000
DTEND;TZID=America/Phoenix:20250513T120000
DTSTAMP:20260420T121847
CREATED:20250331T195520Z
LAST-MODIFIED:20250512T161316Z
UID:10001176-1747134000-1747137600@westernassetprotection.com
SUMMARY:Talk-O Tuesday - Join us for valuable insights and industry trends
DESCRIPTION:Subject: Join Us for Talk-O Tuesday! \n  \nGreetings\, Agents and Agency Partners\, \nWe invite you to our upcoming Talk-O Tuesday\, the fastest hour in Medicare! \nThis monthly discussion is essential for agents like you. It offers valuable insights and updates on important industry trends. Don’t miss this opportunity to stay informed and enhance your knowledge. \nRegister today!
URL:https://westernassetprotection.com/event/talk-o-tuesday-12/2025-05-13/
CATEGORIES:Talk-O Tuesday
END:VEVENT
BEGIN:VEVENT
DTSTART;TZID=America/Phoenix:20250408T110000
DTEND;TZID=America/Phoenix:20250408T120000
DTSTAMP:20260420T121847
CREATED:20250331T195520Z
LAST-MODIFIED:20250512T161316Z
UID:10001156-1744110000-1744113600@westernassetprotection.com
SUMMARY:Talk-O Tuesday - Join us for valuable insights and industry trends
DESCRIPTION:Subject: Join Us for Talk-O Tuesday! \n  \nGreetings\, Agents and Agency Partners\, \nWe invite you to our upcoming Talk-O Tuesday\, the fastest hour in Medicare! \nThis monthly discussion is essential for agents like you. It offers valuable insights and updates on important industry trends. Don’t miss this opportunity to stay informed and enhance your knowledge. \nRegister today!
URL:https://westernassetprotection.com/event/talk-o-tuesday-12/2025-04-08/
CATEGORIES:Talk-O Tuesday
END:VEVENT
BEGIN:VEVENT
DTSTART;TZID=America/Phoenix:20250311T110000
DTEND;TZID=America/Phoenix:20250311T120000
DTSTAMP:20260420T121847
CREATED:20250203T175023Z
LAST-MODIFIED:20250203T175024Z
UID:10001125-1741690800-1741694400@westernassetprotection.com
SUMMARY:Talk-O Tuesday
DESCRIPTION:Greetings Agents & Agency Partners\, \nJoin us for Talk-O Tuesday! The fastest hour in Medicare. \nWe’re reaching out to remind you about our upcoming Talk-O Tuesday\, one of the most important monthly discussions for agents like you! This is a great chance to gain valuable insights and stay updated on essential industry trends. \nRegister today!
URL:https://westernassetprotection.com/event/talk-o-tuesday-11/
CATEGORIES:Talk-O Tuesday
END:VEVENT
BEGIN:VEVENT
DTSTART;TZID=America/Phoenix:20250211T110000
DTEND;TZID=America/Phoenix:20250211T120000
DTSTAMP:20260420T121847
CREATED:20250123T234016Z
LAST-MODIFIED:20250203T172939Z
UID:10001117-1739271600-1739275200@westernassetprotection.com
SUMMARY:Talk-O Tuesday
DESCRIPTION:Greetings Agents & Agency Partners\, \nJoin us for Talk-O Tuesday! The fastest hour in Medicare. \nWe’re reaching out to remind you about our upcoming Talk-O Tuesday\, one of the most important monthly discussions for agents like you! This is a great chance to gain valuable insights and stay updated on essential industry trends. \nRegister today!
URL:https://westernassetprotection.com/event/talk-o-tuesday-10/
CATEGORIES:Talk-O Tuesday
END:VEVENT
BEGIN:VEVENT
DTSTART;TZID=America/Phoenix:20250114T110000
DTEND;TZID=America/Phoenix:20250114T120000
DTSTAMP:20260420T121847
CREATED:20250114T052104Z
LAST-MODIFIED:20250114T052104Z
UID:10001091-1736852400-1736856000@westernassetprotection.com
SUMMARY:Talk-O Tuesday
DESCRIPTION:Register Now > \nGreetings Agents & Agency Partners\, \nIt’s Almost Time for Talk-O Tuesday! \nWe’re reaching out to remind you about our upcoming Talk-O Tuesday\, one of the most important monthly discussions for agents like you! As we kick off the New Year\, this is a great chance to gain valuable insights and stay updated on essential industry trends.  Register today! \nDiscussion Highlights:  \n\nCommission Tips with Nic LeClair\n\nCompliance Topics – \n\nNew proposed rules\nSEP DST going away\nOEP Compliance reminders\n\nAnd much more
URL:https://westernassetprotection.com/event/talk-o-tuesday-9/
CATEGORIES:Talk-O Tuesday
END:VEVENT
BEGIN:VEVENT
DTSTART;TZID=America/Phoenix:20240910T110000
DTEND;TZID=America/Phoenix:20240910T120000
DTSTAMP:20260420T121847
CREATED:20240806T235224Z
LAST-MODIFIED:20240806T235225Z
UID:10000699-1725966000-1725969600@westernassetprotection.com
SUMMARY:Talk-O Tuesday - Postponed Due to WAPCon - We'll see you in October
DESCRIPTION:-Postponed- \nTalk-O Tuesday with WAP \nOn the 2nd Tuesday of every month\, we invite you to join the discussion around anything and everything related to being in business in the Medicare space. \nThe WAP Team provides relevant\, industry-related information you need to know now. \nBring your questions and your ideas and be part of the conversation. We can’t wait to see you there. \nRegister today!
URL:https://westernassetprotection.com/event/talk-o-tuesday-waps-informative-monthly-webinar-6-2/
CATEGORIES:Talk-O Tuesday
END:VEVENT
BEGIN:VEVENT
DTSTART;TZID=America/Phoenix:20240709T110000
DTEND;TZID=America/Phoenix:20240709T120000
DTSTAMP:20260420T121847
CREATED:20240213T202759Z
LAST-MODIFIED:20240213T202759Z
UID:10000388-1720522800-1720526400@westernassetprotection.com
SUMMARY:Talk-O Tuesday - WAPs Informative Monthly Webinar
DESCRIPTION:Register HERE > \n  \nTalk-O Tuesday with WAP \nOn the 2nd Tuesday of every month\, we invite you to join the discussion around anything and everything related to being in business in the Medicare space. \nThe WAP Team provides relevant\, industry-related information you need to know now. \nBring your questions and your ideas and be part of the conversation. We can’t wait to see you there. \nRegister today!
URL:https://westernassetprotection.com/event/talk-o-tuesday-waps-informative-monthly-webinar-5/
CATEGORIES:Talk-O Tuesday
END:VEVENT
BEGIN:VEVENT
DTSTART;TZID=America/Phoenix:20240611T110000
DTEND;TZID=America/Phoenix:20240611T120000
DTSTAMP:20260420T121847
CREATED:20240213T202726Z
LAST-MODIFIED:20240213T202726Z
UID:10000387-1718103600-1718107200@westernassetprotection.com
SUMMARY:Talk-O Tuesday - WAPs Informative Monthly Webinar
DESCRIPTION:Register HERE > \n  \nTalk-O Tuesday with WAP \nOn the 2nd Tuesday of every month\, we invite you to join the discussion around anything and everything related to being in business in the Medicare space. \nThe WAP Team provides relevant\, industry-related information you need to know now. \nBring your questions and your ideas and be part of the conversation. We can’t wait to see you there. \nRegister today!
URL:https://westernassetprotection.com/event/talk-o-tuesday-waps-informative-monthly-webinar-4/
CATEGORIES:Talk-O Tuesday
END:VEVENT
BEGIN:VEVENT
DTSTART;TZID=America/Phoenix:20240514T110000
DTEND;TZID=America/Phoenix:20240514T120000
DTSTAMP:20260420T121847
CREATED:20240213T202601Z
LAST-MODIFIED:20240213T202601Z
UID:10000386-1715684400-1715688000@westernassetprotection.com
SUMMARY:Talk-O Tuesday - WAPs Informative Monthly Webinar
DESCRIPTION:Register HERE > \n  \nTalk-O Tuesday with WAP \nOn the 2nd Tuesday of every month\, we invite you to join the discussion around anything and everything related to being in business in the Medicare space. \nThe WAP Team provides relevant\, industry-related information you need to know now. \nBring your questions and your ideas and be part of the conversation. We can’t wait to see you there.
URL:https://westernassetprotection.com/event/talk-o-tuesday-waps-informative-monthly-webinar-3/
CATEGORIES:Talk-O Tuesday
END:VEVENT
BEGIN:VEVENT
DTSTART;TZID=America/Phoenix:20240409T110000
DTEND;TZID=America/Phoenix:20240409T120000
DTSTAMP:20260420T121847
CREATED:20240213T202253Z
LAST-MODIFIED:20240213T202253Z
UID:10000385-1712660400-1712664000@westernassetprotection.com
SUMMARY:Talk-O Tuesday - WAPs Informative Monthly Webinar
DESCRIPTION:Register HERE > \n  \nTalk-O Tuesday with WAP \nOn the 2nd Tuesday of every month\, we invite you to join the discussion around anything and everything related to being in business in the Medicare space. \nThe WAP Team provides relevant\, industry-related information you need to know now. \nBring your questions and your ideas and be part of the conversation. We can’t wait to see you there.
URL:https://westernassetprotection.com/event/talk-o-tuesday-waps-informative-monthly-webinar-2/
CATEGORIES:Talk-O Tuesday
END:VEVENT
BEGIN:VEVENT
DTSTART;TZID=America/Phoenix:20240312T110000
DTEND;TZID=America/Phoenix:20240312T120000
DTSTAMP:20260420T121847
CREATED:20240213T202054Z
LAST-MODIFIED:20240213T202054Z
UID:10000384-1710241200-1710244800@westernassetprotection.com
SUMMARY:Talk-O Tuesday - WAPs Informative Monthly Webinar
DESCRIPTION:Register HERE > \n  \nTalk-O Tuesday with WAP \nOn the 2nd Tuesday of every month\, we invite you to join the discussion around anything and everything related to being in business in the Medicare space. \nThe WAP Team provides relevant\, industry-related information you need to know now. \nBring your questions and your ideas and be part of the conversation. We can’t wait to see you there.
URL:https://westernassetprotection.com/event/talk-o-tuesday-waps-informative-monthly-webinar/
CATEGORIES:Talk-O Tuesday
END:VEVENT
BEGIN:VEVENT
DTSTART;TZID=America/Phoenix:20240213T110000
DTEND;TZID=America/Phoenix:20240213T120000
DTSTAMP:20260420T121847
CREATED:20240212T004905Z
LAST-MODIFIED:20240212T004905Z
UID:10000359-1707822000-1707825600@westernassetprotection.com
SUMMARY:Talk-O Tuesday
DESCRIPTION:Click here to register > \n  \nTalk-O Tuesday with WAP \nOn the 2nd Tuesday of every month\, we invite you to join the discussion around anything and everything related to being in business in the Medicare space. \nThe WAP Team provides relevant\, industry-related information you need to know now. \nBring your questions and your ideas and be part of the conversation. \nWe can’t wait to see you there.
URL:https://westernassetprotection.com/event/talk-o-tuesday-8/
CATEGORIES:Talk-O Tuesday
END:VEVENT
BEGIN:VEVENT
DTSTART;TZID=America/Phoenix:20240109T110000
DTEND;TZID=America/Phoenix:20240109T120000
DTSTAMP:20260420T121847
CREATED:20240109T163456Z
LAST-MODIFIED:20240109T163456Z
UID:10000331-1704798000-1704801600@westernassetprotection.com
SUMMARY:Talk-O Tuesday - Open Forum Discussion
DESCRIPTION:Register HERE > \n  \nEvery second Tuesday of the month\, join us for Talk-O Tuesday! \nThe “Fastest Hour in Medicare” is ready to hear from you! \nOpen Forum Discussion\nWe invite you to participate in May Talk-O Tuesday. It’s all about the TALK\, and we want to HEAR from you!\nJoin us for this open forum discussion for WAP agents to chime in and share.\n\nWe hope to see you there!
URL:https://westernassetprotection.com/event/talk-o-tuesday-open-forum-discussion/
CATEGORIES:Talk-O Tuesday
END:VEVENT
BEGIN:VEVENT
DTSTART;TZID=America/Phoenix:20231212T110000
DTEND;TZID=America/Phoenix:20231212T120000
DTSTAMP:20260420T121847
CREATED:20230822T165840Z
LAST-MODIFIED:20230822T165840Z
UID:10000176-1702378800-1702382400@westernassetprotection.com
SUMMARY:Talk-O Tuesday
DESCRIPTION:Register HERE > \n  \n\nTalk-O Tuesday with WAP\n\n\nOn the 2nd Tuesday of every month\, we invite you to join the discussion around anything and everything related to being in business in the Medicare space. \nThe WAP Team provides relevant\, industry-related information you need to know now. \nBring your questions and your ideas and be part of the conversation. We can’t wait to see you there.
URL:https://westernassetprotection.com/event/talk-o-tuesday-7/
CATEGORIES:Talk-O Tuesday
ATTACH;FMTTYPE=image/jpeg:https://westernassetprotection.com/wp-content/uploads/2023/06/WAP_Talk-O-Tuesday-lockup.jpg
END:VEVENT
BEGIN:VEVENT
DTSTART;TZID=America/Phoenix:20231114T110000
DTEND;TZID=America/Phoenix:20231114T120000
DTSTAMP:20260420T121847
CREATED:20230822T164915Z
LAST-MODIFIED:20230822T164915Z
UID:10000174-1699959600-1699963200@westernassetprotection.com
SUMMARY:Talk-O Tuesday
DESCRIPTION:Register HERE > \n  \n\nTalk-O Tuesday with WAP\n\n\nOn the 2nd Tuesday of every month\, we invite you to join the discussion around anything and everything related to being in business in the Medicare space. \nThe WAP Team provides relevant\, industry-related information you need to know now. \nBring your questions and your ideas and be part of the conversation. We can’t wait to see you there.
URL:https://westernassetprotection.com/event/talk-o-tuesday-5/
CATEGORIES:Talk-O Tuesday
ATTACH;FMTTYPE=image/jpeg:https://westernassetprotection.com/wp-content/uploads/2023/06/WAP_Talk-O-Tuesday-lockup.jpg
END:VEVENT
BEGIN:VEVENT
DTSTART;TZID=America/Phoenix:20231010T110000
DTEND;TZID=America/Phoenix:20231010T120000
DTSTAMP:20260420T121847
CREATED:20230822T164709Z
LAST-MODIFIED:20230822T164709Z
UID:10000173-1696935600-1696939200@westernassetprotection.com
SUMMARY:Talk-O Tuesday
DESCRIPTION:Register HERE > \n  \n\nTalk-O Tuesday with WAP\n\n\nOn the 2nd Tuesday of every month\, we invite you to join the discussion around anything and everything related to being in business in the Medicare space. \nThe WAP Team provides relevant\, industry-related information you need to know now. \nBring your questions and your ideas and be part of the conversation. We can’t wait to see you there.
URL:https://westernassetprotection.com/event/talk-o-tuesday-4/
CATEGORIES:Talk-O Tuesday
END:VEVENT
BEGIN:VEVENT
DTSTART;TZID=America/Phoenix:20230912T110000
DTEND;TZID=America/Phoenix:20230912T120000
DTSTAMP:20260420T121847
CREATED:20230822T164218Z
LAST-MODIFIED:20230906T175651Z
UID:10000172-1694516400-1694520000@westernassetprotection.com
SUMMARY:*Canceled* Talk-O Tuesday - Highlights: AEP\, Compliance\, WAPCON 2023
DESCRIPTION:*Due to unforeseen circumstances\, this webinar is canceled* \n  \n\nTalk-O Tuesday with WAP\n\n\n\nOn the 2nd Tuesday of every month\, we invite you to join the discussion around anything and everything related to being in business in the Medicare space. \nThe WAP Team provides relevant\, industry-related information you need to know now. \nBring your questions and your ideas and be part of the conversation. We can’t wait to see you there.
URL:https://westernassetprotection.com/event/talk-o-tuesday-highlights-aep-compliance-wapcon-2023/
CATEGORIES:Talk-O Tuesday
ATTACH;FMTTYPE=image/jpeg:https://westernassetprotection.com/wp-content/uploads/2023/06/WAP_Talk-O-Tuesday-lockup.jpg
END:VEVENT
BEGIN:VEVENT
DTSTART;TZID=America/Phoenix:20230808T110000
DTEND;TZID=America/Phoenix:20230808T120000
DTSTAMP:20260420T121847
CREATED:20230801T204047Z
LAST-MODIFIED:20230801T204047Z
UID:10000166-1691492400-1691496000@westernassetprotection.com
SUMMARY:Talk-O Tuesday
DESCRIPTION:Register Here > \n  \nHave you heard? \nThere have been some Marketing Compliance changes by CMS that are very important to be aware of. Additionally\, the WAP team is collecting noteworthy highlights from carrier First Looks as well as best practices for retaining your book during AEP. Join us to stay up-to-date on the latest industry insights. \nGet the latest from WAP experts to help grow your business and serve your clients. \nHighlights Include: \n\nMarketing Compliance Changes\nFirst Looks Highlights\nRetain your book\n\nRegister today!
URL:https://westernassetprotection.com/event/talk-o-tuesday-3/
CATEGORIES:Talk-O Tuesday
ATTACH;FMTTYPE=image/jpeg:https://westernassetprotection.com/wp-content/uploads/2023/06/WAP_Talk-O-Tuesday-lockup.jpg
END:VEVENT
BEGIN:VEVENT
DTSTART;TZID=America/Phoenix:20230711T110000
DTEND;TZID=America/Phoenix:20230711T120000
DTSTAMP:20260420T121847
CREATED:20230623T002955Z
LAST-MODIFIED:20230623T003114Z
UID:10000115-1689073200-1689076800@westernassetprotection.com
SUMMARY:Talk-O Tuesday - Commissions
DESCRIPTION:Register HERE > \n  \nJoin us for Talk-O Tuesday\, July 11th\, from 11-12 PM\n\nLet’s talk commissions\nTo ensure accurate commission tracking\, it’s crucial to maintain well-organized commission data year-round. Nic LeClair\, WAP AP/AR Manager\, has outlined some helpful tips and best practices just for you.\n\nGet the latest from WAP experts to help grow your business and serve your clients. Register today!\n\n\nHighlights Include:\n\nTrack your commission data\nSolving commission discrepancies\nKeep organized records\n\n  \nSee you on the call!
URL:https://westernassetprotection.com/event/talk-o-tuesday-2/
CATEGORIES:Talk-O Tuesday
ATTACH;FMTTYPE=image/jpeg:https://westernassetprotection.com/wp-content/uploads/2023/06/WAP_Talk-O-Tuesday-lockup.jpg
END:VEVENT
END:VCALENDAR