BEGIN:VCALENDAR
VERSION:2.0
PRODID:-//Western Asset Protection - ECPv6.15.18//NONSGML v1.0//EN
CALSCALE:GREGORIAN
METHOD:PUBLISH
X-WR-CALNAME:Western Asset Protection
X-ORIGINAL-URL:https://westernassetprotection.com
X-WR-CALDESC:Events for Western Asset Protection
REFRESH-INTERVAL;VALUE=DURATION:PT1H
X-Robots-Tag:noindex
X-PUBLISHED-TTL:PT1H
BEGIN:VTIMEZONE
TZID:America/Phoenix
BEGIN:STANDARD
TZOFFSETFROM:-0700
TZOFFSETTO:-0700
TZNAME:MST
DTSTART:20250101T000000
END:STANDARD
END:VTIMEZONE
BEGIN:VEVENT
DTSTART;TZID=America/Phoenix:20260105T130000
DTEND;TZID=America/Phoenix:20260105T140000
DTSTAMP:20260420T222445
CREATED:20251230T171522Z
LAST-MODIFIED:20251230T172039Z
UID:10001394-1767618000-1767621600@westernassetprotection.com
SUMMARY:The Agency Leadership Chat with Paul Rose
DESCRIPTION:Join the Agency Leadership Chat\, an exclusive opportunity for valued agency principals to engage in meaningful discussions about pressing issues that impact your business. This exclusive forum is designed not only to address your most urgent concerns but also to provide the insights and strategies necessary to accelerate your agency’s growth. Don’t miss out on the chance to collaborate with industry leaders and take your agency to the next level! \n\nInterested in attending? Let us know. Contact our support team at support@westernassetprotection.com.\nJoin us for this exclusive thought-leadership monthly discussion with Paul Rose\, David Wessling\, and Julie Griffith. Gain valuable insights and proven strategies to grow your agency.\n\nDon’t miss this great conversation!\nRegister today!
URL:https://westernassetprotection.com/event/the-agency-leadership-chat-with-paul-rose/2026-01-05/
CATEGORIES:Western Asset Protection Training
END:VEVENT
BEGIN:VEVENT
DTSTART;TZID=America/Phoenix:20260115T100000
DTEND;TZID=America/Phoenix:20260115T110000
DTSTAMP:20260420T222445
CREATED:20260113T203600Z
LAST-MODIFIED:20260113T203710Z
UID:10001405-1768471200-1768474800@westernassetprotection.com
SUMMARY:WAP & SCAN OEP Training - What you need to Know
DESCRIPTION:Register HERE > \n  \nJoin the SCAN Health Plan team and Western Asset Protection for a concise OEP training created specifically for you.\nWe’ll cover key updates\, important reminders\, and guidance to help you stay compliant and support your clients throughout the Open Enrollment Period. \nDefinitely worth your time. Register now.
URL:https://westernassetprotection.com/event/wap-scan-oep-training-what-you-need-to-know/
CATEGORIES:Western Asset Protection Training
END:VEVENT
BEGIN:VEVENT
DTSTART;TZID=America/Phoenix:20260122T100000
DTEND;TZID=America/Phoenix:20260122T110000
DTSTAMP:20260420T222445
CREATED:20260114T002259Z
LAST-MODIFIED:20260114T002259Z
UID:10001428-1769076000-1769079600@westernassetprotection.com
SUMMARY:CareMore Health Provider Group  (Formerly Carelon Health)   Expanding in Maricopa County
DESCRIPTION:Register HERE > \nCareMore Health is expanding in Maricopa County\, and we want you to be ready. \nJoin Western Asset Protection and CareMore Health for a fast\, practical training that helps you: \n\nCareMore Health’s expansion of its network into Maricopa County complements its existing presence in Pima County. Brokers now have the opportunity to offer SCAN\, Verda HealthCare of AZ\, and Wellpoint plans in Maricopa County\, expanding their options and providing better choices for their clients.\nUnderstand CareMore Health’s value-based care model and why it drives better outcomes and retention.\nUse CareMore Health’s translation services to confidently support multilingual clients.\nGrow your book by partnering with CareMore Health. Clear steps\, real opportunities.\n\n\nThis session is built for agents serving clients across preventive care and chronic conditions. You’ll leave with talking points\, enrollment tips\, and network highlights you can use right away.
URL:https://westernassetprotection.com/event/caremore-health-provider-group-formerly-carelon-health-expanding-in-maricopa-county/
CATEGORIES:Western Asset Protection Training
END:VEVENT
END:VCALENDAR