BEGIN:VCALENDAR
VERSION:2.0
PRODID:-//Western Asset Protection - ECPv6.15.18//NONSGML v1.0//EN
CALSCALE:GREGORIAN
METHOD:PUBLISH
X-ORIGINAL-URL:https://westernassetprotection.com
X-WR-CALDESC:Events for Western Asset Protection
REFRESH-INTERVAL;VALUE=DURATION:PT1H
X-Robots-Tag:noindex
X-PUBLISHED-TTL:PT1H
BEGIN:VTIMEZONE
TZID:America/Phoenix
BEGIN:STANDARD
TZOFFSETFROM:-0700
TZOFFSETTO:-0700
TZNAME:MST
DTSTART:20220101T000000
END:STANDARD
END:VTIMEZONE
BEGIN:VEVENT
DTSTART;TZID=America/Phoenix:20230830T090000
DTEND;TZID=America/Phoenix:20230830T150000
DTSTAMP:20260421T142922
CREATED:20230727T202825Z
LAST-MODIFIED:20230727T202825Z
UID:10000165-1693386000-1693407600@westernassetprotection.com
SUMMARY:WAP Contracting Open House - In-person & Online
DESCRIPTION:  \n\n\n\n\n\n\n\nValued Agent Partners\, \nJoin us for the WAP Wednesday Contracting Open House \nOur Phoenix office is now open for Agents and Agency Partners who prefer in-person meetings. However\, if you prefer to join online\, we have a specialized contracting team available to provide personalized support during allocated hours. \nThis personal touch allows us to better assist you in overcoming any obstacles you may face in obtaining certifications\, contracting status\, Ready to Sell (RTS) status\, adding states\, and other related matters. Our ultimate goal is to help you achieve a smooth and seamless journey toward a successful year. \n*In-person*\, Wednesdays\, 9 AM – 3 PM\, WAP – Phoenix\, 4550 E Bell Rd Ste 136\, Phoenix\, AZ 85032 \n*Online* – Wednesdays\, 9 AM – 3 PM – Join Online HERE \n\nMeeting ID: 846 5085 5558\nPasscode: 292662\nOne tap mobile\n+16699006833\,\,84650855558# US (San Jose)\n+17193594580\,\,84650855558#
URL:https://westernassetprotection.com/event/wap-contracting-open-house-in-person-online/2023-08-30/
CATEGORIES:Western Asset Protection Training
ATTACH;FMTTYPE=image/svg+xml:https://westernassetprotection.com/wp-content/uploads/2022/11/WAP_colored_Logo.svg
END:VEVENT
BEGIN:VEVENT
DTSTART;TZID=America/Phoenix:20230823T110000
DTEND;TZID=America/Phoenix:20230823T120000
DTSTAMP:20260421T142922
CREATED:20230823T182349Z
LAST-MODIFIED:20230823T182349Z
UID:10000181-1692788400-1692792000@westernassetprotection.com
SUMMARY:*NEW* 2023 WAP Training Series: MedicareCENTER Deep Dive
DESCRIPTION:Register HERE > \n  \nA weekly training series to update brokers on the changes in IMG Technology and Enrollments \nFor WAP agents who use MedicareCENTER\, CSG\, or MedicareAPP (Connecture)\, it is crucial to stay informed about the latest updates from WAP. \n\nRecent platform improvements and compliance regulation changes are essential to learn about. Attending this training series is the perfect way to gain insight into these updates\nHear the latest from Jean Lentsch\, Nathan Clark\, and Cord Moorhead
URL:https://westernassetprotection.com/event/new-2023-wap-training-series-medicarecenter-deep-dive/2023-08-23/
CATEGORIES:Western Asset Protection Training
ATTACH;FMTTYPE=image/png:https://westernassetprotection.com/wp-content/uploads/2023/06/MedicareCenter.png
END:VEVENT
BEGIN:VEVENT
DTSTART;TZID=America/Phoenix:20230823T090000
DTEND;TZID=America/Phoenix:20230823T150000
DTSTAMP:20260421T142922
CREATED:20230727T202825Z
LAST-MODIFIED:20230727T202825Z
UID:10000164-1692781200-1692802800@westernassetprotection.com
SUMMARY:WAP Contracting Open House - In-person & Online
DESCRIPTION:  \n\n\n\n\n\n\n\nValued Agent Partners\, \nJoin us for the WAP Wednesday Contracting Open House \nOur Phoenix office is now open for Agents and Agency Partners who prefer in-person meetings. However\, if you prefer to join online\, we have a specialized contracting team available to provide personalized support during allocated hours. \nThis personal touch allows us to better assist you in overcoming any obstacles you may face in obtaining certifications\, contracting status\, Ready to Sell (RTS) status\, adding states\, and other related matters. Our ultimate goal is to help you achieve a smooth and seamless journey toward a successful year. \n*In-person*\, Wednesdays\, 9 AM – 3 PM\, WAP – Phoenix\, 4550 E Bell Rd Ste 136\, Phoenix\, AZ 85032 \n*Online* – Wednesdays\, 9 AM – 3 PM – Join Online HERE \n\nMeeting ID: 846 5085 5558\nPasscode: 292662\nOne tap mobile\n+16699006833\,\,84650855558# US (San Jose)\n+17193594580\,\,84650855558#
URL:https://westernassetprotection.com/event/wap-contracting-open-house-in-person-online/2023-08-23/
CATEGORIES:Western Asset Protection Training
ATTACH;FMTTYPE=image/svg+xml:https://westernassetprotection.com/wp-content/uploads/2022/11/WAP_colored_Logo.svg
END:VEVENT
BEGIN:VEVENT
DTSTART;TZID=America/Phoenix:20230816T090000
DTEND;TZID=America/Phoenix:20230816T150000
DTSTAMP:20260421T142922
CREATED:20230727T202825Z
LAST-MODIFIED:20230727T202825Z
UID:10000163-1692176400-1692198000@westernassetprotection.com
SUMMARY:WAP Contracting Open House - In-person & Online
DESCRIPTION:  \n\n\n\n\n\n\n\nValued Agent Partners\, \nJoin us for the WAP Wednesday Contracting Open House \nOur Phoenix office is now open for Agents and Agency Partners who prefer in-person meetings. However\, if you prefer to join online\, we have a specialized contracting team available to provide personalized support during allocated hours. \nThis personal touch allows us to better assist you in overcoming any obstacles you may face in obtaining certifications\, contracting status\, Ready to Sell (RTS) status\, adding states\, and other related matters. Our ultimate goal is to help you achieve a smooth and seamless journey toward a successful year. \n*In-person*\, Wednesdays\, 9 AM – 3 PM\, WAP – Phoenix\, 4550 E Bell Rd Ste 136\, Phoenix\, AZ 85032 \n*Online* – Wednesdays\, 9 AM – 3 PM – Join Online HERE \n\nMeeting ID: 846 5085 5558\nPasscode: 292662\nOne tap mobile\n+16699006833\,\,84650855558# US (San Jose)\n+17193594580\,\,84650855558#
URL:https://westernassetprotection.com/event/wap-contracting-open-house-in-person-online/2023-08-16/
CATEGORIES:Western Asset Protection Training
ATTACH;FMTTYPE=image/svg+xml:https://westernassetprotection.com/wp-content/uploads/2022/11/WAP_colored_Logo.svg
END:VEVENT
BEGIN:VEVENT
DTSTART;TZID=America/Phoenix:20230809T090000
DTEND;TZID=America/Phoenix:20230809T150000
DTSTAMP:20260421T142922
CREATED:20230727T202825Z
LAST-MODIFIED:20230727T202825Z
UID:10000162-1691571600-1691593200@westernassetprotection.com
SUMMARY:WAP Contracting Open House - In-person & Online
DESCRIPTION:  \n\n\n\n\n\n\n\nValued Agent Partners\, \nJoin us for the WAP Wednesday Contracting Open House \nOur Phoenix office is now open for Agents and Agency Partners who prefer in-person meetings. However\, if you prefer to join online\, we have a specialized contracting team available to provide personalized support during allocated hours. \nThis personal touch allows us to better assist you in overcoming any obstacles you may face in obtaining certifications\, contracting status\, Ready to Sell (RTS) status\, adding states\, and other related matters. Our ultimate goal is to help you achieve a smooth and seamless journey toward a successful year. \n*In-person*\, Wednesdays\, 9 AM – 3 PM\, WAP – Phoenix\, 4550 E Bell Rd Ste 136\, Phoenix\, AZ 85032 \n*Online* – Wednesdays\, 9 AM – 3 PM – Join Online HERE \n\nMeeting ID: 846 5085 5558\nPasscode: 292662\nOne tap mobile\n+16699006833\,\,84650855558# US (San Jose)\n+17193594580\,\,84650855558#
URL:https://westernassetprotection.com/event/wap-contracting-open-house-in-person-online/2023-08-09/
CATEGORIES:Western Asset Protection Training
ATTACH;FMTTYPE=image/svg+xml:https://westernassetprotection.com/wp-content/uploads/2022/11/WAP_colored_Logo.svg
END:VEVENT
BEGIN:VEVENT
DTSTART;TZID=America/Phoenix:20230807T110000
DTEND;TZID=America/Phoenix:20230807T120000
DTSTAMP:20260421T142922
CREATED:20230807T154102Z
LAST-MODIFIED:20230807T154341Z
UID:10000169-1691406000-1691409600@westernassetprotection.com
SUMMARY:Western Penn: Medicare Supplements 101 Refresh w/Mike Gattorna
DESCRIPTION:Register Here > \n  \nNew to the Medicare Supplement Space? Need a refresher?\nIf so\, this is the training for you. Join us for Medicare Supplement 101 with Western Penn Marketing.\n\nMike Gattorna from Wallabe (A Medico Company) will be joining us to teach you the ABCs and 123s of Medicare Supplements. With years of experience and training under his belt\, you’ll leave this training feeling confident and ready to add Medicare Supplements to your portfolio.
URL:https://westernassetprotection.com/event/3460/
CATEGORIES:Western Asset Protection Training
ATTACH;FMTTYPE=image/png:https://westernassetprotection.com/wp-content/uploads/2023/08/WPM-Logo-2023-ColorGray_Transparent-1500-×-1080-px.png
END:VEVENT
BEGIN:VEVENT
DTSTART;TZID=America/Phoenix:20230802T090000
DTEND;TZID=America/Phoenix:20230802T150000
DTSTAMP:20260421T142922
CREATED:20230727T202825Z
LAST-MODIFIED:20230727T202825Z
UID:10000161-1690966800-1690988400@westernassetprotection.com
SUMMARY:WAP Contracting Open House - In-person & Online
DESCRIPTION:  \n\n\n\n\n\n\n\nValued Agent Partners\, \nJoin us for the WAP Wednesday Contracting Open House \nOur Phoenix office is now open for Agents and Agency Partners who prefer in-person meetings. However\, if you prefer to join online\, we have a specialized contracting team available to provide personalized support during allocated hours. \nThis personal touch allows us to better assist you in overcoming any obstacles you may face in obtaining certifications\, contracting status\, Ready to Sell (RTS) status\, adding states\, and other related matters. Our ultimate goal is to help you achieve a smooth and seamless journey toward a successful year. \n*In-person*\, Wednesdays\, 9 AM – 3 PM\, WAP – Phoenix\, 4550 E Bell Rd Ste 136\, Phoenix\, AZ 85032 \n*Online* – Wednesdays\, 9 AM – 3 PM – Join Online HERE \n\nMeeting ID: 846 5085 5558\nPasscode: 292662\nOne tap mobile\n+16699006833\,\,84650855558# US (San Jose)\n+17193594580\,\,84650855558#
URL:https://westernassetprotection.com/event/wap-contracting-open-house-in-person-online/2023-08-02/
CATEGORIES:Western Asset Protection Training
ATTACH;FMTTYPE=image/svg+xml:https://westernassetprotection.com/wp-content/uploads/2022/11/WAP_colored_Logo.svg
END:VEVENT
END:VCALENDAR