BEGIN:VCALENDAR
VERSION:2.0
PRODID:-//Western Asset Protection - ECPv6.15.18//NONSGML v1.0//EN
CALSCALE:GREGORIAN
METHOD:PUBLISH
X-ORIGINAL-URL:https://westernassetprotection.com
X-WR-CALDESC:Events for Western Asset Protection
REFRESH-INTERVAL;VALUE=DURATION:PT1H
X-Robots-Tag:noindex
X-PUBLISHED-TTL:PT1H
BEGIN:VTIMEZONE
TZID:America/Phoenix
BEGIN:STANDARD
TZOFFSETFROM:-0700
TZOFFSETTO:-0700
TZNAME:MST
DTSTART:20230101T000000
END:STANDARD
END:VTIMEZONE
BEGIN:VEVENT
DTSTART;TZID=America/Phoenix:20240701T110000
DTEND;TZID=America/Phoenix:20240701T120000
DTSTAMP:20260423T220123
CREATED:20240627T185104Z
LAST-MODIFIED:20240627T185249Z
UID:10000708-1719831600-1719835200@westernassetprotection.com
SUMMARY:NEW WAP Health Wealth Engine Launch & Intro Webinar
DESCRIPTION:Register HERE > \n  \nThe NEW Health Wealth Engine is here!\n**Important**\nTo ensure the security of your account\, you will need to set a new password when the new version launches. Detailed instructions on how to reset your password will be sent via email today. \nBrokers\, Get Ready for an Engine Evolution! \nThe Engine will provide the familiar experience you love\, now amplified with a host of fantastic enhancements\, including: \n\nA refreshed interface that is modern and visually appealing\nEasier navigation to help you find what you need quickly\nFull mobile-friendly design so you can use it on the go\nAccess to even more valuable content and resources And much more!\n\nDo not miss this webinar | Highly recommended \nRegister now!
URL:https://westernassetprotection.com/event/new-wap-health-wealth-engine-launch-intro-webinar/
CATEGORIES:Western Asset Protection Training
END:VEVENT
END:VCALENDAR