BEGIN:VCALENDAR
VERSION:2.0
PRODID:-//Western Asset Protection - ECPv6.15.18//NONSGML v1.0//EN
CALSCALE:GREGORIAN
METHOD:PUBLISH
X-ORIGINAL-URL:https://westernassetprotection.com
X-WR-CALDESC:Events for Western Asset Protection
REFRESH-INTERVAL;VALUE=DURATION:PT1H
X-Robots-Tag:noindex
X-PUBLISHED-TTL:PT1H
BEGIN:VTIMEZONE
TZID:America/Phoenix
BEGIN:STANDARD
TZOFFSETFROM:-0700
TZOFFSETTO:-0700
TZNAME:MST
DTSTART:20240101T000000
END:STANDARD
END:VTIMEZONE
BEGIN:VEVENT
DTSTART;TZID=America/Phoenix:20250722T110000
DTEND;TZID=America/Phoenix:20250722T120000
DTSTAMP:20260421T210355
CREATED:20250722T190255Z
LAST-MODIFIED:20250722T190256Z
UID:10001250-1753182000-1753185600@westernassetprotection.com
SUMMARY:Master Social Security Series w/Jack Burns
DESCRIPTION:Register Here for the Series > \n  \nWant to feel more confident when your clients ask about Social Security? We’ve got you covered with three upcoming webinars presented by Jack Burns\, Public Affairs Specialist for Arizona\, Social Security Administration\, specifically designed for Medicare Agents. \nWhether your clients are transitioning into Medicare\, still working\, or managing a disability\, this series will provide you with the tools and knowledge to guide them and grow your business in the process. \nRegister once and get reminders for the next upcoming session! \n\nSession 1: What You Need to Know About Social Security\nSession 2: Retirement & Spousal Benefits 101\nSession 3: Understanding Social Security Disability\n\nJoin us! Register today.
URL:https://westernassetprotection.com/event/master-social-security-series-w-jack-burns-2/
CATEGORIES:Western Asset Protection Training
END:VEVENT
BEGIN:VEVENT
DTSTART;TZID=America/Phoenix:20250723T100000
DTEND;TZID=America/Phoenix:20250723T110000
DTSTAMP:20260421T210355
CREATED:20250623T224953Z
LAST-MODIFIED:20250710T173739Z
UID:10001207-1753264800-1753268400@westernassetprotection.com
SUMMARY:July Skillbuilder - Commission Best Practices
DESCRIPTION:Register HERE > \nGet Ready for Skillbuilder! \nWhether you’re new to the Medicare market or need a refresher on this topic\, this session is designed to help you master the ins and outs of commissions in Medicare. Nic LeClair\, AR/AP Manager\, shares firsthand experience and insights to help you maximize your earning potential. \n\n-Date & Time: Wednesday\, July 23 @ 10 AM MST\n-Duration: 30 minutes\n-Location: Online\n\nWhy Attend? \nThis comprehensive webinar will cover key aspects of Medicare commissions\, including: \n\nCMS Fair Market Value Guidelines: Learn how this framework affects your commissions.\nCarrier Payment Structures: Understand how carriers calculate and allocate payments.\nPayment Timelines: Discover when to expect payments and how to plan your finances.\nManaging Discrepancies: Learn to identify and resolve payment issues efficiently.\n\nReserve Your Spot Today!
URL:https://westernassetprotection.com/event/july-skillbuilder-commission-best-practices/
CATEGORIES:Western Asset Protection Training
END:VEVENT
BEGIN:VEVENT
DTSTART;TZID=America/Phoenix:20250723T110000
DTEND;TZID=America/Phoenix:20250723T113000
DTSTAMP:20260421T210355
CREATED:20250610T192322Z
LAST-MODIFIED:20250616T192106Z
UID:10001192-1753268400-1753270200@westernassetprotection.com
SUMMARY:Sales Supplemental Series – Boost Your Commissions with Confidence
DESCRIPTION:Sales Supplemental Series – Boost Your Commissions with ConfidenceRegister Here  \nLooking to increase your Medicare sales? This webinar series is designed for brokers seeking to maximize earnings\, cross-sell effectively\, and stay compliant\, offering real strategies you can use right away. \nWhat You’ll Get:\n-Proven sales techniques\n-Supplemental product deep dives\n-Tools to simplify the sales process\n-Live Q&A with Julie Ruttinger Griffith \nWebinar Schedule:\n• 6/25 – Cancer: How a $0 premium plan turns into a $500/mo. plan\n• 7/2 – Hospital Indemnity: Less than $10/mo. to protect from a $1K+ hospital bill\n• 7/9 – Short Term Care / Home Health Care: How to provide Long-Term Coverage with a Short-Term Care Plan\n• 7/16 – Medicare Supplements: There’s a want\, there’s a need\, there’s an agent selling them – is it you?\n• 7/23 – Dental\, Vision\, Hearing: Most requested benefit by seniors\, & it’s either not covered\, or covered poorly – are you filling the gap?\n• 7/30 – Affordable Choice: An under-65 plan to bridge the gap to Medicare when the spouse in the house is left behind. \nDon’t miss this series created to help your business grow!\nRegister now!
URL:https://westernassetprotection.com/event/sales-supplemental-series-boost-your-commissions-with-confidence/2025-07-23/
CATEGORIES:Western Asset Protection Training
END:VEVENT
BEGIN:VEVENT
DTSTART;TZID=America/Phoenix:20250724T110000
DTEND;TZID=America/Phoenix:20250724T120000
DTSTAMP:20260421T210355
CREATED:20250616T193120Z
LAST-MODIFIED:20250722T193510Z
UID:10001202-1753354800-1753358400@westernassetprotection.com
SUMMARY:Master Social Security Series w/Jack Burns
DESCRIPTION:Register Here for the Series > \n  \nWant to feel more confident when your clients ask about Social Security? We’ve got you covered with three upcoming webinars presented by Jack Burns\, Public Affairs Specialist for Arizona\, Social Security Administration\, specifically designed for Medicare Agents. \nWhether your clients are transitioning into Medicare\, still working\, or managing a disability\, this series will provide you with the tools and knowledge to guide them and grow your business in the process. \nRegister once and get reminders for the next upcoming session! \n\nSession 1: What You Need to Know About Social Security\nSession 2: Retirement & Spousal Benefits 101\nSession 3: Understanding Social Security Disability\n\nJoin us! Register today.
URL:https://westernassetprotection.com/event/master-social-security-series-w-jack-burns/2025-07-24/
CATEGORIES:Western Asset Protection Training
END:VEVENT
BEGIN:VEVENT
DTSTART;TZID=America/Phoenix:20250724T110000
DTEND;TZID=America/Phoenix:20250724T120000
DTSTAMP:20260421T210355
CREATED:20250722T194232Z
LAST-MODIFIED:20250722T194255Z
UID:10001251-1753354800-1753358400@westernassetprotection.com
SUMMARY:Master Social Security Series w/Jack Burns
DESCRIPTION:Register Here for the Series > \n  \nWant to feel more confident when your clients ask about Social Security? We’ve got you covered with three upcoming webinars presented by Jack Burns\, Public Affairs Specialist for Arizona\, Social Security Administration\, specifically designed for Medicare Agents. \nWhether your clients are transitioning into Medicare\, still working\, or managing a disability\, this series will provide you with the tools and knowledge to guide them and grow your business in the process. \nRegister once and get reminders for the next upcoming session! \n\nSession 1: What You Need to Know About Social Security\nSession 2: Retirement & Spousal Benefits 101\nSession 3: Understanding Social Security Disability\n\nJoin us! Register today.
URL:https://westernassetprotection.com/event/master-social-security-series-w-jack-burns-3/
CATEGORIES:Western Asset Protection Training
END:VEVENT
END:VCALENDAR