BEGIN:VCALENDAR
VERSION:2.0
PRODID:-//Western Asset Protection - ECPv6.15.18//NONSGML v1.0//EN
CALSCALE:GREGORIAN
METHOD:PUBLISH
X-WR-CALNAME:Western Asset Protection
X-ORIGINAL-URL:https://westernassetprotection.com
X-WR-CALDESC:Events for Western Asset Protection
REFRESH-INTERVAL;VALUE=DURATION:PT1H
X-Robots-Tag:noindex
X-PUBLISHED-TTL:PT1H
BEGIN:VTIMEZONE
TZID:America/Phoenix
BEGIN:STANDARD
TZOFFSETFROM:-0700
TZOFFSETTO:-0700
TZNAME:MST
DTSTART:20240101T000000
END:STANDARD
END:VTIMEZONE
BEGIN:VEVENT
DTSTART;TZID=America/Phoenix:20251202T080000
DTEND;TZID=America/Phoenix:20251202T081500
DTSTAMP:20260421T024218
CREATED:20251210T161748Z
LAST-MODIFIED:20251210T161748Z
UID:10001378-1764662400-1764663300@westernassetprotection.com
SUMMARY:Tech Tip Tuesdays
DESCRIPTION:Register Here > \n  \nTech Tip Tuesdays are quick\, 15-minute tutorials on important tools in the Integrity Suite of Technology. These are a wonderful way to quickly get up to speed on a feature you’re interested in. \nTech Tip Tuesdays are every Tuesday at 9AM or 11AM CDT. \nPlease register here for each session you’re interested in. \n\nDecember 2: New MyBenefits\nDecember 9: Ask Integrity Cross-selling Tags\nDecember 16: Enroll Clients in FREE Legacy Safeguard Membership
URL:https://westernassetprotection.com/event/tech-tip-tuesdays-9/
LOCATION:IL
CATEGORIES:IntegrityCONNECT
END:VEVENT
BEGIN:VEVENT
DTSTART;TZID=America/Phoenix:20251202T100000
DTEND;TZID=America/Phoenix:20251202T101500
DTSTAMP:20260421T024218
CREATED:20251210T162008Z
LAST-MODIFIED:20251210T162008Z
UID:10001383-1764669600-1764670500@westernassetprotection.com
SUMMARY:Tech Tip Tuesdays
DESCRIPTION:Register Here > \n  \nTech Tip Tuesdays are quick\, 15-minute tutorials on important tools in the Integrity Suite of Technology. These are a wonderful way to quickly get up to speed on a feature you’re interested in. \nTech Tip Tuesdays are every Tuesday at 9AM or 11AM CDT. \nPlease register here for each session you’re interested in. \n\nDecember 2: New MyBenefits\nDecember 9: Ask Integrity Cross-selling Tags\nDecember 16: Enroll Clients in FREE Legacy Safeguard Membership
URL:https://westernassetprotection.com/event/tech-tip-tuesdays-14/
LOCATION:IL
CATEGORIES:IntegrityCONNECT
END:VEVENT
END:VCALENDAR