BEGIN:VCALENDAR
VERSION:2.0
PRODID:-//Western Asset Protection - ECPv6.15.18//NONSGML v1.0//EN
CALSCALE:GREGORIAN
METHOD:PUBLISH
X-ORIGINAL-URL:https://westernassetprotection.com
X-WR-CALDESC:Events for Western Asset Protection
REFRESH-INTERVAL;VALUE=DURATION:PT1H
X-Robots-Tag:noindex
X-PUBLISHED-TTL:PT1H
BEGIN:VTIMEZONE
TZID:America/Phoenix
BEGIN:STANDARD
TZOFFSETFROM:-0700
TZOFFSETTO:-0700
TZNAME:MST
DTSTART:20250101T000000
END:STANDARD
END:VTIMEZONE
BEGIN:VEVENT
DTSTART;TZID=America/Phoenix:20260126T093000
DTEND;TZID=America/Phoenix:20260126T100000
DTSTAMP:20260420T113218
CREATED:20260114T001710Z
LAST-MODIFIED:20260114T001710Z
UID:10001423-1769419800-1769421600@westernassetprotection.com
SUMMARY:CSG APP Feature Focus Training
DESCRIPTION:Register HERE > \nEvery Monday at 10:30 AM CDT\, we have a quick webinar focusing on one part of the CSG App tool. \nPlease register for each session you’re interested in. \n\nJanuary 5: Add a Med Supp Quoting Tool to Your Website\nJanuary 12: Universal Compare Feature\nJanuary 19: CSG App for New IntegrityCONNECT Users\nJanuary 26: Fill MA Coverage Gaps with HIP\nFebruary 2: Household Discount & Rating Classes\nFebruary 9: One E-application for Multiple Carriers\nFebruary 16: CSG App for New IntegrityCONNECT Users\nFebruary 23: Market Analytics
URL:https://westernassetprotection.com/event/csg-app-feature-focus-training-26/2026-01-26/
CATEGORIES:CSG Training
END:VEVENT
BEGIN:VEVENT
DTSTART;TZID=America/Phoenix:20260128T090000
DTEND;TZID=America/Phoenix:20260128T100000
DTSTAMP:20260420T113218
CREATED:20260113T234501Z
LAST-MODIFIED:20260113T234555Z
UID:10001409-1769590800-1769594400@westernassetprotection.com
SUMMARY:Start Selling Final Expense for Medicare Agents
DESCRIPTION:Register HERE > \n  \n  \nPresenter\n\n\n\n\n\n\nAnna Patrick\nVice President of Sales Enablement and Tech Adoption
URL:https://westernassetprotection.com/event/start-selling-final-expense-for-medicare-agents/
CATEGORIES:IntegrityCONNECT
END:VEVENT
BEGIN:VEVENT
DTSTART;TZID=America/Phoenix:20260129T110000
DTEND;TZID=America/Phoenix:20260129T120000
DTSTAMP:20260420T113218
CREATED:20260113T195816Z
LAST-MODIFIED:20260113T200100Z
UID:10001404-1769684400-1769688000@westernassetprotection.com
SUMMARY:Skillbuilder Series - Sharpen Skills. Stay Informed.
DESCRIPTION:Register HERE > \n  \nWestern Asset Protection’s Skillbuilder Series is designed to help agents strengthen their foundation\, stay informed\, and grow with confidence. \nThese sessions are more informational than interactive\, focused on practical insights\, timely reminders\, and real-world guidance from our experienced experts. \nJanuary Skillbuilder will be presented by Jean Lentsch on OEP Compliance Tips \nJoin us for Skillbuilder. Register today!
URL:https://westernassetprotection.com/event/skillbuilder-series-sharpen-skills-stay-informed/
CATEGORIES:Skillbuilder
END:VEVENT
END:VCALENDAR