BEGIN:VCALENDAR
VERSION:2.0
PRODID:-//Western Asset Protection - ECPv6.15.18//NONSGML v1.0//EN
CALSCALE:GREGORIAN
METHOD:PUBLISH
X-ORIGINAL-URL:https://westernassetprotection.com
X-WR-CALDESC:Events for Western Asset Protection
REFRESH-INTERVAL;VALUE=DURATION:PT1H
X-Robots-Tag:noindex
X-PUBLISHED-TTL:PT1H
BEGIN:VTIMEZONE
TZID:America/Phoenix
BEGIN:STANDARD
TZOFFSETFROM:-0700
TZOFFSETTO:-0700
TZNAME:MST
DTSTART:20230101T000000
END:STANDARD
END:VTIMEZONE
BEGIN:VEVENT
DTSTART;TZID=America/Phoenix:20240910T110000
DTEND;TZID=America/Phoenix:20240910T120000
DTSTAMP:20260419T230411
CREATED:20240806T235224Z
LAST-MODIFIED:20240806T235225Z
UID:10000699-1725966000-1725969600@westernassetprotection.com
SUMMARY:Talk-O Tuesday - Postponed Due to WAPCon - We'll see you in October
DESCRIPTION:-Postponed- \nTalk-O Tuesday with WAP \nOn the 2nd Tuesday of every month\, we invite you to join the discussion around anything and everything related to being in business in the Medicare space. \nThe WAP Team provides relevant\, industry-related information you need to know now. \nBring your questions and your ideas and be part of the conversation. We can’t wait to see you there. \nRegister today!
URL:https://westernassetprotection.com/event/talk-o-tuesday-waps-informative-monthly-webinar-6-2/
CATEGORIES:Talk-O Tuesday
END:VEVENT
BEGIN:VEVENT
DTSTART;TZID=America/Phoenix:20240911T080000
DTEND;TZID=America/Phoenix:20240912T170000
DTSTAMP:20260419T230411
CREATED:20231212T184325Z
LAST-MODIFIED:20240711T223911Z
UID:10000314-1726041600-1726160400@westernassetprotection.com
SUMMARY:WAPCON Conference
DESCRIPTION:Save the Date \nRegistration is open!\nRegister HERE > \nLocation: WeKoPa Resort – Fountain Hills/Scottsdale\, AZ \n\n \n\nStay tuned as we prepare to bring you an even more inspirational experience\, tailor-made to promote your growth as a Medicare CHAMPION.\nGet ready to dive deeper\, learn more\, and become the expert your clients trust. Join hundreds of proactive agents eager to evolve — we’ve got an exciting experience ahead\, and we can’t wait to share it with you.\n\nStay tuned for what promises to be another extraordinary conference in 2024!Be Ready With state-of-the-art training and tools at your fingertips\, you’ll be equipped to tackle any challenge. Connect with other Medicare CHAMPIONS\, gain insights from industry experts\, and simply have some fun before stepping into AEP season.
URL:https://westernassetprotection.com/event/wapcon-conference/
CATEGORIES:WAPCon
END:VEVENT
BEGIN:VEVENT
DTSTART;TZID=America/Phoenix:20240916T150000
DTEND;TZID=America/Phoenix:20240916T160000
DTSTAMP:20260419T230411
CREATED:20240916T171427Z
LAST-MODIFIED:20240916T171427Z
UID:10000968-1726498800-1726502400@westernassetprotection.com
SUMMARY:Skillbuilder - AEP Retention
DESCRIPTION:Register HERE > \n  \nJoin us for a special Skillbuilder series to help you with ideas to retain your book of business for AEP. \nIt’s never too late to start or improve your retention plan…especially with so much transition this season. \nTopics: \n\nRetention Letters\nVoice and Text Broadcasts\nANOC Meetings\nLeveraging Technology/Enrollment Platforms\nPhone Calls\nSpecial Guests: Jean Lentsch\, Steven Smith\, Cord Moorhead\, Paul Rose\, Tamara Coffey\n\n  \nDate & Time: Monday\, September 16 @ 3 PM MST \nDuration: 60 minutes
URL:https://westernassetprotection.com/event/skillbuilder-aep-retention/
CATEGORIES:Skillbuilder
END:VEVENT
END:VCALENDAR