BEGIN:VCALENDAR
VERSION:2.0
PRODID:-//Western Asset Protection - ECPv6.15.18//NONSGML v1.0//EN
CALSCALE:GREGORIAN
METHOD:PUBLISH
X-ORIGINAL-URL:https://westernassetprotection.com
X-WR-CALDESC:Events for Western Asset Protection
REFRESH-INTERVAL;VALUE=DURATION:PT1H
X-Robots-Tag:noindex
X-PUBLISHED-TTL:PT1H
BEGIN:VTIMEZONE
TZID:America/Phoenix
BEGIN:STANDARD
TZOFFSETFROM:-0700
TZOFFSETTO:-0700
TZNAME:MST
DTSTART:20240101T000000
END:STANDARD
END:VTIMEZONE
BEGIN:VEVENT
DTSTART;TZID=America/Phoenix:20251117T093000
DTEND;TZID=America/Phoenix:20251117T100000
DTSTAMP:20260422T151314
CREATED:20251118T172143Z
LAST-MODIFIED:20251118T172143Z
UID:10001373-1763371800-1763373600@westernassetprotection.com
SUMMARY:CSG APP – Feature Focus Training
DESCRIPTION:Register HERE > \n  \nEvery Monday at 10:30 AM CDT\, we host a quick webinar focused on a single part of the CSG App tool. \nPlease register for each session you’re interested in. \n\nNovember 3: Fill Med Adv Coverage Gaps with Hospital Indemnity\nNovember 10: Stack Med Supp Plan alongside PDP and DVH Plans\nNovember 17: Medicare Supplement Quoting Tools – Key Features\nNovember 24: Universal\, Multi-Carrier EApplication
URL:https://westernassetprotection.com/event/csg-app-feature-focus-training-21/
CATEGORIES:CSG Training
END:VEVENT
END:VCALENDAR