BEGIN:VCALENDAR
VERSION:2.0
PRODID:-//Western Asset Protection - ECPv6.15.18//NONSGML v1.0//EN
CALSCALE:GREGORIAN
METHOD:PUBLISH
X-ORIGINAL-URL:https://westernassetprotection.com
X-WR-CALDESC:Events for Western Asset Protection
REFRESH-INTERVAL;VALUE=DURATION:PT1H
X-Robots-Tag:noindex
X-PUBLISHED-TTL:PT1H
BEGIN:VTIMEZONE
TZID:America/Phoenix
BEGIN:STANDARD
TZOFFSETFROM:-0700
TZOFFSETTO:-0700
TZNAME:MST
DTSTART:20240101T000000
END:STANDARD
END:VTIMEZONE
BEGIN:VEVENT
DTSTART;TZID=America/Phoenix:20250902T070000
DTEND;TZID=America/Phoenix:20250902T071500
DTSTAMP:20260423T010210
CREATED:20250915T231000Z
LAST-MODIFIED:20250915T231000Z
UID:10001260-1756796400-1756797300@westernassetprotection.com
SUMMARY:Integrity Tech Tip Tuesday
DESCRIPTION:Register HERE > \nTech Tip Tuesday: Join us every Tuesday at 9 AM or 11 AM CDT for quick tutorials on important tools to take advantage of inside the Integrity Technology Platform. \nSeptember 2: Updating Your Agent Profile in IntegrityCONNECT\nSeptember 9: Inviting Your Clients and Prospects to Client Sync\nSeptember 16: Using Filters to Organize Your Contacts in IntegrityCONNECT\nSeptember 23: Ways to Connect with your Clients and Prospects in IntegrityCONNECT\nSeptember 30: Sending Plan Comparisons in IntegrityCONNECT
URL:https://westernassetprotection.com/event/integrity-tech-tip-tuesday/2025-09-02/
CATEGORIES:IntegrityCONNECT
END:VEVENT
BEGIN:VEVENT
DTSTART;TZID=America/Phoenix:20250902T090000
DTEND;TZID=America/Phoenix:20250902T091500
DTSTAMP:20260423T010210
CREATED:20250919T000908Z
LAST-MODIFIED:20250919T000908Z
UID:10001284-1756803600-1756804500@westernassetprotection.com
SUMMARY:Integrity Tech Tip Tuesday
DESCRIPTION:Register HERE > \nTech Tip Tuesday: Join us every Tuesday at 9 AM or 11 AM CDT for quick tutorials on important tools to take advantage of inside the Integrity Technology Platform. \nSeptember 2: Updating Your Agent Profile in IntegrityCONNECT\nSeptember 9: Inviting Your Clients and Prospects to Client Sync\nSeptember 16: Using Filters to Organize Your Contacts in IntegrityCONNECT\nSeptember 23: Ways to Connect with your Clients and Prospects in IntegrityCONNECT\nSeptember 30: Sending Plan Comparisons in IntegrityCONNECT
URL:https://westernassetprotection.com/event/integrity-tech-tip-tuesday-2/
CATEGORIES:IntegrityCONNECT
END:VEVENT
BEGIN:VEVENT
DTSTART;TZID=America/Phoenix:20250908T083000
DTEND;TZID=America/Phoenix:20250908T090000
DTSTAMP:20260423T010210
CREATED:20250915T233206Z
LAST-MODIFIED:20250915T233206Z
UID:10001265-1757320200-1757322000@westernassetprotection.com
SUMMARY:CSG APP – Feature Focus Training
DESCRIPTION:Register HERE > \n  \nCSG APP – Feature Focus Training: Join us every Monday at 10:30 AM CDT to learn more Medicare market intel available in CSG.\nSeptember 8: Market Analytics\nSeptember 15: Fill Med Adv Coverage Gaps with Hospital Indemnity\nSeptember 22: Medicare Supplement Quoting Tools – Key Features\nSeptember 29: Med Supp Bulk Quoting
URL:https://westernassetprotection.com/event/csg-app-feature-focus-training-15/2025-09-08/
CATEGORIES:IntegrityCONNECT
END:VEVENT
BEGIN:VEVENT
DTSTART;TZID=America/Phoenix:20250909T070000
DTEND;TZID=America/Phoenix:20250909T071500
DTSTAMP:20260423T010210
CREATED:20250915T231000Z
LAST-MODIFIED:20250915T231000Z
UID:10001261-1757401200-1757402100@westernassetprotection.com
SUMMARY:Integrity Tech Tip Tuesday
DESCRIPTION:Register HERE > \nTech Tip Tuesday: Join us every Tuesday at 9 AM or 11 AM CDT for quick tutorials on important tools to take advantage of inside the Integrity Technology Platform. \nSeptember 2: Updating Your Agent Profile in IntegrityCONNECT\nSeptember 9: Inviting Your Clients and Prospects to Client Sync\nSeptember 16: Using Filters to Organize Your Contacts in IntegrityCONNECT\nSeptember 23: Ways to Connect with your Clients and Prospects in IntegrityCONNECT\nSeptember 30: Sending Plan Comparisons in IntegrityCONNECT
URL:https://westernassetprotection.com/event/integrity-tech-tip-tuesday/2025-09-09/
CATEGORIES:IntegrityCONNECT
END:VEVENT
BEGIN:VEVENT
DTSTART;TZID=America/Phoenix:20250909T090000
DTEND;TZID=America/Phoenix:20250909T091500
DTSTAMP:20260423T010210
CREATED:20250919T001008Z
LAST-MODIFIED:20250919T001009Z
UID:10001280-1757408400-1757409300@westernassetprotection.com
SUMMARY:Integrity Tech Tip Tuesday
DESCRIPTION:Register HERE > \nTech Tip Tuesday: Join us every Tuesday at 9 AM or 11 AM CDT for quick tutorials on important tools to take advantage of inside the Integrity Technology Platform. \nSeptember 2: Updating Your Agent Profile in IntegrityCONNECT\nSeptember 9: Inviting Your Clients and Prospects to Client Sync\nSeptember 16: Using Filters to Organize Your Contacts in IntegrityCONNECT\nSeptember 23: Ways to Connect with your Clients and Prospects in IntegrityCONNECT\nSeptember 30: Sending Plan Comparisons in IntegrityCONNECT
URL:https://westernassetprotection.com/event/integrity-tech-tip-tuesday-2-2/
CATEGORIES:IntegrityCONNECT
END:VEVENT
BEGIN:VEVENT
DTSTART;TZID=America/Phoenix:20250910T100000
DTEND;TZID=America/Phoenix:20250910T160000
DTSTAMP:20260423T010210
CREATED:20250514T171010Z
LAST-MODIFIED:20250814T224914Z
UID:10001180-1757498400-1757520000@westernassetprotection.com
SUMMARY:WAP In-Person Tech Intensive Training
DESCRIPTION:Register Here > \nWe’re hosting three in-person Tech Intensives designed to help brokers like you master the tools that streamline operations\, boost productivity\, and support real growth. \nThis full-day\, hands-on session will teach you how to work smarter\, stay compliant\, and optimize your workflow\, from onboarding and certifications to quoting and enrollments. \nWe look forward to seeing you there and helping you elevate your tech skills!
URL:https://westernassetprotection.com/event/wap-in-person-tech-intensive-training-3/
LOCATION:Century Room at Cavasson – Inside Quantum Space\, 18700 Hayden Rd Suite 310\, Scottsdale\, Arizona\, 85255
CATEGORIES:WAPTech
END:VEVENT
BEGIN:VEVENT
DTSTART;TZID=America/Phoenix:20250915T083000
DTEND;TZID=America/Phoenix:20250915T090000
DTSTAMP:20260423T010210
CREATED:20250915T233206Z
LAST-MODIFIED:20250915T233206Z
UID:10001266-1757925000-1757926800@westernassetprotection.com
SUMMARY:CSG APP – Feature Focus Training
DESCRIPTION:Register HERE > \n  \nCSG APP – Feature Focus Training: Join us every Monday at 10:30 AM CDT to learn more Medicare market intel available in CSG.\nSeptember 8: Market Analytics\nSeptember 15: Fill Med Adv Coverage Gaps with Hospital Indemnity\nSeptember 22: Medicare Supplement Quoting Tools – Key Features\nSeptember 29: Med Supp Bulk Quoting
URL:https://westernassetprotection.com/event/csg-app-feature-focus-training-15/2025-09-15/
CATEGORIES:IntegrityCONNECT
END:VEVENT
BEGIN:VEVENT
DTSTART;TZID=America/Phoenix:20250916T070000
DTEND;TZID=America/Phoenix:20250916T071500
DTSTAMP:20260423T010210
CREATED:20250915T231000Z
LAST-MODIFIED:20250915T231000Z
UID:10001262-1758006000-1758006900@westernassetprotection.com
SUMMARY:Integrity Tech Tip Tuesday
DESCRIPTION:Register HERE > \nTech Tip Tuesday: Join us every Tuesday at 9 AM or 11 AM CDT for quick tutorials on important tools to take advantage of inside the Integrity Technology Platform. \nSeptember 2: Updating Your Agent Profile in IntegrityCONNECT\nSeptember 9: Inviting Your Clients and Prospects to Client Sync\nSeptember 16: Using Filters to Organize Your Contacts in IntegrityCONNECT\nSeptember 23: Ways to Connect with your Clients and Prospects in IntegrityCONNECT\nSeptember 30: Sending Plan Comparisons in IntegrityCONNECT
URL:https://westernassetprotection.com/event/integrity-tech-tip-tuesday/2025-09-16/
CATEGORIES:IntegrityCONNECT
END:VEVENT
BEGIN:VEVENT
DTSTART;TZID=America/Phoenix:20250916T090000
DTEND;TZID=America/Phoenix:20250916T091500
DTSTAMP:20260423T010210
CREATED:20250919T001110Z
LAST-MODIFIED:20250919T001112Z
UID:10001281-1758013200-1758014100@westernassetprotection.com
SUMMARY:Integrity Tech Tip Tuesday
DESCRIPTION:Register HERE > \nTech Tip Tuesday: Join us every Tuesday at 9 AM or 11 AM CDT for quick tutorials on important tools to take advantage of inside the Integrity Technology Platform. \nSeptember 2: Updating Your Agent Profile in IntegrityCONNECT\nSeptember 9: Inviting Your Clients and Prospects to Client Sync\nSeptember 16: Using Filters to Organize Your Contacts in IntegrityCONNECT\nSeptember 23: Ways to Connect with your Clients and Prospects in IntegrityCONNECT\nSeptember 30: Sending Plan Comparisons in IntegrityCONNECT
URL:https://westernassetprotection.com/event/integrity-tech-tip-tuesday-2-3/
CATEGORIES:IntegrityCONNECT
END:VEVENT
BEGIN:VEVENT
DTSTART;TZID=America/Phoenix:20250917T110000
DTEND;TZID=America/Phoenix:20250917T120000
DTSTAMP:20260423T010210
CREATED:20250915T234114Z
LAST-MODIFIED:20250917T172114Z
UID:10001270-1758106800-1758110400@westernassetprotection.com
SUMMARY:IntegrityCONNECT - New User Training
DESCRIPTION:Register HERE > \nIntegrityCONNECT™ is our powerful technology platform that is built to help you save time and sell more. Join this health-focused training to learn how IntegrityCONNECT can help you work smarter\, not harder\, this AEP. \nThis training webinar is available on demand.
URL:https://westernassetprotection.com/event/integrityconnect-new-user-training-2/
CATEGORIES:IntegrityCONNECT
END:VEVENT
BEGIN:VEVENT
DTSTART;TZID=America/Phoenix:20250918T110000
DTEND;TZID=America/Phoenix:20250918T120000
DTSTAMP:20260423T010210
CREATED:20250915T235329Z
LAST-MODIFIED:20250915T235329Z
UID:10001271-1758193200-1758196800@westernassetprotection.com
SUMMARY:AEP Gut Check with Deft Research
DESCRIPTION:Register Here > \nThe AEP Gut Check Study acts as a “Pre-AEP” report to ensure you’re pointed in the right direction. We assess seniors’ pain points\, service failures\, and plan experiences so carriers can make last-minute adjustments to their marketing and design efforts\, even after benchmarks are released. By understanding what seniors are seeking to improve with their Medicare coverage\, you can improve your approach for the fall selling period. \nDon’t miss out. This presentation provides insights into client and prospect expectations\, concerns\, and shopping habits.
URL:https://westernassetprotection.com/event/aep-gut-check-with-deft-research/
CATEGORIES:Integrity Technology Platform
END:VEVENT
BEGIN:VEVENT
DTSTART;TZID=America/Phoenix:20250922T083000
DTEND;TZID=America/Phoenix:20250922T090000
DTSTAMP:20260423T010210
CREATED:20250915T233206Z
LAST-MODIFIED:20250915T233206Z
UID:10001267-1758529800-1758531600@westernassetprotection.com
SUMMARY:CSG APP – Feature Focus Training
DESCRIPTION:Register HERE > \n  \nCSG APP – Feature Focus Training: Join us every Monday at 10:30 AM CDT to learn more Medicare market intel available in CSG.\nSeptember 8: Market Analytics\nSeptember 15: Fill Med Adv Coverage Gaps with Hospital Indemnity\nSeptember 22: Medicare Supplement Quoting Tools – Key Features\nSeptember 29: Med Supp Bulk Quoting
URL:https://westernassetprotection.com/event/csg-app-feature-focus-training-15/2025-09-22/
CATEGORIES:IntegrityCONNECT
END:VEVENT
BEGIN:VEVENT
DTSTART;TZID=America/Phoenix:20250923T070000
DTEND;TZID=America/Phoenix:20250923T071500
DTSTAMP:20260423T010210
CREATED:20250915T231000Z
LAST-MODIFIED:20250915T231000Z
UID:10001263-1758610800-1758611700@westernassetprotection.com
SUMMARY:Integrity Tech Tip Tuesday
DESCRIPTION:Register HERE > \nTech Tip Tuesday: Join us every Tuesday at 9 AM or 11 AM CDT for quick tutorials on important tools to take advantage of inside the Integrity Technology Platform. \nSeptember 2: Updating Your Agent Profile in IntegrityCONNECT\nSeptember 9: Inviting Your Clients and Prospects to Client Sync\nSeptember 16: Using Filters to Organize Your Contacts in IntegrityCONNECT\nSeptember 23: Ways to Connect with your Clients and Prospects in IntegrityCONNECT\nSeptember 30: Sending Plan Comparisons in IntegrityCONNECT
URL:https://westernassetprotection.com/event/integrity-tech-tip-tuesday/2025-09-23/
CATEGORIES:IntegrityCONNECT
END:VEVENT
BEGIN:VEVENT
DTSTART;TZID=America/Phoenix:20250923T090000
DTEND;TZID=America/Phoenix:20250923T091500
DTSTAMP:20260423T010210
CREATED:20250919T001216Z
LAST-MODIFIED:20250919T001217Z
UID:10001282-1758618000-1758618900@westernassetprotection.com
SUMMARY:Integrity Tech Tip Tuesday
DESCRIPTION:Register HERE > \nTech Tip Tuesday: Join us every Tuesday at 9 AM or 11 AM CDT for quick tutorials on important tools to take advantage of inside the Integrity Technology Platform. \nSeptember 2: Updating Your Agent Profile in IntegrityCONNECT\nSeptember 9: Inviting Your Clients and Prospects to Client Sync\nSeptember 16: Using Filters to Organize Your Contacts in IntegrityCONNECT\nSeptember 23: Ways to Connect with your Clients and Prospects in IntegrityCONNECT\nSeptember 30: Sending Plan Comparisons in IntegrityCONNECT
URL:https://westernassetprotection.com/event/integrity-tech-tip-tuesday-2-4/
CATEGORIES:IntegrityCONNECT
END:VEVENT
BEGIN:VEVENT
DTSTART;TZID=America/Phoenix:20250929T083000
DTEND;TZID=America/Phoenix:20250929T090000
DTSTAMP:20260423T010210
CREATED:20250915T233206Z
LAST-MODIFIED:20250915T233206Z
UID:10001268-1759134600-1759136400@westernassetprotection.com
SUMMARY:CSG APP – Feature Focus Training
DESCRIPTION:Register HERE > \n  \nCSG APP – Feature Focus Training: Join us every Monday at 10:30 AM CDT to learn more Medicare market intel available in CSG.\nSeptember 8: Market Analytics\nSeptember 15: Fill Med Adv Coverage Gaps with Hospital Indemnity\nSeptember 22: Medicare Supplement Quoting Tools – Key Features\nSeptember 29: Med Supp Bulk Quoting
URL:https://westernassetprotection.com/event/csg-app-feature-focus-training-15/2025-09-29/
CATEGORIES:IntegrityCONNECT
END:VEVENT
BEGIN:VEVENT
DTSTART;TZID=America/Phoenix:20250930T070000
DTEND;TZID=America/Phoenix:20250930T071500
DTSTAMP:20260423T010210
CREATED:20250915T231000Z
LAST-MODIFIED:20250915T231000Z
UID:10001264-1759215600-1759216500@westernassetprotection.com
SUMMARY:Integrity Tech Tip Tuesday
DESCRIPTION:Register HERE > \nTech Tip Tuesday: Join us every Tuesday at 9 AM or 11 AM CDT for quick tutorials on important tools to take advantage of inside the Integrity Technology Platform. \nSeptember 2: Updating Your Agent Profile in IntegrityCONNECT\nSeptember 9: Inviting Your Clients and Prospects to Client Sync\nSeptember 16: Using Filters to Organize Your Contacts in IntegrityCONNECT\nSeptember 23: Ways to Connect with your Clients and Prospects in IntegrityCONNECT\nSeptember 30: Sending Plan Comparisons in IntegrityCONNECT
URL:https://westernassetprotection.com/event/integrity-tech-tip-tuesday/2025-09-30/
CATEGORIES:IntegrityCONNECT
END:VEVENT
BEGIN:VEVENT
DTSTART;TZID=America/Phoenix:20250930T090000
DTEND;TZID=America/Phoenix:20250930T091500
DTSTAMP:20260423T010210
CREATED:20250919T001301Z
LAST-MODIFIED:20250919T001302Z
UID:10001283-1759222800-1759223700@westernassetprotection.com
SUMMARY:Integrity Tech Tip Tuesday
DESCRIPTION:Register HERE > \nTech Tip Tuesday: Join us every Tuesday at 9 AM or 11 AM CDT for quick tutorials on important tools to take advantage of inside the Integrity Technology Platform. \nSeptember 2: Updating Your Agent Profile in IntegrityCONNECT\nSeptember 9: Inviting Your Clients and Prospects to Client Sync\nSeptember 16: Using Filters to Organize Your Contacts in IntegrityCONNECT\nSeptember 23: Ways to Connect with your Clients and Prospects in IntegrityCONNECT\nSeptember 30: Sending Plan Comparisons in IntegrityCONNECT
URL:https://westernassetprotection.com/event/integrity-tech-tip-tuesday-2-5/
CATEGORIES:IntegrityCONNECT
END:VEVENT
END:VCALENDAR