BEGIN:VCALENDAR
VERSION:2.0
PRODID:-//Western Asset Protection - ECPv6.15.18//NONSGML v1.0//EN
CALSCALE:GREGORIAN
METHOD:PUBLISH
X-ORIGINAL-URL:https://westernassetprotection.com
X-WR-CALDESC:Events for Western Asset Protection
REFRESH-INTERVAL;VALUE=DURATION:PT1H
X-Robots-Tag:noindex
X-PUBLISHED-TTL:PT1H
BEGIN:VTIMEZONE
TZID:America/Phoenix
BEGIN:STANDARD
TZOFFSETFROM:-0700
TZOFFSETTO:-0700
TZNAME:MST
DTSTART:20240101T000000
END:STANDARD
END:VTIMEZONE
BEGIN:VEVENT
DTSTART;TZID=America/Phoenix:20250716T100000
DTEND;TZID=America/Phoenix:20250716T160000
DTSTAMP:20260423T080032
CREATED:20250514T170830Z
LAST-MODIFIED:20250514T170830Z
UID:10001179-1752660000-1752681600@westernassetprotection.com
SUMMARY:WAP In-Person Tech Intensive Training
DESCRIPTION:Register Here > \nWe’re hosting three in-person Tech Intensives designed to help brokers like you master the tools that streamline operations\, boost productivity\, and support real growth. \nThis full-day\, hands-on session will teach you how to work smarter\, stay compliant\, and optimize your workflow\, from onboarding and certifications to quoting and enrollments. \nDon’t live in Greater Phoenix? \nMany brokers are taking proactive steps by traveling to participate in our immersive and focused training sessions\, and we don’t want you to miss this invaluable opportunity. Take a moment to register for a date that aligns with your schedule. If you’re attending WAPCON\, we highly recommend securing your spot for the September 10th training to maximize the value of your experience. \nWe look forward to seeing you there and helping you elevate your tech skills!
URL:https://westernassetprotection.com/event/wap-in-person-tech-intensive-training-2/
CATEGORIES:WAPTech
END:VEVENT
END:VCALENDAR