BEGIN:VCALENDAR
VERSION:2.0
PRODID:-//Western Asset Protection - ECPv6.15.18//NONSGML v1.0//EN
CALSCALE:GREGORIAN
METHOD:PUBLISH
X-WR-CALNAME:Western Asset Protection
X-ORIGINAL-URL:https://westernassetprotection.com
X-WR-CALDESC:Events for Western Asset Protection
REFRESH-INTERVAL;VALUE=DURATION:PT1H
X-Robots-Tag:noindex
X-PUBLISHED-TTL:PT1H
BEGIN:VTIMEZONE
TZID:America/Phoenix
BEGIN:STANDARD
TZOFFSETFROM:-0700
TZOFFSETTO:-0700
TZNAME:MST
DTSTART:20240101T000000
END:STANDARD
END:VTIMEZONE
BEGIN:VEVENT
DTSTART;TZID=America/Phoenix:20250509T100000
DTEND;TZID=America/Phoenix:20250509T153000
DTSTAMP:20260421T103109
CREATED:20231212T181308Z
LAST-MODIFIED:20250327T145456Z
UID:10000305-1746784800-1746804600@westernassetprotection.com
SUMMARY:Medicare Business Accelerator (MBA) Workshop - Las Vegas
DESCRIPTION:Registration is open for the Medicare Business Accelerator (MBA)\, formerly Medicare Academy!\nReserve your seat HERE for MBA > \nPROMO CODE: \nPlease check with your Agency first for a Promo Code. Or\, use Promo Code “IGNITE”. \nLearn more about the Medicare Academy MBA \n\nDon’t miss this 1-Day Value-Packed Workshop!\nReasons to attend:\nIf you’re new to Western Asset Protection\, this 1-Day Immersive Workshop is for you! \nIf you’ve attended a Medicare Academy Workshop in the past\, we encourage you to come again. Our Sales Leadership Team will refresh you on business-building strategies. \n\nTake a deep dive into Medicare\, ancillary insurance\, systems\, and structure for success\, as well as sales tips and proven business development strategies.\nEnhance your skills and increase your earning potential.\nLearn how to increase referrals and develop techniques that keep YOU front and center with prospects and clients!\nUncover new business from your existing clients\nIncrease customer retention\n2025 updates on the State of Medicare\nLearn sales techniques to diversify your portfolio\n\nWe hope to see you there!
URL:https://westernassetprotection.com/event/medicare-academy-las-vegas/
CATEGORIES:Medicare Academy,Medicare Business Accelerator (MBA)
END:VEVENT
BEGIN:VEVENT
DTSTART;TZID=America/Phoenix:20250513T110000
DTEND;TZID=America/Phoenix:20250513T120000
DTSTAMP:20260421T103109
CREATED:20250331T195520Z
LAST-MODIFIED:20250512T161316Z
UID:10001176-1747134000-1747137600@westernassetprotection.com
SUMMARY:Talk-O Tuesday - Join us for valuable insights and industry trends
DESCRIPTION:Subject: Join Us for Talk-O Tuesday! \n  \nGreetings\, Agents and Agency Partners\, \nWe invite you to our upcoming Talk-O Tuesday\, the fastest hour in Medicare! \nThis monthly discussion is essential for agents like you. It offers valuable insights and updates on important industry trends. Don’t miss this opportunity to stay informed and enhance your knowledge. \nRegister today!
URL:https://westernassetprotection.com/event/talk-o-tuesday-12/2025-05-13/
CATEGORIES:Talk-O Tuesday
END:VEVENT
BEGIN:VEVENT
DTSTART;TZID=America/Phoenix:20250523T100000
DTEND;TZID=America/Phoenix:20250523T160000
DTSTAMP:20260421T103109
CREATED:20250514T170730Z
LAST-MODIFIED:20250514T170731Z
UID:10001178-1747994400-1748016000@westernassetprotection.com
SUMMARY:WAP In-Person Tech Intensive Training
DESCRIPTION:Register Here > \nWe’re hosting three in-person Tech Intensives designed to help brokers like you master the tools that streamline operations\, boost productivity\, and support real growth. \nThis full-day\, hands-on session will teach you how to work smarter\, stay compliant\, and optimize your workflow\, from onboarding and certifications to quoting and enrollments. \nDon’t live in Greater Phoenix? \nMany brokers are taking proactive steps by traveling to participate in our immersive and focused training sessions\, and we don’t want you to miss this invaluable opportunity. Take a moment to register for a date that aligns with your schedule. If you’re attending WAPCON\, we highly recommend securing your spot for the September 10th training to maximize the value of your experience. \nWe look forward to seeing you there and helping you elevate your tech skills!
URL:https://westernassetprotection.com/event/wap-in-person-tech-intensive-training/
CATEGORIES:WAPTech
END:VEVENT
END:VCALENDAR