BEGIN:VCALENDAR
VERSION:2.0
PRODID:-//Western Asset Protection - ECPv6.15.18//NONSGML v1.0//EN
CALSCALE:GREGORIAN
METHOD:PUBLISH
X-ORIGINAL-URL:https://westernassetprotection.com
X-WR-CALDESC:Events for Western Asset Protection
REFRESH-INTERVAL;VALUE=DURATION:PT1H
X-Robots-Tag:noindex
X-PUBLISHED-TTL:PT1H
BEGIN:VTIMEZONE
TZID:America/Phoenix
BEGIN:STANDARD
TZOFFSETFROM:-0700
TZOFFSETTO:-0700
TZNAME:MST
DTSTART:20230101T000000
END:STANDARD
END:VTIMEZONE
BEGIN:VEVENT
DTSTART;TZID=America/Phoenix:20241111T110000
DTEND;TZID=America/Phoenix:20241111T120000
DTSTAMP:20260422T033838
CREATED:20241101T171958Z
LAST-MODIFIED:20241101T171958Z
UID:10001016-1731322800-1731326400@westernassetprotection.com
SUMMARY:LeadCENTER | New User Training
DESCRIPTION:Register Here > \n  \n\nIntegrity offers Life and Health agents access to high quality\, compliant leads at an affordable cost.\nThis webinar is designed for new users to provide a high-level overview of the different lead types available\, how to order and receive leads\, and manage the leads in LifeCENTER and MedicareCENTER.\n\n  \nRegister now
URL:https://westernassetprotection.com/event/leadcenter-new-user-training/
CATEGORIES:MedicareCENTER
END:VEVENT
END:VCALENDAR