BEGIN:VCALENDAR
VERSION:2.0
PRODID:-//Western Asset Protection - ECPv6.15.18//NONSGML v1.0//EN
CALSCALE:GREGORIAN
METHOD:PUBLISH
X-ORIGINAL-URL:https://westernassetprotection.com
X-WR-CALDESC:Events for Western Asset Protection
REFRESH-INTERVAL;VALUE=DURATION:PT1H
X-Robots-Tag:noindex
X-PUBLISHED-TTL:PT1H
BEGIN:VTIMEZONE
TZID:America/Phoenix
BEGIN:STANDARD
TZOFFSETFROM:-0700
TZOFFSETTO:-0700
TZNAME:MST
DTSTART:20220101T000000
END:STANDARD
END:VTIMEZONE
BEGIN:VEVENT
DTSTART;TZID=America/Phoenix:20230613T090000
DTEND;TZID=America/Phoenix:20230613T160000
DTSTAMP:20260425T121809
CREATED:20230603T213508Z
LAST-MODIFIED:20230603T215412Z
UID:10000093-1686646800-1686672000@westernassetprotection.com
SUMMARY:Medicare Academy - Houston
DESCRIPTION:Register Here >\n\nMedicare Sales Training That Delivers\n\n\nThe industry’s leading Medicare roadshow is coming to a city near you. \nSelling insurance today requires a smart game plan\, the ability to adjust to changing conditions and great coaching. \nWe invite you to attend the Medicare Academy Roadshow! This 1-Day intensive training workshop takes a deep dive into all things Medicare\, ancillary insurance\, systems and structure for success\, sales tips\, and proven business development strategies. \nUse promo code IGNITE \nSeating is limited: RSVP now!
URL:https://westernassetprotection.com/event/medicare-academy-houston/
LOCATION:IL
CATEGORIES:Medicare Academy
ATTACH;FMTTYPE=image/png:https://westernassetprotection.com/wp-content/uploads/2023/03/logo-MedicareAcademy2023.png
END:VEVENT
BEGIN:VEVENT
DTSTART;TZID=America/Phoenix:20230621T080000
DTEND;TZID=America/Phoenix:20230621T090000
DTSTAMP:20260425T121809
CREATED:20230620T003942Z
LAST-MODIFIED:20230620T004204Z
UID:10000113-1687334400-1687338000@westernassetprotection.com
SUMMARY:CSG Med Supp Consumer Quote Training
DESCRIPTION:Register HERE > \n  \nCSG Med Supp Consumer Quote Training \n\n\n\nAdd a Medicare Supplement quoting tool on your website for prospects and clients to run quotes. \nCustomize your plugin with logo\, contact information and carriers you represent. \nReceive lead information when consumers request to learn more. \n\n\n\n\nDiscover increased leads\, referrals and sales when potential customers have the ability to: \n\nRun quotes instantly\nClick to “Learn More”\nConnect with you for the sale\n\n\n  \nRegister today!
URL:https://westernassetprotection.com/event/csg-med-supp-consumer-quote-training/
LOCATION:IL
CATEGORIES:CSG Training
ATTACH;FMTTYPE=image/png:https://westernassetprotection.com/wp-content/uploads/2023/06/CSG-Actuarial-Logo_Transparent.png
END:VEVENT
BEGIN:VEVENT
DTSTART;TZID=America/Phoenix:20230621T110000
DTEND;TZID=America/Phoenix:20230621T120000
DTSTAMP:20260425T121809
CREATED:20230605T022218Z
LAST-MODIFIED:20230605T022218Z
UID:10000097-1687345200-1687348800@westernassetprotection.com
SUMMARY:Skillbuilder: Exciting Med Supp Offerings
DESCRIPTION:Register Here > \n  \n*We cordially invite you to join us for Skillbuilder.*\nThis month\, we’re introducing our new\, powerful Medicare Supplement partnership. \nWhat’s Changed? That’s the best part!\n-WAP currently offers comprehensive support for a variety of MS options\, including AARP\, Aetna\, Humana\, and Cigna\, to name a few. \n-Western Penn Marketing will now offer additional products and support to help streamline your workflow\, including Integrity’s exclusive Medicare supplement product offerings. \nWith this powerful partnership\, we’re taking MS to the next level. \nRegister today! We’ll see you on the call.
URL:https://westernassetprotection.com/event/skillbuilder-exciting-med-supp-offerings/
LOCATION:IL
CATEGORIES:Skillbuilder
ATTACH;FMTTYPE=image/png:https://westernassetprotection.com/wp-content/uploads/2023/05/skillbuilder-header.png
END:VEVENT
BEGIN:VEVENT
DTSTART;TZID=America/Phoenix:20230629T100000
DTEND;TZID=America/Phoenix:20230629T110000
DTSTAMP:20260425T121809
CREATED:20230628T183752Z
LAST-MODIFIED:20230628T184204Z
UID:10000118-1688032800-1688036400@westernassetprotection.com
SUMMARY:New Agent MedicareCENTER Training - Provided by Nathan Clark
DESCRIPTION:Register HERE > \n  \nRSVP for this important training and say hello to a powerful\, easy-to-use system built to help you serve clients better\, boost your production and take control of your business. Life as an agent just got better! \nAn important part of our onboarding process\, MedicareCENTER training provides you with an overview of all you can do with this amazing resource. \nThis robust\, free tool is provided to all WAP agents! \nFeatures include: \nCRM – Manage your clients and prospects\nQuote & Enroll –\nCall Recording Solution – Smart and simple compliance at the click of a button\nDashboard & Reporting – Understand and meet needs faster with at-a-glance client tracking\nMobile App – Work when you want\, from where you want. Get mobile-exclusive push notifications\, plus all the features of MedicareCENTER\nBooster Production – With Lead Management\, Side-by-Side Plan Comparison\, and Integrated Quoting and Enrollment options \nMedicareCENTER empowers you to work smarter and more efficiently. All to help you take your business to a whole new level.
URL:https://westernassetprotection.com/event/new-agent-medicarecenter-training-provided-by-nathan-clark/
LOCATION:IL
CATEGORIES:New WAP Agent
ATTACH;FMTTYPE=image/png:https://westernassetprotection.com/wp-content/uploads/2023/06/MedicareCenter.png
END:VEVENT
BEGIN:VEVENT
DTSTART;TZID=America/Phoenix:20230629T150000
DTEND;TZID=America/Phoenix:20230629T160000
DTSTAMP:20260425T121809
CREATED:20230622T220358Z
LAST-MODIFIED:20230622T224029Z
UID:10000114-1688050800-1688054400@westernassetprotection.com
SUMMARY:New Agent Training: Medicare Engine Agent Portal with Nathan Clark
DESCRIPTION:Register HERE > \n  \nIf you are new to Western Asset Protection\, you now have powerful technology to help you work more efficiently\, saving you time and money. \nRegister today and receive an overview and navigation tips for our proprietary Medicare Engine Agent Portal tool. \nThe WAP MEDICARE ENGINE AGENT PORTAL continues to evolve and deliver value for brokers and agencies. Agents who actively use this tool rave about this back-office support resource. \nOnce you log in\, you begin to see just how powerful this platform is. Our Tech Team continues to make improvements\, enhancing the portal experience on an ongoing basis for both agents and agencies. \nSee you there! \n 
URL:https://westernassetprotection.com/event/new-agent-training-medicare-engine-agent-portal/
LOCATION:IL
CATEGORIES:New WAP Agent
ATTACH;FMTTYPE=image/png:https://westernassetprotection.com/wp-content/uploads/2023/06/MedicareEngine-concept-On-Dark.png
END:VEVENT
END:VCALENDAR