BEGIN:VCALENDAR
VERSION:2.0
PRODID:-//Western Asset Protection - ECPv6.15.18//NONSGML v1.0//EN
CALSCALE:GREGORIAN
METHOD:PUBLISH
X-ORIGINAL-URL:https://westernassetprotection.com
X-WR-CALDESC:Events for Western Asset Protection
REFRESH-INTERVAL;VALUE=DURATION:PT1H
X-Robots-Tag:noindex
X-PUBLISHED-TTL:PT1H
BEGIN:VTIMEZONE
TZID:America/Phoenix
BEGIN:STANDARD
TZOFFSETFROM:-0700
TZOFFSETTO:-0700
TZNAME:MST
DTSTART:20240101T000000
END:STANDARD
END:VTIMEZONE
BEGIN:VEVENT
DTSTART;TZID=America/Phoenix:20250203T130000
DTEND;TZID=America/Phoenix:20250203T140000
DTSTAMP:20260422T213153
CREATED:20250123T233630Z
LAST-MODIFIED:20250123T233630Z
UID:10001116-1738587600-1738591200@westernassetprotection.com
SUMMARY:Agency Leadership Chat
DESCRIPTION:Don’t miss this important discussion \nJoin us for the first Agency Leadership Chat of the year on Monday\, January 6th. This exclusive session will help you prep for 2025 and gear up for an incredible new year ahead. If you have not received an invitation to this exclusive discussion and are interested in attending\, reach out to Sherri at support@westernassetprotection. \nWe look forward to seeing you on the call. \n 
URL:https://westernassetprotection.com/event/agency-leadership-chat-22/
LOCATION:IL
CATEGORIES:Agency Leadership
END:VEVENT
BEGIN:VEVENT
DTSTART;TZID=America/Phoenix:20250211T110000
DTEND;TZID=America/Phoenix:20250211T120000
DTSTAMP:20260422T213153
CREATED:20250123T234016Z
LAST-MODIFIED:20250203T172939Z
UID:10001117-1739271600-1739275200@westernassetprotection.com
SUMMARY:Talk-O Tuesday
DESCRIPTION:Greetings Agents & Agency Partners\, \nJoin us for Talk-O Tuesday! The fastest hour in Medicare. \nWe’re reaching out to remind you about our upcoming Talk-O Tuesday\, one of the most important monthly discussions for agents like you! This is a great chance to gain valuable insights and stay updated on essential industry trends. \nRegister today!
URL:https://westernassetprotection.com/event/talk-o-tuesday-10/
LOCATION:IL
CATEGORIES:Talk-O Tuesday
END:VEVENT
BEGIN:VEVENT
DTSTART;TZID=America/Phoenix:20250213T090000
DTEND;TZID=America/Phoenix:20250213T100000
DTSTAMP:20260422T213153
CREATED:20250211T170443Z
LAST-MODIFIED:20250211T170443Z
UID:10001127-1739437200-1739440800@westernassetprotection.com
SUMMARY:Devoted In-Person New Broker Orientation - Phoenix Market
DESCRIPTION:Join us for an in-depth session on all things Devoted Health\, tailored to empower you with the knowledge and tools to thrive in Arizona. \nTopics include:\n– Who we are\n– Introduction to the local team\n-Overview of member and broker tools and resources\n– 2025 Plan Benefits in Arizona\n-Agent Development Opportunities \n  \nRegister HERE >
URL:https://westernassetprotection.com/event/devoted-in-person-new-broker-orientation-phoenix-market/
LOCATION:Devoted Health\, 16435 North Scottsdale Road #ste 28\, Scottsdale\, Arizona\, 85254
CATEGORIES:Devoted
END:VEVENT
BEGIN:VEVENT
DTSTART;TZID=America/Phoenix:20250220T090000
DTEND;TZID=America/Phoenix:20250220T100000
DTSTAMP:20260422T213153
CREATED:20250124T221247Z
LAST-MODIFIED:20250124T221248Z
UID:10001123-1740042000-1740045600@westernassetprotection.com
SUMMARY:Understanding Med Adv Coverage Gaps and Ask Integrity Cross-selling Tags with Queen of the Bundle
DESCRIPTION:Register HERE > \nThursday\, February 20 at 10 a.m. CST \nQueen of the Bundle\, Gaylan Hendricks\, joins us to educate agents on Medicare Advantage coverage gaps and explain why the Ask Integrity Cross-selling Tags recommend specific ancillary products based on the exact benefits and co-pays of Med Adv plans. \nDiscover which ancillary products would be most beneficial for your clients and learn how to effectively discuss these options with them. Utilize MedicareCENTER’s Client Notes and Custom Tags to streamline your cross-selling efforts.
URL:https://westernassetprotection.com/event/understanding-med-adv-coverage-gaps-and-ask-integrity-cross-selling-tags-with-queen-of-the-bundle/
LOCATION:IL
CATEGORIES:Integrity Technology Platform
END:VEVENT
BEGIN:VEVENT
DTSTART;TZID=America/Phoenix:20250226T110000
DTEND;TZID=America/Phoenix:20250226T120000
DTSTAMP:20260422T213153
CREATED:20250123T235005Z
LAST-MODIFIED:20250123T235005Z
UID:10001118-1740567600-1740571200@westernassetprotection.com
SUMMARY:Skillbuilder - Business Building
DESCRIPTION:Skillbuilder: Business Building\n\n\n\n\n\nRegister Here > \nBusiness Building Strategies and Tips You are invited to attend the Business Building Skillbuilder presented by David Wessling. \nThis session will provide valuable insights and information regarding ways to build and expand your insurance business. \nDetails of the Event: \n\n**Date:** Wednesday\, February 26\n**Time:** 11 AM Arizona Time\n**Duration:** 30-45 minutes\n**Presenter:** David Wessling\n\nPlease mark your calendar and join us for this informative session. This webinar will equip you with the knowledge and tools to stay ahead\, even when the unexpected happens. Register now to secure your spot.
URL:https://westernassetprotection.com/event/skillbuilder-business-building/
LOCATION:IL
CATEGORIES:Skillbuilder
END:VEVENT
END:VCALENDAR