BEGIN:VCALENDAR
VERSION:2.0
PRODID:-//Western Asset Protection - ECPv6.15.18//NONSGML v1.0//EN
CALSCALE:GREGORIAN
METHOD:PUBLISH
X-WR-CALNAME:Western Asset Protection
X-ORIGINAL-URL:https://westernassetprotection.com
X-WR-CALDESC:Events for Western Asset Protection
REFRESH-INTERVAL;VALUE=DURATION:PT1H
X-Robots-Tag:noindex
X-PUBLISHED-TTL:PT1H
BEGIN:VTIMEZONE
TZID:America/Phoenix
BEGIN:STANDARD
TZOFFSETFROM:-0700
TZOFFSETTO:-0700
TZNAME:MST
DTSTART:20240101T000000
END:STANDARD
END:VTIMEZONE
BEGIN:VEVENT
DTSTART;TZID=America/Phoenix:20250602T130000
DTEND;TZID=America/Phoenix:20250602T140000
DTSTAMP:20260422T141356
CREATED:20250106T171229Z
LAST-MODIFIED:20250106T184531Z
UID:10001063-1748869200-1748872800@westernassetprotection.com
SUMMARY:Agency Leadership Chat
DESCRIPTION:The Agency Leadership Chat is exclusively created to tackle urgent issues and assist in boosting the growth of your agency. \nInterested in attending? Let us know. Email Sherri Johnson at support@westernassetprotection.com. \nJoin us for this exclusive thought-leadership monthly discussion with Paul Rose\, Steven Smith\, and David Wessling. Gain valuable insights and proven strategies to grow your agency. \nDon’t miss this great conversation!\nRegister today!
URL:https://westernassetprotection.com/event/agency-leadership-chat-16/2025-06-02/
LOCATION:IL
CATEGORIES:Agency Leadership
END:VEVENT
BEGIN:VEVENT
DTSTART;TZID=America/Phoenix:20250604T100000
DTEND;TZID=America/Phoenix:20250604T153000
DTSTAMP:20260422T141356
CREATED:20250326T224436Z
LAST-MODIFIED:20250327T145755Z
UID:10001155-1749031200-1749051000@westernassetprotection.com
SUMMARY:Medicare Business Accelerator (MBA) Workshop - Waipahu (Oahu)\, HI
DESCRIPTION:Registration is open for the Medicare Business Accelerator (MBA)\, formerly Medicare Academy!\nReserve your seat HERE for MBA > \nPROMO CODE: \nPlease check with your Agency first for a Promo Code. Or\, use Promo Code “IGNITE”. \nLearn more about the Medicare Academy MBA \n\nDon’t miss this 1-Day Value-Packed Workshop!\nReasons to attend:\nIf you’re new to Western Asset Protection\, this 1-Day Immersive Workshop is for you! \nIf you’ve attended a Medicare Academy Workshop in the past\, we encourage you to come again. Our Sales Leadership Team will refresh you on business-building strategies. \n\nTake a deep dive into Medicare\, ancillary insurance\, systems\, and structure for success\, as well as sales tips and proven business development strategies.\nEnhance your skills and increase your earning potential.\nLearn how to increase referrals and develop techniques that keep YOU front and center with prospects and clients!\nUncover new business from your existing clients\nIncrease customer retention\n2025 updates on the State of Medicare\nLearn sales techniques to diversify your portfolio\n\nWe hope to see you there!
URL:https://westernassetprotection.com/event/medicare-business-accelerator-mba-workshop-waipahu-oahu-hi/
LOCATION:IL
CATEGORIES:Medicare Academy,Medicare Business Accelerator (MBA)
END:VEVENT
BEGIN:VEVENT
DTSTART;TZID=America/Phoenix:20250610T110000
DTEND;TZID=America/Phoenix:20250610T120000
DTSTAMP:20260422T141356
CREATED:20250528T202645Z
LAST-MODIFIED:20250630T152049Z
UID:10001187-1749553200-1749556800@westernassetprotection.com
SUMMARY:Talk-O Tuesday
DESCRIPTION:Register HERE > \n  \nOn the 2nd Tuesday of every month\, we invite you to join the discussion around anything and everything related to being in business in the Medicare space. Boost your business success! Join the WAP Team for Talk-O Tuesday\, a chance to connect with our National FMO Sales\, Compliance\, and Marketing Leaders. \n\nBring your questions and your ideas and be part of the conversation.\nPerfect for refining your strategies and staying updated on market trends!\n\n  \nWe look forward to seeing you there.
URL:https://westernassetprotection.com/event/talk-o-tuesday-13/2025-06-10/
LOCATION:IL
CATEGORIES:Talk-O Tuesday
END:VEVENT
BEGIN:VEVENT
DTSTART;TZID=America/Phoenix:20250617T110000
DTEND;TZID=America/Phoenix:20250617T120000
DTSTAMP:20260422T141356
CREATED:20250613T190409Z
LAST-MODIFIED:20250613T190410Z
UID:10001197-1750158000-1750161600@westernassetprotection.com
SUMMARY:Get to Know Western Asset Protection
DESCRIPTION:Register Here > \n  \nMBA Attendees! You’re invited to attend WAP’s Introduction & Next Steps.\nAll are welcome to join. \nOn this 45-minute Zoom webinar\, we will cover:  \n\nWho is Western Asset Protection\nThe Medicare opportunity\nHow we support our agents in becoming champions in this industry\, and more!\n30-minute presentation with 15 minutes for questions at the end.\n\n  \nWe look forward to meeting you virtually! \n 
URL:https://westernassetprotection.com/event/get-to-know-western-asset-protection/
LOCATION:IL
CATEGORIES:Western Asset Protection Training
END:VEVENT
BEGIN:VEVENT
DTSTART;TZID=America/Phoenix:20250624T110000
DTEND;TZID=America/Phoenix:20250624T120000
DTSTAMP:20260422T141356
CREATED:20250613T190924Z
LAST-MODIFIED:20250613T190924Z
UID:10001198-1750762800-1750766400@westernassetprotection.com
SUMMARY:Get to Know Western Asset Protection
DESCRIPTION:Register Here > \n  \nMBA Attendees! You’re invited to attend WAP’s Introduction & Next Steps.\nAll are welcome to join. \nOn this 45-minute Zoom webinar\, we will cover: \n\nWho is Western Asset Protection\nThe Medicare opportunity\nHow we support our agents in becoming champions in this industry\, and more!\n30-minute presentation with 15 minutes for questions at the end.\n\n  \nWe look forward to meeting you virtually!
URL:https://westernassetprotection.com/event/get-to-know-western-asset-protection-2/
LOCATION:IL
CATEGORIES:Western Asset Protection Training
END:VEVENT
BEGIN:VEVENT
DTSTART;TZID=America/Phoenix:20250625T110000
DTEND;TZID=America/Phoenix:20250625T113000
DTSTAMP:20260422T141356
CREATED:20250610T192322Z
LAST-MODIFIED:20250616T192106Z
UID:10001188-1750849200-1750851000@westernassetprotection.com
SUMMARY:Sales Supplemental Series – Boost Your Commissions with Confidence
DESCRIPTION:Sales Supplemental Series – Boost Your Commissions with ConfidenceRegister Here  \nLooking to increase your Medicare sales? This webinar series is designed for brokers seeking to maximize earnings\, cross-sell effectively\, and stay compliant\, offering real strategies you can use right away. \nWhat You’ll Get:\n-Proven sales techniques\n-Supplemental product deep dives\n-Tools to simplify the sales process\n-Live Q&A with Julie Ruttinger Griffith \nWebinar Schedule:\n• 6/25 – Cancer: How a $0 premium plan turns into a $500/mo. plan\n• 7/2 – Hospital Indemnity: Less than $10/mo. to protect from a $1K+ hospital bill\n• 7/9 – Short Term Care / Home Health Care: How to provide Long-Term Coverage with a Short-Term Care Plan\n• 7/16 – Medicare Supplements: There’s a want\, there’s a need\, there’s an agent selling them – is it you?\n• 7/23 – Dental\, Vision\, Hearing: Most requested benefit by seniors\, & it’s either not covered\, or covered poorly – are you filling the gap?\n• 7/30 – Affordable Choice: An under-65 plan to bridge the gap to Medicare when the spouse in the house is left behind. \nDon’t miss this series created to help your business grow!\nRegister now!
URL:https://westernassetprotection.com/event/sales-supplemental-series-boost-your-commissions-with-confidence/2025-06-25/
LOCATION:IL
CATEGORIES:Western Asset Protection Training
END:VEVENT
END:VCALENDAR