BEGIN:VCALENDAR
VERSION:2.0
PRODID:-//Western Asset Protection - ECPv6.15.18//NONSGML v1.0//EN
CALSCALE:GREGORIAN
METHOD:PUBLISH
X-ORIGINAL-URL:https://westernassetprotection.com
X-WR-CALDESC:Events for Western Asset Protection
REFRESH-INTERVAL;VALUE=DURATION:PT1H
X-Robots-Tag:noindex
X-PUBLISHED-TTL:PT1H
BEGIN:VTIMEZONE
TZID:America/Phoenix
BEGIN:STANDARD
TZOFFSETFROM:-0700
TZOFFSETTO:-0700
TZNAME:MST
DTSTART:20220101T000000
END:STANDARD
END:VTIMEZONE
BEGIN:VEVENT
DTSTART;TZID=America/Phoenix:20230713T080000
DTEND;TZID=America/Phoenix:20230713T090000
DTSTAMP:20260425T140748
CREATED:20230709T145854Z
LAST-MODIFIED:20230709T145854Z
UID:10000141-1689235200-1689238800@westernassetprotection.com
SUMMARY:CSG Quoting Tool Training
DESCRIPTION:Register HERE > \n  \nNew to CSG Training\nIf you are new to using the CSG quoting tool\, this training is designed for YOU. \n\nDuring this webinar\, we will introduce you to CSG Actuarial\, who specializes in providing accurate\, real-time quoting for Medicare Supplements\, Medicare Advantage\, Part D\, Senior Dental/Vision\, Hospital Indemnity and Final Expense.\nThere are several additional features inside CSG including E-Applications\, Electronic Scope of Appointments\, Market Analytics and Carrier Heat Maps.\nAfter this training\, you will fully understand why agents rely on CSG for all their quoting needs.\n\nThursday\, July 13 at 10 a.m. Central Time
URL:https://westernassetprotection.com/event/csg-quoting-tool-training/
LOCATION:IL
CATEGORIES:CSG Training
ATTACH;FMTTYPE=image/png:https://westernassetprotection.com/wp-content/uploads/2023/06/CSG-Actuarial-Logo_Transparent.png
END:VEVENT
BEGIN:VEVENT
DTSTART;TZID=America/Phoenix:20230713T080000
DTEND;TZID=America/Phoenix:20230713T090000
DTSTAMP:20260425T140748
CREATED:20230713T174745Z
LAST-MODIFIED:20230713T174745Z
UID:10000156-1689235200-1689238800@westernassetprotection.com
SUMMARY:IMG MedicareCENTER CSG App
DESCRIPTION:Register HERE > \n  \nQuote Med Supp & Ancillary Products\, View Medicare Enrollment & Demographics \nIf you are new to using the CSG quoting tool\, this training is designed for YOU. During this webinar\, we will introduce you to CSG Actuarial\, who specializes in providing accurate\, real-time quoting for Medicare Supplements\, Medicare Advantage\, Part D\, Senior Dental/Vision\, Hospital Indemnity and Final Expense. There are several additional features inside CSG\, including E-Applications\, Electronic Scope of Appointments\, Market Analytics and Carrier Heat Maps. After this training\, you will fully understand why agents rely on CSG for all their quoting needs.
URL:https://westernassetprotection.com/event/img-medicarecenter-csg-app/
LOCATION:IL
CATEGORIES:CSG Training
ATTACH;FMTTYPE=image/png:https://westernassetprotection.com/wp-content/uploads/2023/06/CSG-Actuarial-Logo_Transparent.png
END:VEVENT
BEGIN:VEVENT
DTSTART;TZID=America/Phoenix:20230713T110000
DTEND;TZID=America/Phoenix:20230713T120000
DTSTAMP:20260425T140748
CREATED:20230712T213243Z
LAST-MODIFIED:20230712T214618Z
UID:10000150-1689246000-1689249600@westernassetprotection.com
SUMMARY:MedicareCENTER Scope of Appointment & Quote & Enroll
DESCRIPTION:Register HERE > \n  \nTrack Your Sales Process. It is recommended you attend an overview training before attending this webinar. \n\n\nIMG will demonstrate how to complete a Scope of Appointment\, Quote Medicare Advantage plans and take an enrollment. We will discuss how to quote Medicare Supplements and ancillary products in CSG APP.
URL:https://westernassetprotection.com/event/medicarecenter-scope-of-appointment-quote-enroll-2/
LOCATION:IL
CATEGORIES:MedicareCENTER
ATTACH;FMTTYPE=image/png:https://westernassetprotection.com/wp-content/uploads/2023/06/MedicareCenter.png
END:VEVENT
END:VCALENDAR