BEGIN:VCALENDAR
VERSION:2.0
PRODID:-//Western Asset Protection - ECPv6.15.18//NONSGML v1.0//EN
CALSCALE:GREGORIAN
METHOD:PUBLISH
X-ORIGINAL-URL:https://westernassetprotection.com
X-WR-CALDESC:Events for Western Asset Protection
REFRESH-INTERVAL;VALUE=DURATION:PT1H
X-Robots-Tag:noindex
X-PUBLISHED-TTL:PT1H
BEGIN:VTIMEZONE
TZID:America/Phoenix
BEGIN:STANDARD
TZOFFSETFROM:-0700
TZOFFSETTO:-0700
TZNAME:MST
DTSTART:20220101T000000
END:STANDARD
END:VTIMEZONE
BEGIN:VEVENT
DTSTART;TZID=America/Phoenix:20230803T090000
DTEND;TZID=America/Phoenix:20230803T100000
DTSTAMP:20260425T044608
CREATED:20230803T171541Z
LAST-MODIFIED:20230803T171605Z
UID:10000168-1691053200-1691056800@westernassetprotection.com
SUMMARY:Western Penn & Allstate Presentation: Allstate Deep Dive with WPM & Craig Rydzeski
DESCRIPTION:Register Here > \n  \nJoin Western Penn Marketing for our Allstate Medicare Supplement Deep Dive Webinar with Allstate Health Solutions’ very own Craig Rydzeski. Learn about their Medicare Supplement and how it’s a strong name\, top-rated service\, & low premiums are sweeping the nation as the leading Medicare Supplement in the market.\nHigh rating\, Low premiums\, and up to a 25% Discount? You need this Med Supp in your portfolio!
URL:https://westernassetprotection.com/event/western-penn-allstate-presentation-allstate-deep-dive-with-wpm-craig-rydzeski/
LOCATION:IL
CATEGORIES:Carrier Training
END:VEVENT
BEGIN:VEVENT
DTSTART;TZID=America/Phoenix:20230803T110000
DTEND;TZID=America/Phoenix:20230803T120000
DTSTAMP:20260425T044608
CREATED:20230724T212010Z
LAST-MODIFIED:20230724T213100Z
UID:10000159-1691060400-1691064000@westernassetprotection.com
SUMMARY:2024 Aetna AZ First Look
DESCRIPTION:Register HERE > \n  \n2024 Aetna First Look – Engage & Ask Questions with the Aetna Team \nStay current on the hottest benefit trends from Aetna – we have the scoop! Join us for the exclusive First Look at Benefits for 2024 with Aetna. Learn all about the company’s simplified plan design\, enhanced fitness benefits\, and value plans to help build out your portfolio or stay up-to-date with current plans. Bring your questions and register today! \nPresenters:\n• Angie Clark\, Aetna Broker Manager\n• Jaime Leon\, Aetna Broker Manager\n• Marlena Del Rosario\, Aetna Broker Manager \nRegister Today!
URL:https://westernassetprotection.com/event/2024-az-aetna-first-look/
LOCATION:IL
CATEGORIES:Carrier Training
ATTACH;FMTTYPE=image/png:https://westernassetprotection.com/wp-content/uploads/2022/06/Aetna_Logo_Violet_CMYK_Coated.png
END:VEVENT
END:VCALENDAR