BEGIN:VCALENDAR
VERSION:2.0
PRODID:-//Western Asset Protection - ECPv6.15.18//NONSGML v1.0//EN
CALSCALE:GREGORIAN
METHOD:PUBLISH
X-ORIGINAL-URL:https://westernassetprotection.com
X-WR-CALDESC:Events for Western Asset Protection
REFRESH-INTERVAL;VALUE=DURATION:PT1H
X-Robots-Tag:noindex
X-PUBLISHED-TTL:PT1H
BEGIN:VTIMEZONE
TZID:America/Chicago
BEGIN:DAYLIGHT
TZOFFSETFROM:-0600
TZOFFSETTO:-0500
TZNAME:CDT
DTSTART:20220313T080000
END:DAYLIGHT
BEGIN:STANDARD
TZOFFSETFROM:-0500
TZOFFSETTO:-0600
TZNAME:CST
DTSTART:20221106T070000
END:STANDARD
BEGIN:DAYLIGHT
TZOFFSETFROM:-0600
TZOFFSETTO:-0500
TZNAME:CDT
DTSTART:20230312T080000
END:DAYLIGHT
BEGIN:STANDARD
TZOFFSETFROM:-0500
TZOFFSETTO:-0600
TZNAME:CST
DTSTART:20231105T070000
END:STANDARD
BEGIN:DAYLIGHT
TZOFFSETFROM:-0600
TZOFFSETTO:-0500
TZNAME:CDT
DTSTART:20240310T080000
END:DAYLIGHT
BEGIN:STANDARD
TZOFFSETFROM:-0500
TZOFFSETTO:-0600
TZNAME:CST
DTSTART:20241103T070000
END:STANDARD
END:VTIMEZONE
BEGIN:VEVENT
DTSTART;TZID=America/Chicago:20230907T130000
DTEND;TZID=America/Chicago:20230907T140000
DTSTAMP:20260424T160626
CREATED:20230831T232914Z
LAST-MODIFIED:20230831T232914Z
UID:10000204-1694091600-1694095200@westernassetprotection.com
SUMMARY:2024 Wellcare First Look - Illinois
DESCRIPTION:Register Here > \n  \nAttention Illinois Medicare Agents\, \nWe are excited to announce the Wellcare Illinois First Look at Benefits for 2024. Don’t miss out on this interactive webinar with the IL Wellcare Team. Register today and get the chance to ask questions about the First Look highlights and receive quick and helpful answers. We are here to help you succeed this AEP! \nYou’ll hear from:\nJames Andretich\, Wellcare Regional Agency Manager\, IL\nDavid Wessling\, WAP Regional Sales Manager\nSherri Johnson\, New Business Development \nHighlights: \n• Meet the Team\n• 2024 Wellcare MAPD Overview\n• 2024 MAPD Product Overview\n• 2024 PDP Product Overview\n• Pharmacy Benefits Manager\n• Materials Update\n• Broker Experience Enhancements\n• Q&A \n  \nJoin us for the important presentation. See you there!
URL:https://westernassetprotection.com/event/2024-wellcare-first-look-illinois/
LOCATION:IL
CATEGORIES:Carrier Training
ATTACH;FMTTYPE=image/png:https://westernassetprotection.com/wp-content/uploads/2023/07/wellcare-logo.png
END:VEVENT
END:VCALENDAR