BEGIN:VCALENDAR
VERSION:2.0
PRODID:-//Western Asset Protection - ECPv6.15.18//NONSGML v1.0//EN
CALSCALE:GREGORIAN
METHOD:PUBLISH
X-WR-CALNAME:Western Asset Protection
X-ORIGINAL-URL:https://westernassetprotection.com
X-WR-CALDESC:Events for Western Asset Protection
REFRESH-INTERVAL;VALUE=DURATION:PT1H
X-Robots-Tag:noindex
X-PUBLISHED-TTL:PT1H
BEGIN:VTIMEZONE
TZID:America/Phoenix
BEGIN:STANDARD
TZOFFSETFROM:-0700
TZOFFSETTO:-0700
TZNAME:MST
DTSTART:20220101T000000
END:STANDARD
END:VTIMEZONE
BEGIN:VEVENT
DTSTART;TZID=America/Phoenix:20230725T070000
DTEND;TZID=America/Phoenix:20230725T080000
DTSTAMP:20260425T093830
CREATED:20230710T041003Z
LAST-MODIFIED:20230710T041003Z
UID:10000146-1690268400-1690272000@westernassetprotection.com
SUMMARY:Humana's Enrollment HUB (eHub) Training
DESCRIPTION:Register HERE > \n  \n\nHumana’s Enrollment HUB (eHub) is an online and offline enrollment tool that provides an end-to-end workflow and improves the speed and accuracy of enrollment.\nDuring this webinar\, we will demonstrate how to use Enrollment HUB\, including creating SOAs\, completing enrollment applications\, and much more.
URL:https://westernassetprotection.com/event/humanas-enrollment-hub-ehub-training/
LOCATION:IL
CATEGORIES:Carrier Training
ATTACH;FMTTYPE=image/svg+xml:https://westernassetprotection.com/wp-content/uploads/2023/07/humana-logo-green.svg
END:VEVENT
BEGIN:VEVENT
DTSTART;TZID=America/Phoenix:20230725T080000
DTEND;TZID=America/Phoenix:20230725T090000
DTSTAMP:20260425T093830
CREATED:20230713T174302Z
LAST-MODIFIED:20230713T174302Z
UID:10000155-1690272000-1690275600@westernassetprotection.com
SUMMARY:IMG MedicareCENTER Personal URL (PURL)
DESCRIPTION:Register HERE > \n  \nFree Med Adv Consumer Quoting & Enrollment Website \n\n\nEvery agent with a MedicareCENTER account receives a free\, client-facing website for consumers to quote and enroll themselves. In this webinar\, we will show agents where to find their PURL\, walk-through the website and demonstrate how consumers can enter their doctors\, prescription drugs and preferred pharmacy to run a Medicare Advantage or PDP quote and do an enrollment.
URL:https://westernassetprotection.com/event/img-medicarecenter-personal-url-purl-2/
LOCATION:IL
CATEGORIES:MedicareCENTER
ATTACH;FMTTYPE=image/png:https://westernassetprotection.com/wp-content/uploads/2023/06/MedicareCenter.png
END:VEVENT
BEGIN:VEVENT
DTSTART;TZID=America/Phoenix:20230725T100000
DTEND;TZID=America/Phoenix:20230725T110000
DTSTAMP:20260425T093830
CREATED:20230709T144918Z
LAST-MODIFIED:20230709T144918Z
UID:10000139-1690279200-1690282800@westernassetprotection.com
SUMMARY:CSG Understanding the Medicare Market with CSG & Deft Research
DESCRIPTION:Register HERE> \n  \nUnderstanding the Medicare Market with CSG + Deft Research\nDeft Research recently released its 2023 Age-In Study. \n\nThis study continues to help health insurers understand the likely coverage choices of Age-Ins upon their initial Medicare enrollment\, as well as the channels through which they tend to shop and enroll.\nDeft will be joining us during this webinar to discuss the finding of this study.\nWe will also cover the tools CSG provides to help understand the Medicare market and enrollment data.\n\nTuesday\, July 25 at 12 p.m. Central Time
URL:https://westernassetprotection.com/event/csg-understanding-the-medicare-market-with-csg-deft-research/
LOCATION:IL
CATEGORIES:CSG Training
ATTACH;FMTTYPE=image/png:https://westernassetprotection.com/wp-content/uploads/2023/06/CSG-Actuarial-Logo_Transparent.png
END:VEVENT
BEGIN:VEVENT
DTSTART;TZID=America/Phoenix:20230726T110000
DTEND;TZID=America/Phoenix:20230726T120000
DTSTAMP:20260425T093830
CREATED:20230710T040530Z
LAST-MODIFIED:20230710T040530Z
UID:10000145-1690369200-1690372800@westernassetprotection.com
SUMMARY:Humana Find a Doctor Tool
DESCRIPTION:Register HERE > \n  \n\nStay compliant and up to date by using the Find a Doctor tool to find doctors\, networks\, primary care IDs\, IPAs\, specialists and pharmacies for all plan types.\nWe will demonstrate use of this online tool as well as Q & A.\n\n  \nRegister today!
URL:https://westernassetprotection.com/event/humana-find-a-doctor-tool/
LOCATION:IL
CATEGORIES:Carrier Training
ATTACH;FMTTYPE=image/svg+xml:https://westernassetprotection.com/wp-content/uploads/2023/07/humana-logo-green.svg
END:VEVENT
BEGIN:VEVENT
DTSTART;TZID=America/Phoenix:20230726T110000
DTEND;TZID=America/Phoenix:20230731T120000
DTSTAMP:20260425T093830
CREATED:20230713T155003Z
LAST-MODIFIED:20230713T155003Z
UID:10000153-1690369200-1690804800@westernassetprotection.com
SUMMARY:MedicareCENTER LeadCENTER Training - Recommended
DESCRIPTION:Register HERE > \n  \nOrder Health & Life leads and receive real-time leads. Learn how health leads are transferred and managed in MedicareCENTER. \nLeadCENTER is your one-stop shop for high-quality health and life leads! In this webinar\, we will review how to order leads\, set up real-time campaigns\, and how to manage your leads.
URL:https://westernassetprotection.com/event/medicarecenter-leadcenter-training-recommended/
LOCATION:IL
CATEGORIES:MedicareCENTER
ATTACH;FMTTYPE=image/png:https://westernassetprotection.com/wp-content/uploads/2023/06/MedicareCenter.png
END:VEVENT
BEGIN:VEVENT
DTSTART;TZID=America/Phoenix:20230727T080000
DTEND;TZID=America/Phoenix:20230727T090000
DTSTAMP:20260425T093830
CREATED:20230712T213559Z
LAST-MODIFIED:20230727T150437Z
UID:10000151-1690444800-1690448400@westernassetprotection.com
SUMMARY:IMG MedicareCENTER Scope of Appointment & Quote & Enroll
DESCRIPTION:Register HERE > \n  \nTrack Your Sales Process. It is recommended you attend an overview training before attending this webinar. \n\n\nIMG will demonstrate how to complete a Scope of Appointment\, Quote Medicare Advantage plans and take an enrollment. We will discuss how to quote Medicare Supplements and ancillary products in CSG APP.
URL:https://westernassetprotection.com/event/medicarecenter-scope-of-appointment-quote-enroll-3/
LOCATION:IL
CATEGORIES:MedicareCENTER
ATTACH;FMTTYPE=image/png:https://westernassetprotection.com/wp-content/uploads/2023/06/MedicareCenter.png
END:VEVENT
BEGIN:VEVENT
DTSTART;TZID=America/Phoenix:20230727T110000
DTEND;TZID=America/Phoenix:20230727T120000
DTSTAMP:20260425T093830
CREATED:20230710T040104Z
LAST-MODIFIED:20230710T040104Z
UID:10000144-1690455600-1690459200@westernassetprotection.com
SUMMARY:MyHumana Business Center Training
DESCRIPTION:Register HERE > \n  \nMy Humana Business Tool \n\nThe My Humana Business tool provides quick access to your applications and policies so you can easily manage your business.\nThis webinar will provide an overview of this tool\, working with reports\, checking application status\, and submitting service inquiries.\n\nRegister today!
URL:https://westernassetprotection.com/event/myhumana-business-center-training-2/
LOCATION:IL
CATEGORIES:Carrier Training
ATTACH;FMTTYPE=image/svg+xml:https://westernassetprotection.com/wp-content/uploads/2023/07/humana-logo-green.svg
END:VEVENT
END:VCALENDAR