BEGIN:VCALENDAR
VERSION:2.0
PRODID:-//Western Asset Protection - ECPv6.15.18//NONSGML v1.0//EN
CALSCALE:GREGORIAN
METHOD:PUBLISH
X-WR-CALNAME:Western Asset Protection
X-ORIGINAL-URL:https://westernassetprotection.com
X-WR-CALDESC:Events for Western Asset Protection
REFRESH-INTERVAL;VALUE=DURATION:PT1H
X-Robots-Tag:noindex
X-PUBLISHED-TTL:PT1H
BEGIN:VTIMEZONE
TZID:America/Phoenix
BEGIN:STANDARD
TZOFFSETFROM:-0700
TZOFFSETTO:-0700
TZNAME:MST
DTSTART:20230101T000000
END:STANDARD
END:VTIMEZONE
BEGIN:VEVENT
DTSTART;TZID=America/Phoenix:20240416T090000
DTEND;TZID=America/Phoenix:20240416T160000
DTSTAMP:20260424T035918
CREATED:20231212T181936Z
LAST-MODIFIED:20240210T004237Z
UID:10000307-1713258000-1713283200@westernassetprotection.com
SUMMARY:Medicare Academy - Las Cruces\, NM
DESCRIPTION:Click here to register > \n  \nIf you’re new to Western Asset Protection\, this 1-Day Immersive Workshop is for you! \nAlready attended in the past?  New\, updated content added. You don’t want to miss it. Get a refresher on business-building strategies from our Sales Team. \n\nTake a deep dive into all things Medicare\, ancillary insurance\, systems and structure for success\, sales tips\, and proven business development strategies.\nEnhance your skills and increase your earning potential.\nLearn how to increase referrals and develop techniques that keep YOU front and center with prospects and clients!\nUncover new business from your existing clients\nIncrease customer retention\nFull 2024 updates on the State of Medicare\nLearn sales techniques to diversify your portfolio\n\nWe hope to see you there!
URL:https://westernassetprotection.com/event/medicare-academy-albuquerque-nm/
LOCATION:IL
CATEGORIES:Medicare Academy
END:VEVENT
BEGIN:VEVENT
DTSTART;TZID=America/Phoenix:20240418T090000
DTEND;TZID=America/Phoenix:20240418T160000
DTSTAMP:20260424T035918
CREATED:20231212T182735Z
LAST-MODIFIED:20240210T004542Z
UID:10000311-1713430800-1713456000@westernassetprotection.com
SUMMARY:Medicare Academy - Albuquerque\, NM
DESCRIPTION:Click here to register > \n  \nIf you’re new to Western Asset Protection\, this 1-Day Immersive Workshop is for you! \nAlready attended in the past?  New\, updated content added. You don’t want to miss it. Get a refresher on business-building strategies from our Sales Team. \n\nTake a deep dive into all things Medicare\, ancillary insurance\, systems and structure for success\, sales tips\, and proven business development strategies.\nEnhance your skills and increase your earning potential.\nLearn how to increase referrals and develop techniques that keep YOU front and center with prospects and clients!\nUncover new business from your existing clients\nIncrease customer retention\nFull 2024 updates on the State of Medicare\nLearn sales techniques to diversify your portfolio\n\nWe hope to see you there!
URL:https://westernassetprotection.com/event/medicare-academy-tucson-az-2/
LOCATION:IL
CATEGORIES:Medicare Academy
END:VEVENT
BEGIN:VEVENT
DTSTART;TZID=America/Phoenix:20240418T110000
DTEND;TZID=America/Phoenix:20240418T113000
DTSTAMP:20260424T035918
CREATED:20240410T191359Z
LAST-MODIFIED:20240410T191359Z
UID:10000414-1713438000-1713439800@westernassetprotection.com
SUMMARY:Skillbuilder - Expanding Your Portfolio - David Wessling
DESCRIPTION:Register HERE > \n  \nJoin David Wessling in this short 30-minute presentation on expanding your portfolio. \nSee you there!
URL:https://westernassetprotection.com/event/skillbuilder-expanding-your-portfolio-david-wessling/
LOCATION:IL
CATEGORIES:Skillbuilder
END:VEVENT
BEGIN:VEVENT
DTSTART;TZID=America/Phoenix:20240419T100000
DTEND;TZID=America/Phoenix:20240419T110000
DTSTAMP:20260424T035918
CREATED:20240410T192238Z
LAST-MODIFIED:20240410T192543Z
UID:10000415-1713520800-1713524400@westernassetprotection.com
SUMMARY:WAP Tech Series
DESCRIPTION:Register for the Series HERE > \n  \nWAPTech Training Series: \n\nElevate Your Business with Technology\nEnhance success & efficiency:\nWAP tech resources for Medicare agents\n\nWould you like to simplify your work process? \n\nLook no further! Our free tech resources are designed for our WAP agents who are eager to stay ahead of the competition. With the latest tools and technologies at your fingertips\, you’ll be able to serve your clients better and faster than ever before.\nLearn and navigate our Suite of Tools with our informative training series to streamline your business.\n\nRegister NOW
URL:https://westernassetprotection.com/event/wap-tech-series/
LOCATION:IL
CATEGORIES:Onboarding - New Agent Training
END:VEVENT
END:VCALENDAR