BEGIN:VCALENDAR
VERSION:2.0
PRODID:-//Western Asset Protection - ECPv6.15.18//NONSGML v1.0//EN
CALSCALE:GREGORIAN
METHOD:PUBLISH
X-ORIGINAL-URL:https://westernassetprotection.com
X-WR-CALDESC:Events for Western Asset Protection
REFRESH-INTERVAL;VALUE=DURATION:PT1H
X-Robots-Tag:noindex
X-PUBLISHED-TTL:PT1H
BEGIN:VTIMEZONE
TZID:America/Phoenix
BEGIN:STANDARD
TZOFFSETFROM:-0700
TZOFFSETTO:-0700
TZNAME:MST
DTSTART:20240101T000000
END:STANDARD
END:VTIMEZONE
BEGIN:VEVENT
DTSTART;TZID=America/Phoenix:20250303T080000
DTEND;TZID=America/Phoenix:20250303T081500
DTSTAMP:20260422T064959
CREATED:20240706T005438Z
LAST-MODIFIED:20240706T005438Z
UID:10000928-1740988800-1740989700@westernassetprotection.com
SUMMARY:CSG APP – Feature Focus Training
DESCRIPTION:Click here to view weekly topics and register for specific feature training. \n  \nJoin us every Monday at 8 a.m. MST in July for a quick 15-minute feature focus training designed to provide helpful tips when using CSG. Each week\, we will build on a quoting feature. \nFocus on the quoting feature that week and by the end of the month\, you will be an expert in CSG.
URL:https://westernassetprotection.com/event/csg-app-feature-focus-training/2025-03-03/
CATEGORIES:CSG Training
END:VEVENT
BEGIN:VEVENT
DTSTART;TZID=America/Phoenix:20250303T130000
DTEND;TZID=America/Phoenix:20250303T140000
DTSTAMP:20260422T064959
CREATED:20250106T171229Z
LAST-MODIFIED:20250106T184531Z
UID:10001060-1741006800-1741010400@westernassetprotection.com
SUMMARY:Agency Leadership Chat
DESCRIPTION:The Agency Leadership Chat is exclusively created to tackle urgent issues and assist in boosting the growth of your agency. \nInterested in attending? Let us know. Email Sherri Johnson at support@westernassetprotection.com. \nJoin us for this exclusive thought-leadership monthly discussion with Paul Rose\, Steven Smith\, and David Wessling. Gain valuable insights and proven strategies to grow your agency. \nDon’t miss this great conversation!\nRegister today!
URL:https://westernassetprotection.com/event/agency-leadership-chat-16/2025-03-03/
CATEGORIES:Agency Leadership
END:VEVENT
BEGIN:VEVENT
DTSTART;TZID=America/Phoenix:20250310T080000
DTEND;TZID=America/Phoenix:20250310T081500
DTSTAMP:20260422T064959
CREATED:20240706T005438Z
LAST-MODIFIED:20240706T005438Z
UID:10000929-1741593600-1741594500@westernassetprotection.com
SUMMARY:CSG APP – Feature Focus Training
DESCRIPTION:Click here to view weekly topics and register for specific feature training. \n  \nJoin us every Monday at 8 a.m. MST in July for a quick 15-minute feature focus training designed to provide helpful tips when using CSG. Each week\, we will build on a quoting feature. \nFocus on the quoting feature that week and by the end of the month\, you will be an expert in CSG.
URL:https://westernassetprotection.com/event/csg-app-feature-focus-training/2025-03-10/
CATEGORIES:CSG Training
END:VEVENT
BEGIN:VEVENT
DTSTART;TZID=America/Phoenix:20250311T110000
DTEND;TZID=America/Phoenix:20250311T120000
DTSTAMP:20260422T064959
CREATED:20250203T175023Z
LAST-MODIFIED:20250203T175024Z
UID:10001125-1741690800-1741694400@westernassetprotection.com
SUMMARY:Talk-O Tuesday
DESCRIPTION:Greetings Agents & Agency Partners\, \nJoin us for Talk-O Tuesday! The fastest hour in Medicare. \nWe’re reaching out to remind you about our upcoming Talk-O Tuesday\, one of the most important monthly discussions for agents like you! This is a great chance to gain valuable insights and stay updated on essential industry trends. \nRegister today!
URL:https://westernassetprotection.com/event/talk-o-tuesday-11/
CATEGORIES:Talk-O Tuesday
END:VEVENT
BEGIN:VEVENT
DTSTART;TZID=America/Phoenix:20250317T080000
DTEND;TZID=America/Phoenix:20250317T081500
DTSTAMP:20260422T064959
CREATED:20240706T005438Z
LAST-MODIFIED:20240706T005438Z
UID:10000930-1742198400-1742199300@westernassetprotection.com
SUMMARY:CSG APP – Feature Focus Training
DESCRIPTION:Click here to view weekly topics and register for specific feature training. \n  \nJoin us every Monday at 8 a.m. MST in July for a quick 15-minute feature focus training designed to provide helpful tips when using CSG. Each week\, we will build on a quoting feature. \nFocus on the quoting feature that week and by the end of the month\, you will be an expert in CSG.
URL:https://westernassetprotection.com/event/csg-app-feature-focus-training/2025-03-17/
CATEGORIES:CSG Training
END:VEVENT
BEGIN:VEVENT
DTSTART;TZID=America/Phoenix:20250324T080000
DTEND;TZID=America/Phoenix:20250324T081500
DTSTAMP:20260422T064959
CREATED:20240706T005438Z
LAST-MODIFIED:20240706T005438Z
UID:10000931-1742803200-1742804100@westernassetprotection.com
SUMMARY:CSG APP – Feature Focus Training
DESCRIPTION:Click here to view weekly topics and register for specific feature training. \n  \nJoin us every Monday at 8 a.m. MST in July for a quick 15-minute feature focus training designed to provide helpful tips when using CSG. Each week\, we will build on a quoting feature. \nFocus on the quoting feature that week and by the end of the month\, you will be an expert in CSG.
URL:https://westernassetprotection.com/event/csg-app-feature-focus-training/2025-03-24/
CATEGORIES:CSG Training
END:VEVENT
BEGIN:VEVENT
DTSTART;TZID=America/Phoenix:20250331T080000
DTEND;TZID=America/Phoenix:20250331T081500
DTSTAMP:20260422T064959
CREATED:20240706T005438Z
LAST-MODIFIED:20240706T005438Z
UID:10000932-1743408000-1743408900@westernassetprotection.com
SUMMARY:CSG APP – Feature Focus Training
DESCRIPTION:Click here to view weekly topics and register for specific feature training. \n  \nJoin us every Monday at 8 a.m. MST in July for a quick 15-minute feature focus training designed to provide helpful tips when using CSG. Each week\, we will build on a quoting feature. \nFocus on the quoting feature that week and by the end of the month\, you will be an expert in CSG.
URL:https://westernassetprotection.com/event/csg-app-feature-focus-training/2025-03-31/
CATEGORIES:CSG Training
END:VEVENT
END:VCALENDAR