BEGIN:VCALENDAR
VERSION:2.0
PRODID:-//Western Asset Protection - ECPv6.15.18//NONSGML v1.0//EN
CALSCALE:GREGORIAN
METHOD:PUBLISH
X-ORIGINAL-URL:https://westernassetprotection.com
X-WR-CALDESC:Events for Western Asset Protection
REFRESH-INTERVAL;VALUE=DURATION:PT1H
X-Robots-Tag:noindex
X-PUBLISHED-TTL:PT1H
BEGIN:VTIMEZONE
TZID:America/Phoenix
BEGIN:STANDARD
TZOFFSETFROM:-0700
TZOFFSETTO:-0700
TZNAME:MST
DTSTART:20240101T000000
END:STANDARD
END:VTIMEZONE
BEGIN:VEVENT
DTSTART;TZID=America/Phoenix:20251003T110000
DTEND;TZID=America/Phoenix:20251003T120000
DTSTAMP:20260421T082723
CREATED:20250917T175207Z
LAST-MODIFIED:20250917T175207Z
UID:10001274-1759489200-1759492800@westernassetprotection.com
SUMMARY:WAPTECH Tech Intensive Series - Learn about WAP's Tech Tools
DESCRIPTION:Register for the Series HERE > \n \nWe’ve brought back our bi-weekly virtual tech trainings called WAPTECH\, which will take place every other Friday. \n\nDiscover the latest support features in the HealthWealthEngine and IntegrityCONNECT (Formerly Medicare Center)\nJoin our Suite of Tools training series to help streamline your business and serve clients more efficiently\n\nRegister now
URL:https://westernassetprotection.com/event/waptech-tech-intensive-series-learn-about-waps-tech-tools/2025-10-03/
CATEGORIES:WAPTech
END:VEVENT
BEGIN:VEVENT
DTSTART;TZID=America/Phoenix:20251007T070000
DTEND;TZID=America/Phoenix:20251007T071500
DTSTAMP:20260421T082723
CREATED:20251006T201515Z
LAST-MODIFIED:20251006T201515Z
UID:10001294-1759820400-1759821300@westernassetprotection.com
SUMMARY:Integrity Tech Tip Tuesday
DESCRIPTION:Register HERE > \n  \nTech Tip Tuesday \nJoin us every Tuesday for quick 15-minute tutorials on how to use IntegrityCONNECT. \n7 AM or 9 AM AZ Time\n9 AM or 11 AM CT \n\nOctober 7th: Ask Integrity® Shopper & Cross-sell Recommendations\nOctober 14th: New Production Overview and Policy Snapshot\nOctober 21st: Ask Integrity Your AI-powered Digital Assistant\nOctober 28th: Send Enrollment Thank You Emails
URL:https://westernassetprotection.com/event/integrity-tech-tip-tuesday-3/2025-10-07/1/
CATEGORIES:IntegrityCONNECT
ATTACH;FMTTYPE=image/png:https://westernassetprotection.com/wp-content/uploads/2025/10/Tech-Tip-Tuesday.png
END:VEVENT
BEGIN:VEVENT
DTSTART;TZID=America/Phoenix:20251007T090000
DTEND;TZID=America/Phoenix:20251007T091500
DTSTAMP:20260421T082723
CREATED:20251006T201515Z
LAST-MODIFIED:20251006T201515Z
UID:10001295-1759827600-1759828500@westernassetprotection.com
SUMMARY:Integrity Tech Tip Tuesday
DESCRIPTION:Register HERE > \n  \nTech Tip Tuesday \nJoin us every Tuesday for quick 15-minute tutorials on how to use IntegrityCONNECT. \n7 AM or 9 AM AZ Time\n9 AM or 11 AM CT \n\nOctober 7th: Ask Integrity® Shopper & Cross-sell Recommendations\nOctober 14th: New Production Overview and Policy Snapshot\nOctober 21st: Ask Integrity Your AI-powered Digital Assistant\nOctober 28th: Send Enrollment Thank You Emails
URL:https://westernassetprotection.com/event/integrity-tech-tip-tuesday-3/2025-10-07/2/
CATEGORIES:IntegrityCONNECT
ATTACH;FMTTYPE=image/png:https://westernassetprotection.com/wp-content/uploads/2025/10/Tech-Tip-Tuesday.png
END:VEVENT
BEGIN:VEVENT
DTSTART;TZID=America/Phoenix:20251008T130000
DTEND;TZID=America/Phoenix:20251008T140000
DTSTAMP:20260421T082723
CREATED:20250106T184902Z
LAST-MODIFIED:20250904T173613Z
UID:10001074-1759928400-1759932000@westernassetprotection.com
SUMMARY:Agency Leadership Chat
DESCRIPTION:The Agency Leadership Chat is exclusively created to tackle urgent issues and assist in boosting the growth of your agency. \nInterested in attending? Let us know. Contact our support team at support@westernassetprotection.com. \nJoin us for this exclusive thought-leadership monthly discussion with Paul Rose\, Steven Smith\, and David Wessling. Gain valuable insights and proven strategies to grow your agency. \nDon’t miss this great conversation!\nRegister today!
URL:https://westernassetprotection.com/event/agency-leadership-chat-18/
CATEGORIES:Agency Leadership
END:VEVENT
BEGIN:VEVENT
DTSTART;TZID=America/Phoenix:20251014T070000
DTEND;TZID=America/Phoenix:20251014T071500
DTSTAMP:20260421T082723
CREATED:20251006T201515Z
LAST-MODIFIED:20251006T201515Z
UID:10001296-1760425200-1760426100@westernassetprotection.com
SUMMARY:Integrity Tech Tip Tuesday
DESCRIPTION:Register HERE > \n  \nTech Tip Tuesday \nJoin us every Tuesday for quick 15-minute tutorials on how to use IntegrityCONNECT. \n7 AM or 9 AM AZ Time\n9 AM or 11 AM CT \n\nOctober 7th: Ask Integrity® Shopper & Cross-sell Recommendations\nOctober 14th: New Production Overview and Policy Snapshot\nOctober 21st: Ask Integrity Your AI-powered Digital Assistant\nOctober 28th: Send Enrollment Thank You Emails
URL:https://westernassetprotection.com/event/integrity-tech-tip-tuesday-3/2025-10-14/1/
CATEGORIES:IntegrityCONNECT
ATTACH;FMTTYPE=image/png:https://westernassetprotection.com/wp-content/uploads/2025/10/Tech-Tip-Tuesday.png
END:VEVENT
BEGIN:VEVENT
DTSTART;TZID=America/Phoenix:20251014T090000
DTEND;TZID=America/Phoenix:20251014T091500
DTSTAMP:20260421T082723
CREATED:20251006T201515Z
LAST-MODIFIED:20251006T201515Z
UID:10001297-1760432400-1760433300@westernassetprotection.com
SUMMARY:Integrity Tech Tip Tuesday
DESCRIPTION:Register HERE > \n  \nTech Tip Tuesday \nJoin us every Tuesday for quick 15-minute tutorials on how to use IntegrityCONNECT. \n7 AM or 9 AM AZ Time\n9 AM or 11 AM CT \n\nOctober 7th: Ask Integrity® Shopper & Cross-sell Recommendations\nOctober 14th: New Production Overview and Policy Snapshot\nOctober 21st: Ask Integrity Your AI-powered Digital Assistant\nOctober 28th: Send Enrollment Thank You Emails
URL:https://westernassetprotection.com/event/integrity-tech-tip-tuesday-3/2025-10-14/2/
CATEGORIES:IntegrityCONNECT
ATTACH;FMTTYPE=image/png:https://westernassetprotection.com/wp-content/uploads/2025/10/Tech-Tip-Tuesday.png
END:VEVENT
BEGIN:VEVENT
DTSTART;TZID=America/Phoenix:20251017T110000
DTEND;TZID=America/Phoenix:20251017T120000
DTSTAMP:20260421T082723
CREATED:20251021T212015Z
LAST-MODIFIED:20251021T212056Z
UID:10001275-1760698800-1760702400@westernassetprotection.com
SUMMARY:WAPTECH Tech Intensive Series - Learn about WAP's Tech Tools
DESCRIPTION:Register for the Series HERE > \n  \nWe’ve brought back our weekly virtual tech trainings called WAPTECH\, which will take place every Friday through AEP. \n\nDiscover the latest support features in the HealthWealthEngine and IntegrityCONNECT (Formerly Medicare Center)\nJoin our Suite of Tools training series to help streamline your business and serve clients more efficiently\n\nRegister now
URL:https://westernassetprotection.com/event/waptech-tech-intensive-series-learn-about-waps-tech-tools-3/2025-10-17/
CATEGORIES:WAPTech
END:VEVENT
BEGIN:VEVENT
DTSTART;TZID=America/Phoenix:20251020T090000
DTEND;TZID=America/Phoenix:20251020T100000
DTSTAMP:20260421T082723
CREATED:20251017T214515Z
LAST-MODIFIED:20251017T214515Z
UID:10001306-1760950800-1760954400@westernassetprotection.com
SUMMARY:IntegrityCONNECT for Life Agents | Most Frequently Asked Questions
DESCRIPTION:Register Here > \n  \n\nIntegrityCONNECT for Life Agents | Most Frequently Asked Questions!\n\n\n\n\n\n\n\nIntegrityCONNECT is Integrity’s powerful technology platform that is built to help you be more successful — so you can save time\, and sell more. We’ve hosted a few trainings on the platform already\, so in this webinar\, we’ll go over the most frequently asked questions about IntegrityCONNECT\, including selling permissions\, texting\, accessing eApps\, and more!
URL:https://westernassetprotection.com/event/integrityconnect-for-life-agents-most-frequently-asked-questions/
CATEGORIES:IntegrityCONNECT
END:VEVENT
BEGIN:VEVENT
DTSTART;TZID=America/Phoenix:20251020T100000
DTEND;TZID=America/Phoenix:20251020T110000
DTSTAMP:20260421T082723
CREATED:20251017T215106Z
LAST-MODIFIED:20251017T215106Z
UID:10001307-1760954400-1760958000@westernassetprotection.com
SUMMARY:All-In-One Platform for AEP
DESCRIPTION:Register Here > \n  \n\n\n\n\n\nLearn how IntegrityCONNECT helps agents save time and sell more. This world-class technology is everything an agent needs to serve their Medicare Advantage powered by one login and password.\n\n\n\n\n\n\n\n\n\n\n\n\n\n\nAgenda\n\n\n\nClient Management\nScope of Appointment\nQuote & Enroll\nProduction Overview & Policies
URL:https://westernassetprotection.com/event/all-in-one-platform-for-aep/
CATEGORIES:IntegrityCONNECT
END:VEVENT
BEGIN:VEVENT
DTSTART;TZID=America/Phoenix:20251021T070000
DTEND;TZID=America/Phoenix:20251021T071500
DTSTAMP:20260421T082723
CREATED:20251006T201515Z
LAST-MODIFIED:20251006T201515Z
UID:10001298-1761030000-1761030900@westernassetprotection.com
SUMMARY:Integrity Tech Tip Tuesday
DESCRIPTION:Register HERE > \n  \nTech Tip Tuesday \nJoin us every Tuesday for quick 15-minute tutorials on how to use IntegrityCONNECT. \n7 AM or 9 AM AZ Time\n9 AM or 11 AM CT \n\nOctober 7th: Ask Integrity® Shopper & Cross-sell Recommendations\nOctober 14th: New Production Overview and Policy Snapshot\nOctober 21st: Ask Integrity Your AI-powered Digital Assistant\nOctober 28th: Send Enrollment Thank You Emails
URL:https://westernassetprotection.com/event/integrity-tech-tip-tuesday-3/2025-10-21/1/
CATEGORIES:IntegrityCONNECT
ATTACH;FMTTYPE=image/png:https://westernassetprotection.com/wp-content/uploads/2025/10/Tech-Tip-Tuesday.png
END:VEVENT
BEGIN:VEVENT
DTSTART;TZID=America/Phoenix:20251021T090000
DTEND;TZID=America/Phoenix:20251021T091500
DTSTAMP:20260421T082723
CREATED:20251006T201515Z
LAST-MODIFIED:20251006T201515Z
UID:10001299-1761037200-1761038100@westernassetprotection.com
SUMMARY:Integrity Tech Tip Tuesday
DESCRIPTION:Register HERE > \n  \nTech Tip Tuesday \nJoin us every Tuesday for quick 15-minute tutorials on how to use IntegrityCONNECT. \n7 AM or 9 AM AZ Time\n9 AM or 11 AM CT \n\nOctober 7th: Ask Integrity® Shopper & Cross-sell Recommendations\nOctober 14th: New Production Overview and Policy Snapshot\nOctober 21st: Ask Integrity Your AI-powered Digital Assistant\nOctober 28th: Send Enrollment Thank You Emails
URL:https://westernassetprotection.com/event/integrity-tech-tip-tuesday-3/2025-10-21/2/
CATEGORIES:IntegrityCONNECT
ATTACH;FMTTYPE=image/png:https://westernassetprotection.com/wp-content/uploads/2025/10/Tech-Tip-Tuesday.png
END:VEVENT
BEGIN:VEVENT
DTSTART;TZID=America/Phoenix:20251022T100000
DTEND;TZID=America/Phoenix:20251022T110000
DTSTAMP:20260421T082723
CREATED:20251017T215418Z
LAST-MODIFIED:20251017T215818Z
UID:10001308-1761127200-1761130800@westernassetprotection.com
SUMMARY:New Medicare Schedule Appointment Leads
DESCRIPTION:Register Here > \n  \n\n\n\n\n\nLearn about our two newest lead campaigns – Medicare In-Home Visit Lead and Medicare Scheduled Callback. These leads are pre-qualified\, fully scoped and one-to-one compliant Medicare sales meetings scheduled based on agent availability and preferred appointment window. All appointment leads are fully scoped and set 48 hours out from the appointment time.
URL:https://westernassetprotection.com/event/new-medicare-schedule-appointment-leads/
CATEGORIES:IntegrityCONNECT
END:VEVENT
BEGIN:VEVENT
DTSTART;TZID=America/Phoenix:20251024T110000
DTEND;TZID=America/Phoenix:20251024T120000
DTSTAMP:20260421T082723
CREATED:20251021T212015Z
LAST-MODIFIED:20251021T212056Z
UID:10001334-1761303600-1761307200@westernassetprotection.com
SUMMARY:WAPTECH Tech Intensive Series - Learn about WAP's Tech Tools
DESCRIPTION:Register for the Series HERE > \n  \nWe’ve brought back our weekly virtual tech trainings called WAPTECH\, which will take place every Friday through AEP. \n\nDiscover the latest support features in the HealthWealthEngine and IntegrityCONNECT (Formerly Medicare Center)\nJoin our Suite of Tools training series to help streamline your business and serve clients more efficiently\n\nRegister now
URL:https://westernassetprotection.com/event/waptech-tech-intensive-series-learn-about-waps-tech-tools-3/2025-10-24/
CATEGORIES:WAPTech
END:VEVENT
BEGIN:VEVENT
DTSTART;TZID=America/Phoenix:20251027T090000
DTEND;TZID=America/Phoenix:20251027T100000
DTSTAMP:20260421T082723
CREATED:20251017T215611Z
LAST-MODIFIED:20251017T215611Z
UID:10001309-1761555600-1761559200@westernassetprotection.com
SUMMARY:IntegrityCONNECT for Life Agents | Most Frequently Asked Questions
DESCRIPTION:Register Here > \n  \n\n\n\n\n\nIntegrityCONNECT is Integrity’s powerful technology platform that is built to help you be more successful — so you can save time\, and sell more. We’ve hosted a few trainings on the platform already\, so in this webinar\, we’ll go over the most frequently asked questions about IntegrityCONNECT\, including selling permissions\, texting\, accessing eApps\, and more!
URL:https://westernassetprotection.com/event/integrityconnect-for-life-agents-most-frequently-asked-questions-2/
CATEGORIES:IntegrityCONNECT
END:VEVENT
BEGIN:VEVENT
DTSTART;TZID=America/Phoenix:20251027T100000
DTEND;TZID=America/Phoenix:20251027T110000
DTSTAMP:20260421T082723
CREATED:20251017T220058Z
LAST-MODIFIED:20251017T220058Z
UID:10001310-1761559200-1761562800@westernassetprotection.com
SUMMARY:Medicare Realtime Call and Data Leads
DESCRIPTION:Register Here > \n  \n\n\n\n\n\nConnect with individuals seeking Medicare guidance this AEP!
URL:https://westernassetprotection.com/event/medicare-realtime-call-and-data-leads/
CATEGORIES:IntegrityCONNECT
END:VEVENT
BEGIN:VEVENT
DTSTART;TZID=America/Phoenix:20251028T070000
DTEND;TZID=America/Phoenix:20251028T071500
DTSTAMP:20260421T082723
CREATED:20251006T201515Z
LAST-MODIFIED:20251006T201515Z
UID:10001300-1761634800-1761635700@westernassetprotection.com
SUMMARY:Integrity Tech Tip Tuesday
DESCRIPTION:Register HERE > \n  \nTech Tip Tuesday \nJoin us every Tuesday for quick 15-minute tutorials on how to use IntegrityCONNECT. \n7 AM or 9 AM AZ Time\n9 AM or 11 AM CT \n\nOctober 7th: Ask Integrity® Shopper & Cross-sell Recommendations\nOctober 14th: New Production Overview and Policy Snapshot\nOctober 21st: Ask Integrity Your AI-powered Digital Assistant\nOctober 28th: Send Enrollment Thank You Emails
URL:https://westernassetprotection.com/event/integrity-tech-tip-tuesday-3/2025-10-28/1/
CATEGORIES:IntegrityCONNECT
ATTACH;FMTTYPE=image/png:https://westernassetprotection.com/wp-content/uploads/2025/10/Tech-Tip-Tuesday.png
END:VEVENT
BEGIN:VEVENT
DTSTART;TZID=America/Phoenix:20251028T090000
DTEND;TZID=America/Phoenix:20251028T091500
DTSTAMP:20260421T082723
CREATED:20251006T201515Z
LAST-MODIFIED:20251006T201515Z
UID:10001301-1761642000-1761642900@westernassetprotection.com
SUMMARY:Integrity Tech Tip Tuesday
DESCRIPTION:Register HERE > \n  \nTech Tip Tuesday \nJoin us every Tuesday for quick 15-minute tutorials on how to use IntegrityCONNECT. \n7 AM or 9 AM AZ Time\n9 AM or 11 AM CT \n\nOctober 7th: Ask Integrity® Shopper & Cross-sell Recommendations\nOctober 14th: New Production Overview and Policy Snapshot\nOctober 21st: Ask Integrity Your AI-powered Digital Assistant\nOctober 28th: Send Enrollment Thank You Emails
URL:https://westernassetprotection.com/event/integrity-tech-tip-tuesday-3/2025-10-28/2/
CATEGORIES:IntegrityCONNECT
ATTACH;FMTTYPE=image/png:https://westernassetprotection.com/wp-content/uploads/2025/10/Tech-Tip-Tuesday.png
END:VEVENT
BEGIN:VEVENT
DTSTART;TZID=America/Phoenix:20251029T080000
DTEND;TZID=America/Phoenix:20251029T090000
DTSTAMP:20260421T082723
CREATED:20251017T220345Z
LAST-MODIFIED:20251017T220345Z
UID:10001311-1761724800-1761728400@westernassetprotection.com
SUMMARY:Client Sync and Agent-personalized Website
DESCRIPTION:Register Here > \n  \n\n\n\n\n\nClient Sync & Agent-Personalized Website Training
URL:https://westernassetprotection.com/event/client-sync-and-agent-personalized-website/
CATEGORIES:IntegrityCONNECT
END:VEVENT
BEGIN:VEVENT
DTSTART;TZID=America/Phoenix:20251030T090000
DTEND;TZID=America/Phoenix:20251030T100000
DTSTAMP:20260421T082723
CREATED:20251017T220624Z
LAST-MODIFIED:20251017T220624Z
UID:10001312-1761814800-1761818400@westernassetprotection.com
SUMMARY:Automated Marketing Emails and Texts
DESCRIPTION:Register Here > \n  \n\n\n\n\n\nSend pre-approved compliant emails and texts from IntegrityCONNECT.
URL:https://westernassetprotection.com/event/automated-marketing-emails-and-texts/
CATEGORIES:IntegrityCONNECT
END:VEVENT
BEGIN:VEVENT
DTSTART;TZID=America/Phoenix:20251031T110000
DTEND;TZID=America/Phoenix:20251031T120000
DTSTAMP:20260421T082723
CREATED:20251021T212015Z
LAST-MODIFIED:20251021T212056Z
UID:10001276-1761908400-1761912000@westernassetprotection.com
SUMMARY:WAPTECH Tech Intensive Series - Learn about WAP's Tech Tools
DESCRIPTION:Register for the Series HERE > \n  \nWe’ve brought back our weekly virtual tech trainings called WAPTECH\, which will take place every Friday through AEP. \n\nDiscover the latest support features in the HealthWealthEngine and IntegrityCONNECT (Formerly Medicare Center)\nJoin our Suite of Tools training series to help streamline your business and serve clients more efficiently\n\nRegister now
URL:https://westernassetprotection.com/event/waptech-tech-intensive-series-learn-about-waps-tech-tools-3/2025-10-31/
CATEGORIES:WAPTech
END:VEVENT
END:VCALENDAR