BEGIN:VCALENDAR
VERSION:2.0
PRODID:-//Western Asset Protection - ECPv6.15.18//NONSGML v1.0//EN
CALSCALE:GREGORIAN
METHOD:PUBLISH
X-ORIGINAL-URL:https://westernassetprotection.com
X-WR-CALDESC:Events for Western Asset Protection
REFRESH-INTERVAL;VALUE=DURATION:PT1H
X-Robots-Tag:noindex
X-PUBLISHED-TTL:PT1H
BEGIN:VTIMEZONE
TZID:America/Phoenix
BEGIN:STANDARD
TZOFFSETFROM:-0700
TZOFFSETTO:-0700
TZNAME:MST
DTSTART:20230101T000000
END:STANDARD
END:VTIMEZONE
BEGIN:VEVENT
DTSTART;TZID=America/Phoenix:20240403T080000
DTEND;TZID=America/Phoenix:20240404T170000
DTSTAMP:20260424T005215
CREATED:20231212T194458Z
LAST-MODIFIED:20231212T221537Z
UID:10000315-1712131200-1712250000@westernassetprotection.com
SUMMARY:Agency Leadership Summit
DESCRIPTION:Save the Date \nBy Invitation Only \nIf you are an Agency Leader interested in attending this event\, please reach out to our Sales Team at sales@westernassetprotection.com. \n\nLocation: Phoenix Airport Marriott\, 1101 N 44th St\, Phoenix\, AZ 85008\n\nThis year the Agency Leadership Summit will focus on workshops for you to walk away with agency-building strategies\, valuable market data\, and recommended ways to manage industry challenges to improve consumer experiences. Additional highlights include: \n\nCarrier & Peer Networking Opportunities\nPortfolio Diversification Options\nCompliance Updates\nInnovations in Technology\n\n 
URL:https://westernassetprotection.com/event/agency-leadership-summit/
LOCATION:Marriott Phoenix Airport\, 1101 North 44th Street\, Phoenix\, AZ\, 85008
CATEGORIES:Agency Leadership
END:VEVENT
BEGIN:VEVENT
DTSTART;TZID=America/Phoenix:20240403T090000
DTEND;TZID=America/Phoenix:20240403T100000
DTSTAMP:20260424T005215
CREATED:20240404T161613Z
LAST-MODIFIED:20240404T161613Z
UID:10000405-1712134800-1712138400@westernassetprotection.com
SUMMARY:Integrity CSG APP | New User Training
DESCRIPTION:  \nRegister HERE > \nCSG APP | New User Training – \nLearn how the CSG APP can be used alongside the Integrity Technology Suite to quote Medicare Supplement and ancillary products. Learn about CSG’s resources and tools to help you better understand the Medicare market.
URL:https://westernassetprotection.com/event/integrity-csg-app-new-user-training/
CATEGORIES:MedicareCENTER
END:VEVENT
BEGIN:VEVENT
DTSTART;TZID=America/Phoenix:20240403T090000
DTEND;TZID=America/Phoenix:20240403T100000
DTSTAMP:20260424T005215
CREATED:20240404T171150Z
LAST-MODIFIED:20240404T172010Z
UID:10000407-1712134800-1712138400@westernassetprotection.com
SUMMARY:Rate Adjustments\, Loss Ratios and Household Discount
DESCRIPTION:  \nRegister HERE > \nRate Adjustments\, Loss Ratios and Household Discounts – \nGet detailed Medicare Supplement quotes with the CSG App. Compare premiums\, rating classes\, age increases\, policy fees\, and underwriting across carriers and plans.
URL:https://westernassetprotection.com/event/rate-adjustments-loss-ratios-and-household-discount/
CATEGORIES:MedicareCENTER
END:VEVENT
BEGIN:VEVENT
DTSTART;TZID=America/Phoenix:20240403T120000
DTEND;TZID=America/Phoenix:20240403T130000
DTSTAMP:20260424T005215
CREATED:20240404T162044Z
LAST-MODIFIED:20240404T162044Z
UID:10000406-1712145600-1712149200@westernassetprotection.com
SUMMARY:Integrity PlanEnroll's 2024 Age-In campaign
DESCRIPTION:  \nRegister HERE > \nGain Access to Exclusive T65 Medicare Leads – \nPlanEnroll’s 2024 Age-In campaign is now live and makes connecting to new clients easy! Gain access to more people turning 65\, who need help with Medicare enrollment\, by joining the PlanEnroll Agent Network.
URL:https://westernassetprotection.com/event/integrity-planenrolls-2024-age-in-campaign/
CATEGORIES:MedicareCENTER
END:VEVENT
END:VCALENDAR