BEGIN:VCALENDAR
VERSION:2.0
PRODID:-//Western Asset Protection - ECPv6.15.18//NONSGML v1.0//EN
CALSCALE:GREGORIAN
METHOD:PUBLISH
X-ORIGINAL-URL:https://westernassetprotection.com
X-WR-CALDESC:Events for Western Asset Protection
REFRESH-INTERVAL;VALUE=DURATION:PT1H
X-Robots-Tag:noindex
X-PUBLISHED-TTL:PT1H
BEGIN:VTIMEZONE
TZID:America/Phoenix
BEGIN:STANDARD
TZOFFSETFROM:-0700
TZOFFSETTO:-0700
TZNAME:MST
DTSTART:20230101T000000
END:STANDARD
END:VTIMEZONE
BEGIN:VEVENT
DTSTART;TZID=America/Phoenix:20240415T100000
DTEND;TZID=America/Phoenix:20240415T110000
DTSTAMP:20260424T035743
CREATED:20240404T172323Z
LAST-MODIFIED:20240404T172323Z
UID:10000408-1713175200-1713178800@westernassetprotection.com
SUMMARY:Save on Leads with Higher Conversation Rates
DESCRIPTION:  \nRegister HERE > \nSave on Leads with Higher Conversation Rates – \nLead Scoring assesses the quality and potential conversion likelihood of leads\, allowing agents to prioritize their efforts. Receive these high-quality leads on a schedule with a built-in discount!
URL:https://westernassetprotection.com/event/save-on-leads-with-higher-conversation-rates/
CATEGORIES:MedicareCENTER
END:VEVENT
END:VCALENDAR