BEGIN:VCALENDAR
VERSION:2.0
PRODID:-//Western Asset Protection - ECPv6.15.18//NONSGML v1.0//EN
CALSCALE:GREGORIAN
METHOD:PUBLISH
X-ORIGINAL-URL:https://westernassetprotection.com
X-WR-CALDESC:Events for Western Asset Protection
REFRESH-INTERVAL;VALUE=DURATION:PT1H
X-Robots-Tag:noindex
X-PUBLISHED-TTL:PT1H
BEGIN:VTIMEZONE
TZID:America/Phoenix
BEGIN:STANDARD
TZOFFSETFROM:-0700
TZOFFSETTO:-0700
TZNAME:MST
DTSTART:20230101T000000
END:STANDARD
END:VTIMEZONE
BEGIN:VEVENT
DTSTART;TZID=America/Phoenix:20240418T100000
DTEND;TZID=America/Phoenix:20240418T110000
DTSTAMP:20260424T005241
CREATED:20240405T175424Z
LAST-MODIFIED:20240405T175424Z
UID:10000410-1713434400-1713438000@westernassetprotection.com
SUMMARY:Help Your Clients Leave a Lasting Legacy
DESCRIPTION:Register HERE > \n  \nHelp Your Clients Leave a Lasting Legacy – \nProvide your clients with a free Legacy Safeguard membership\, which includes legacy planning\, estate planning support\, end-of-life planning\, guidance\, assistance\, and support for survivors and their loved ones.
URL:https://westernassetprotection.com/event/help-your-clients-leave-a-lasting-legacy/
CATEGORIES:MedicareCENTER
END:VEVENT
END:VCALENDAR