BEGIN:VCALENDAR
VERSION:2.0
PRODID:-//Western Asset Protection - ECPv6.15.18//NONSGML v1.0//EN
CALSCALE:GREGORIAN
METHOD:PUBLISH
X-WR-CALNAME:Western Asset Protection
X-ORIGINAL-URL:https://westernassetprotection.com
X-WR-CALDESC:Events for Western Asset Protection
REFRESH-INTERVAL;VALUE=DURATION:PT1H
X-Robots-Tag:noindex
X-PUBLISHED-TTL:PT1H
BEGIN:VTIMEZONE
TZID:America/Phoenix
BEGIN:STANDARD
TZOFFSETFROM:-0700
TZOFFSETTO:-0700
TZNAME:MST
DTSTART:20230101T000000
END:STANDARD
END:VTIMEZONE
BEGIN:VEVENT
DTSTART;TZID=America/Phoenix:20240806T070000
DTEND;TZID=America/Phoenix:20240806T071500
DTSTAMP:20260422T195540
CREATED:20240706T002003Z
LAST-MODIFIED:20240706T003121Z
UID:10000726-1722927600-1722928500@westernassetprotection.com
SUMMARY:Tech Tip Tuesday - Every Tuesday
DESCRIPTION:Click here to view weekly topics and register for specific feature training. \n  \nJoin us every Tuesday at 7 a.m. MST in July for quick 15 minute tutorials on important tools to take advantage of this Annual Enrollment Period.
URL:https://westernassetprotection.com/event/tech-tip-tuesday-every-tuesday/2024-08-06/
CATEGORIES:MedicareCENTER
END:VEVENT
BEGIN:VEVENT
DTSTART;TZID=America/Phoenix:20240806T090000
DTEND;TZID=America/Phoenix:20240806T091500
DTSTAMP:20260422T195540
CREATED:20240706T002823Z
LAST-MODIFIED:20240706T003258Z
UID:10000838-1722934800-1722935700@westernassetprotection.com
SUMMARY:Tech Tip Tuesday - Every Tuesday
DESCRIPTION:Click here to view weekly topics and register for specific feature training. \n  \nJoin us every Tuesday at 9 a.m. MST in July for quick 15 minute tutorials on important tools to take advantage of this Annual Enrollment Period.
URL:https://westernassetprotection.com/event/tech-tip-tuesday-every-tuesday-2/2024-08-06/
CATEGORIES:MedicareCENTER
END:VEVENT
BEGIN:VEVENT
DTSTART;TZID=America/Phoenix:20240806T093000
DTEND;TZID=America/Phoenix:20240806T130000
DTSTAMP:20260422T195540
CREATED:20240723T150515Z
LAST-MODIFIED:20240723T150515Z
UID:10000953-1722936600-1722949200@westernassetprotection.com
SUMMARY:WAPTech IN PERSON Training - Elevate your Expertise
DESCRIPTION:Register HERE > marketing@westernassetprotection.com \nTell us which date you’re attending and you’re in! \n  \n\nTuesday\, August 6\, 2024 | 9:30 AM – 1:00 PM\n*Aetna Office Training Room*\n9501 E. Shea Blvd.\, Scottsdale\, AZ 85260\n\nGet ready to supercharge your skills and stay ahead in the game! \nYou’re invited to our exclusive in-person technology training sessions designed to empower you with the latest tools and insights and keep you competitive. \nDon’t forget to bring your laptops! \nWe’ll dive into these key tools: \n\nHealth Wealth Engine: Get a quick\, comprehensive look at this powerful tool transforming broker business.\n\n\nIntegrity For Agents: Master the essentials! Learn everything from contact management and basic CRM functionalities to call recording\, scope of appointments\, and quoting and enrolling for final expense\, MAPD\, and PDP. This session is filled with practical tips to improve your workflow and client services.\n\n\nPlanEnroll/Personal Agent Website (PAW): Explore how to maximize your Personal Agent Website\, including how clients can set up their own portal login for easier engagement and information access.\n\n\nCSG APP: Unleash the full potential of the CSG APP! Discover how to quote Medicare Supplement and hospital indemnity plans more efficiently\, offering your clients better and more competitive options.\n\nRegister Today! \n 
URL:https://westernassetprotection.com/event/waptech-in-person-training-elevate-your-expertise-4/
CATEGORIES:Western Asset Protection Training
END:VEVENT
END:VCALENDAR