BEGIN:VCALENDAR
VERSION:2.0
PRODID:-//Western Asset Protection - ECPv6.15.18//NONSGML v1.0//EN
CALSCALE:GREGORIAN
METHOD:PUBLISH
X-ORIGINAL-URL:https://westernassetprotection.com
X-WR-CALDESC:Events for Western Asset Protection
REFRESH-INTERVAL;VALUE=DURATION:PT1H
X-Robots-Tag:noindex
X-PUBLISHED-TTL:PT1H
BEGIN:VTIMEZONE
TZID:America/Phoenix
BEGIN:STANDARD
TZOFFSETFROM:-0700
TZOFFSETTO:-0700
TZNAME:MST
DTSTART:20240101T000000
END:STANDARD
END:VTIMEZONE
BEGIN:VEVENT
DTSTART;TZID=America/Phoenix:20250724T110000
DTEND;TZID=America/Phoenix:20250724T120000
DTSTAMP:20260421T184054
CREATED:20250630T160458Z
LAST-MODIFIED:20250630T160458Z
UID:10001241-1753354800-1753358400@westernassetprotection.com
SUMMARY:Time Saving Tips
DESCRIPTION:Register HERE > \n  \nTime Saving Tips \n\n\n\n\n\nIntegrity has built technology to help agents streamline their processes so they can do what they do best – serve their clients. Join us to learn about key features saving agents time.
URL:https://westernassetprotection.com/event/time-saving-tips/
CATEGORIES:Integrity Technology Platform
END:VEVENT
END:VCALENDAR