BEGIN:VCALENDAR
VERSION:2.0
PRODID:-//Western Asset Protection - ECPv6.15.18//NONSGML v1.0//EN
CALSCALE:GREGORIAN
METHOD:PUBLISH
X-WR-CALNAME:Western Asset Protection
X-ORIGINAL-URL:https://westernassetprotection.com
X-WR-CALDESC:Events for Western Asset Protection
REFRESH-INTERVAL;VALUE=DURATION:PT1H
X-Robots-Tag:noindex
X-PUBLISHED-TTL:PT1H
BEGIN:VTIMEZONE
TZID:America/Phoenix
BEGIN:STANDARD
TZOFFSETFROM:-0700
TZOFFSETTO:-0700
TZNAME:MST
DTSTART:20250101T000000
END:STANDARD
END:VTIMEZONE
BEGIN:VEVENT
DTSTART;TZID=America/Phoenix:20260326T120000
DTEND;TZID=America/Phoenix:20260326T130000
DTSTAMP:20260420T200908
CREATED:20260317T003352Z
LAST-MODIFIED:20260317T003814Z
UID:10001453-1774526400-1774530000@westernassetprotection.com
SUMMARY:New Calendar & Appointment Scheduler inside IntegrityCONNECT
DESCRIPTION:Register_HERE > \n  \nGet a first look at the upcoming Calendar & Appointment Scheduler inside IntegrityCONNECT—designed to help agents stay organized\, save time\, and connect with clients more efficiently. \nIn this preview session\, we’ll showcase how the new Calendar experience brings appointments\, reminders\, and scheduling into one centralized view. \nYou’ll see how agents will be able to create and organize appointments by client and meeting type\, and how consumers will be able to schedule appointments through their agent’s personalized website. \nYou will learn about integrations with other calendars.
URL:https://westernassetprotection.com/event/new-calendar-appointment-scheduler-inside-integrityconnect/
CATEGORIES:IntegrityCONNECT
ATTACH;FMTTYPE=image/png:https://westernassetprotection.com/wp-content/uploads/2026/02/IntegrityConnect-LogoColor.png
END:VEVENT
END:VCALENDAR