BEGIN:VCALENDAR
VERSION:2.0
PRODID:-//Western Asset Protection - ECPv6.15.18//NONSGML v1.0//EN
CALSCALE:GREGORIAN
METHOD:PUBLISH
X-ORIGINAL-URL:https://westernassetprotection.com
X-WR-CALDESC:Events for Western Asset Protection
REFRESH-INTERVAL;VALUE=DURATION:PT1H
X-Robots-Tag:noindex
X-PUBLISHED-TTL:PT1H
BEGIN:VTIMEZONE
TZID:America/Phoenix
BEGIN:STANDARD
TZOFFSETFROM:-0700
TZOFFSETTO:-0700
TZNAME:MST
DTSTART:20240101T000000
END:STANDARD
END:VTIMEZONE
BEGIN:VEVENT
DTSTART;TZID=America/Phoenix:20250210T080000
DTEND;TZID=America/Phoenix:20250210T081500
DTSTAMP:20260422T111347
CREATED:20240706T005438Z
LAST-MODIFIED:20240706T005438Z
UID:10000925-1739174400-1739175300@westernassetprotection.com
SUMMARY:CSG APP – Feature Focus Training
DESCRIPTION:Click here to view weekly topics and register for specific feature training. \n  \nJoin us every Monday at 8 a.m. MST in July for a quick 15-minute feature focus training designed to provide helpful tips when using CSG. Each week\, we will build on a quoting feature. \nFocus on the quoting feature that week and by the end of the month\, you will be an expert in CSG.
URL:https://westernassetprotection.com/event/csg-app-feature-focus-training/2025-02-10/
CATEGORIES:CSG Training
END:VEVENT
BEGIN:VEVENT
DTSTART;TZID=America/Phoenix:20250211T110000
DTEND;TZID=America/Phoenix:20250211T120000
DTSTAMP:20260422T111347
CREATED:20250123T234016Z
LAST-MODIFIED:20250203T172939Z
UID:10001117-1739271600-1739275200@westernassetprotection.com
SUMMARY:Talk-O Tuesday
DESCRIPTION:Greetings Agents & Agency Partners\, \nJoin us for Talk-O Tuesday! The fastest hour in Medicare. \nWe’re reaching out to remind you about our upcoming Talk-O Tuesday\, one of the most important monthly discussions for agents like you! This is a great chance to gain valuable insights and stay updated on essential industry trends. \nRegister today!
URL:https://westernassetprotection.com/event/talk-o-tuesday-10/
CATEGORIES:Talk-O Tuesday
END:VEVENT
BEGIN:VEVENT
DTSTART;TZID=America/Phoenix:20250211T110000
DTEND;TZID=America/Phoenix:20250211T120000
DTSTAMP:20260422T111347
CREATED:20250124T163825Z
LAST-MODIFIED:20250124T163855Z
UID:10001121-1739271600-1739275200@westernassetprotection.com
SUMMARY:Top 5 Most Useful Tools in CSG APP
DESCRIPTION:Register HERE > \nTuesday\, February 11 at 12 p.m. CST \nYou can discover the most popular and useful tools within the CSG APP in MedicareCENTER. Agents report that these tools help them better understand the Medicare market\, cross-sell more effectively\, and identify growth opportunities for their business. \nWhile CSG is the most widely used quoting tool for Medicare Supplement plans\, it offers much more than that! \nThis training is ideal for new users\, agents\, and those who want to enhance their knowledge of the market and increase their sales.
URL:https://westernassetprotection.com/event/top-5-most-useful-tools-in-csg-app/
CATEGORIES:CSG Training
END:VEVENT
BEGIN:VEVENT
DTSTART;TZID=America/Phoenix:20250212T080000
DTEND;TZID=America/Phoenix:20250212T090000
DTSTAMP:20260422T111347
CREATED:20250124T170202Z
LAST-MODIFIED:20250124T170203Z
UID:10001122-1739347200-1739350800@westernassetprotection.com
SUMMARY:Client Sync: Easily Obtain & Update Client Health Information
DESCRIPTION:Register HERE > \n  \nWednesday\, February 12 at 9 a.m. CST \n\nClient Sync offers a simpler way to get started with appointments for new or existing clients.\nSimply send your client a link to gather their personal information\, health information\, doctors\, and pharmacies.\nYou will obtain permission to contact and get a signed SOA. Client data seamlessly transfers into MedicareCENTER!\n\nIf you are new to MedicareCENTER\, register here before the webinar: https://clients.integrity.com/ClientsSSO?utm_source=webinar
URL:https://westernassetprotection.com/event/client-sync-easily-obtain-update-client-health-information/
CATEGORIES:Integrity Technology Platform
END:VEVENT
END:VCALENDAR