BEGIN:VCALENDAR
VERSION:2.0
PRODID:-//Western Asset Protection - ECPv6.15.18//NONSGML v1.0//EN
CALSCALE:GREGORIAN
METHOD:PUBLISH
X-ORIGINAL-URL:https://westernassetprotection.com
X-WR-CALDESC:Events for Western Asset Protection
REFRESH-INTERVAL;VALUE=DURATION:PT1H
X-Robots-Tag:noindex
X-PUBLISHED-TTL:PT1H
BEGIN:VTIMEZONE
TZID:America/Phoenix
BEGIN:STANDARD
TZOFFSETFROM:-0700
TZOFFSETTO:-0700
TZNAME:MST
DTSTART:20220101T000000
END:STANDARD
END:VTIMEZONE
BEGIN:VEVENT
DTSTART;TZID=America/Phoenix:20230410T130000
DTEND;TZID=America/Phoenix:20230410T141500
DTSTAMP:20260421T082931
CREATED:20230417T025644Z
LAST-MODIFIED:20230417T025644Z
UID:10000043-1681131600-1681136100@westernassetprotection.com
SUMMARY:Cigna Custom Point Training
DESCRIPTION:Join HERE at the scheduled time \n  \nMonday\, April 10\, 2023 \n1:00pm – 2:15pm
URL:https://westernassetprotection.com/event/cigna-custom-point-training/
END:VEVENT
BEGIN:VEVENT
DTSTART;TZID=America/Phoenix:20230411T080000
DTEND;TZID=America/Phoenix:20230411T091500
DTSTAMP:20260421T082931
CREATED:20230417T025858Z
LAST-MODIFIED:20230417T025858Z
UID:10000044-1681200000-1681204500@westernassetprotection.com
SUMMARY:Cigna CustomPoint Training
DESCRIPTION:Join HERE at the scheduled time \n  \nTuesday\, April 11\, 2023 \n8:00am – 9:15am
URL:https://westernassetprotection.com/event/cigna-custompoint-training/
END:VEVENT
BEGIN:VEVENT
DTSTART;TZID=America/Phoenix:20230411T130000
DTEND;TZID=America/Phoenix:20230411T141500
DTSTAMP:20260421T082931
CREATED:20230417T030115Z
LAST-MODIFIED:20230417T030115Z
UID:10000045-1681218000-1681222500@westernassetprotection.com
SUMMARY:Cigna Enrollment Periods & SEPs
DESCRIPTION:Join HERE at the scheduled time \n  \nTuesday\, April 11\, 2023 \n1:00pm – 2:15pm
URL:https://westernassetprotection.com/event/cigna-enrollment-periods-seps/
END:VEVENT
BEGIN:VEVENT
DTSTART;TZID=America/Phoenix:20230413T080000
DTEND;TZID=America/Phoenix:20230413T091500
DTSTAMP:20260421T082931
CREATED:20230417T025109Z
LAST-MODIFIED:20230417T025109Z
UID:10000041-1681372800-1681377300@westernassetprotection.com
SUMMARY:Cigna's Producers' University
DESCRIPTION:Join HERE at the scheduled time \n  \nFriday\, April 13\, 2023 \n8:00am – 9:15am \n 
URL:https://westernassetprotection.com/event/cignas-producers-university/
END:VEVENT
BEGIN:VEVENT
DTSTART;TZID=America/Phoenix:20230413T080000
DTEND;TZID=America/Phoenix:20230413T091500
DTSTAMP:20260421T082931
CREATED:20230417T030450Z
LAST-MODIFIED:20230417T030450Z
UID:10000046-1681372800-1681377300@westernassetprotection.com
SUMMARY:Cigna Sales Performance Improvement Team - Office Hours
DESCRIPTION:Join HERE at the scheduled time \n  \nDo you have questions about any of our trainings offered this month? \nJoin us for our office hours\, and let us assist you with any questions that you have!
URL:https://westernassetprotection.com/event/cigna-sales-performance-improvement-team-office-hours/
END:VEVENT
END:VCALENDAR