BEGIN:VCALENDAR
VERSION:2.0
PRODID:-//Western Asset Protection - ECPv6.15.18//NONSGML v1.0//EN
CALSCALE:GREGORIAN
METHOD:PUBLISH
X-WR-CALNAME:Western Asset Protection
X-ORIGINAL-URL:https://westernassetprotection.com
X-WR-CALDESC:Events for Western Asset Protection
REFRESH-INTERVAL;VALUE=DURATION:PT1H
X-Robots-Tag:noindex
X-PUBLISHED-TTL:PT1H
BEGIN:VTIMEZONE
TZID:America/Phoenix
BEGIN:STANDARD
TZOFFSETFROM:-0700
TZOFFSETTO:-0700
TZNAME:MST
DTSTART:20220101T000000
END:STANDARD
END:VTIMEZONE
BEGIN:VEVENT
DTSTART;TZID=America/Phoenix:20230425T080000
DTEND;TZID=America/Phoenix:20230425T090000
DTSTAMP:20260421T083604
CREATED:20230417T024056Z
LAST-MODIFIED:20230417T024056Z
UID:10000038-1682409600-1682413200@westernassetprotection.com
SUMMARY:Humana: Overcoming Objections – MAPD vs Med Supp
DESCRIPTION:Register Here > \n  \nOvercoming Objections – MAPD vs Med Supp \nTrainer: Gabe Moore from Texas \nDate                    Tuesday\, April 25\, 2023 \nTime                    8:00-9:00 AM AZ time \nLocation                 Zoom
URL:https://westernassetprotection.com/event/humana-overcoming-objections-mapd-vs-med-supp/
END:VEVENT
BEGIN:VEVENT
DTSTART;TZID=America/Phoenix:20230425T081500
DTEND;TZID=America/Phoenix:20230425T090000
DTSTAMP:20260421T083604
CREATED:20230424T222120Z
LAST-MODIFIED:20230424T222120Z
UID:10000070-1682410500-1682413200@westernassetprotection.com
SUMMARY:Humana Coffee Hour - Weekly
DESCRIPTION:Register HERE \n  \nOn this Coffee Hour Session\, Humana has invited two guest speakers to share current information on: \nCenterWell Pharmacy Solutions \nJennifer Mazur/Paula Noble will discuss frequently asked questions regarding A1C drugs and how they work in conjunction with Insulin.  They will also talk about the cost and how members can find assistance. \nSilver Sneakers Updates \nMaleah Rowe\, Sr. Account Executive with Tivity Health\, will provide current updates on Silver Sneakers and how this benefit is supporting Humana members.
URL:https://westernassetprotection.com/event/humana-coffee-hour-weekly/
CATEGORIES:Carrier Training
END:VEVENT
BEGIN:VEVENT
DTSTART;TZID=America/Phoenix:20230425T090000
DTEND;TZID=America/Phoenix:20230425T100000
DTSTAMP:20260421T083604
CREATED:20230424T220513Z
LAST-MODIFIED:20230424T220941Z
UID:10000067-1682413200-1682416800@westernassetprotection.com
SUMMARY:Devoted National Training - Social Media
DESCRIPTION:Register HERE \n  \nSocial Media Training\nDevoted is thrilled to present a comprehensive training session that encompasses the most up-to-date best practices for social media posting in the Medicare arena. \nAdditionally\, they will provide you with exclusive access to high-impact\, top-quality Facebook posts derived from our most successful advertisements. \n  \nRegister today!
URL:https://westernassetprotection.com/event/devoted-national-training-social-media/2023-04-25/
CATEGORIES:Carrier Training
END:VEVENT
BEGIN:VEVENT
DTSTART;TZID=America/Phoenix:20230426T120000
DTEND;TZID=America/Phoenix:20230426T130000
DTSTAMP:20260421T083604
CREATED:20230424T220513Z
LAST-MODIFIED:20230424T220941Z
UID:10000068-1682510400-1682514000@westernassetprotection.com
SUMMARY:Devoted National Training - Social Media
DESCRIPTION:Register HERE \n  \nSocial Media Training\nDevoted is thrilled to present a comprehensive training session that encompasses the most up-to-date best practices for social media posting in the Medicare arena. \nAdditionally\, they will provide you with exclusive access to high-impact\, top-quality Facebook posts derived from our most successful advertisements. \n  \nRegister today!
URL:https://westernassetprotection.com/event/devoted-national-training-social-media/2023-04-26/
CATEGORIES:Carrier Training
END:VEVENT
BEGIN:VEVENT
DTSTART;TZID=America/Phoenix:20230426T150000
DTEND;TZID=America/Phoenix:20230426T160000
DTSTAMP:20260421T083604
CREATED:20230417T024324Z
LAST-MODIFIED:20230417T024324Z
UID:10000039-1682521200-1682524800@westernassetprotection.com
SUMMARY:Humana Free Standing Dental/Vision Training
DESCRIPTION:Register Here > \n  \nFree Standing Dental/Vision Training \nTrainer – Javier Barbosa \nWednesday\, April 26\, 2023 \n3:00-4:00 PM AZ Time \nZoom
URL:https://westernassetprotection.com/event/humana-free-standing-dental-vision-training/
END:VEVENT
BEGIN:VEVENT
DTSTART;TZID=America/Phoenix:20230428T060000
DTEND;TZID=America/Phoenix:20230428T070000
DTSTAMP:20260421T083604
CREATED:20230424T220513Z
LAST-MODIFIED:20230424T220941Z
UID:10000069-1682661600-1682665200@westernassetprotection.com
SUMMARY:Devoted National Training - Social Media
DESCRIPTION:Register HERE \n  \nSocial Media Training\nDevoted is thrilled to present a comprehensive training session that encompasses the most up-to-date best practices for social media posting in the Medicare arena. \nAdditionally\, they will provide you with exclusive access to high-impact\, top-quality Facebook posts derived from our most successful advertisements. \n  \nRegister today!
URL:https://westernassetprotection.com/event/devoted-national-training-social-media/2023-04-28/
CATEGORIES:Carrier Training
END:VEVENT
BEGIN:VEVENT
DTSTART;TZID=America/Phoenix:20230428T090000
DTEND;TZID=America/Phoenix:20230428T160000
DTSTAMP:20260421T083604
CREATED:20230425T220015Z
LAST-MODIFIED:20230425T220721Z
UID:10000076-1682672400-1682697600@westernassetprotection.com
SUMMARY:Medicare Academy Tour - Las Vegas
DESCRIPTION:SAVE THE DATE \nMedicare Academy Tour – Las Vegas \n\nWhen: April 28\nWhere: Hilton Garden Inn | Las Vegas Strip South\, 7839 Las Vegas Blvd S.\,\nLas Vegas\, NV 89123-1012\nTime: 9 AM – 4 PM (Check-in begins at 8 AM)\nLunch provided\n\n\nREGISTRATION OPEN!\nSave your Seat! Register HERE\nUse promo code “IGNITE” for FREE GIFT & Registration Discount \n  \nClick HERE for more information\n  \nReasons to attend: \n-If you’re new to Western Asset Protection\, this 1-Day Immersive Workshop is for you! \n-If you’ve been to a Medicare Academy Workshop in the past\, we encourage you to come back. Get a refresher on business-building strategies from our Sales Leadership Team. \n\nTake a deep dive into all things Medicare\, ancillary insurance\, systems and structure for success\, sales tips\, and proven business development strategies.\nEnhance your skills and increase your earning potential.\nLearn how to increase referrals and develop techniques that keep YOU front and center with prospects and clients!\nUncover new business from your existing clients\nIncrease customer retention\nFull 2023 updates on the State of Medicare\nLearn sales techniques to diversify your portfolio\n\nWe hope to see you there!
URL:https://westernassetprotection.com/event/medicare-academy-tour-las-vegas/
LOCATION:Hilton Garden Inn | Las Vegas Strip South\, 7839 Las Vegas Blvd S.\, Las Vegas\, NV\, 89123
CATEGORIES:Medicare Academy
ATTACH;FMTTYPE=image/png:https://westernassetprotection.com/wp-content/uploads/2023/03/logo-MedicareAcademy2023.png
END:VEVENT
BEGIN:VEVENT
DTSTART;TZID=America/Phoenix:20230428T103000
DTEND;TZID=America/Phoenix:20230428T110000
DTSTAMP:20260421T083604
CREATED:20230424T212945Z
LAST-MODIFIED:20230424T214955Z
UID:10000056-1682677800-1682679600@westernassetprotection.com
SUMMARY:Devoted Digest
DESCRIPTION:Register HERE \n  \nJoin the Devoted Team for Monthly Devoted Health market updates regarding benefits\, network\, growth strategies\, etc. \nThis is a great opportunity to ask questions to better help you represent Devoted in Arizona. \n 
URL:https://westernassetprotection.com/event/devoted-digest/2023-04-28/
CATEGORIES:Carrier Training
END:VEVENT
END:VCALENDAR