BEGIN:VCALENDAR
VERSION:2.0
PRODID:-//Western Asset Protection - ECPv6.15.18//NONSGML v1.0//EN
CALSCALE:GREGORIAN
METHOD:PUBLISH
X-ORIGINAL-URL:https://westernassetprotection.com
X-WR-CALDESC:Events for Western Asset Protection
REFRESH-INTERVAL;VALUE=DURATION:PT1H
X-Robots-Tag:noindex
X-PUBLISHED-TTL:PT1H
BEGIN:VTIMEZONE
TZID:America/Phoenix
BEGIN:STANDARD
TZOFFSETFROM:-0700
TZOFFSETTO:-0700
TZNAME:MST
DTSTART:20220101T000000
END:STANDARD
END:VTIMEZONE
BEGIN:VEVENT
DTSTART;TZID=America/Phoenix:20230525T090000
DTEND;TZID=America/Phoenix:20230525T093000
DTSTAMP:20260421T134217
CREATED:20230504T151619Z
LAST-MODIFIED:20230504T151619Z
UID:10000087-1685005200-1685007000@westernassetprotection.com
SUMMARY:Cigna 2023 Agent Resource Guide Training - Part 1
DESCRIPTION:Join here at the scheduled time \n  \nKirk Sanich will unpack the Cigna 2023 Agent Resource Guide \nLearn the value of selling Cigna Medicare Advantage and become a trusted resource to your Cigna members.
URL:https://westernassetprotection.com/event/cigna-2023-agent-resource-guide-training-part-1/
CATEGORIES:Carrier Training
END:VEVENT
BEGIN:VEVENT
DTSTART;TZID=America/Phoenix:20230526T103000
DTEND;TZID=America/Phoenix:20230526T110000
DTSTAMP:20260421T134217
CREATED:20230424T212945Z
LAST-MODIFIED:20230424T214955Z
UID:10000057-1685097000-1685098800@westernassetprotection.com
SUMMARY:Devoted Digest
DESCRIPTION:Register HERE \n  \nJoin the Devoted Team for Monthly Devoted Health market updates regarding benefits\, network\, growth strategies\, etc. \nThis is a great opportunity to ask questions to better help you represent Devoted in Arizona. \n 
URL:https://westernassetprotection.com/event/devoted-digest/2023-05-26/
CATEGORIES:Carrier Training
END:VEVENT
END:VCALENDAR